Workbook

Sheet Handleiding
A1: Hoe deze tool gebruiken?
A2: Stap 1. Selecteer de prestatiescores van elk veiligheidinitiatief in kolom C van het Hoofdwerkblad (een omschrijving van alle veiligheidsinitiatieven is terug te vinden in het werkblad 'Omschrijving initiatieven' Score 0 = samenwerking omtrent dit veiligheidsinitiatief ontbreekt volledigd op dit moment Score 1 = op dit moment al enige samenwerking, maar de samenwerking kan nog grondig verbeterd worden Score 2 = op dit moment al enige samenwerking, maar de samenwerking kan nog in eerder beperke mate verbeterd worden Score 3 = optimale samenswerking aanwezig (op strategisch niveau waarbij de focus ligt op de lange termijn) Niet van toepassing = veiligheidsinitiatieven die niet van toepassing zijn voor een bepaalde cluster
A3: Stap 2. Scoor voor alle veiligheidsinitiatieven de criteria (werkblad a1 t.e.m. werkblad g5) door de haalbaarheid aan te geven (ja/nee) en het gewicht toe te kennen (normaal/hoog)
A4: Stap 3. Druk in het Hoofdwerkblad op de knop 'RANK' om de veiligheidsinitiatieven automatisch te rangschikken
A5: Algemeen: Enkel de cellen met een gele achtergrond moeten ingevuld worden
A6: Interpretatie van de resultaten
A7: Huidige prestatiescore: De veiligheidsinitiatieven worden op basis van de huidige prestatie onderverdeeld in 5 categorieën
A8: Categorie I: De veiligheidsinitiatieven met een huidige suboptimale prestatie (samenwerking omtrent dit veiligheidsinitiatief ontbreekt volledigd op dit moment) (kolom F)
A9: Categorie II: De veiligheidinitiatieven waarvoor op dit moment al enige samenwerking plaatsvindt, maar waarvoor de samenwerking nog grondig verbeterd kan worden (kolom H)
A10: Categorie III: De veiligheidinitiatieven waarvoor op dit moment al enige samenwerking plaatsvindt, maar waarvoor de samenwerking nog in eerder beperke mate verbeterd kan worden (kolom J)
A11: Categorie IV: De veiligheidsinitiatieven met een huidige optimale prestatie (reeds aanwezige samenwerking op strategisch niveau waarbij de focus ligt op de lange termijn) (kolom L)
A12: Categorie V: De veiligheidsinitiatieven die niet van toepassing zijn voor de specifieke cluster, en bijgevolg niet worden meegenomen in de finale ranking (kolom N)
... A14: In kolom P & Q staat de finale ranking die zowel de huidige prestatie als de haalbaarheid in rekening brengt. Deze kolom toont de prioriteitsstelling van veiligheidsparameters, waarbij de hoogst gerankte veiligheidsparameters (nr. 1) de meeste veiligheidswinst kan opleveren voor de specifieke cluster

Sheet Omschrijving initiatieven
A1: Proactieve parameter: Uitwisselen van veiligheidsinformatie
A2: a1. Initiatief. Uitwisselen van veiligheidsinformatie over ongevalsscenario’s | B2: Als er een domino-effect aanwijzing is tussen bedrijven volgens de BRZO-wetgeving, dan is het uitwisselen van informatie over ongevalsscenario’s die naburige bedrijven kunnen beïnvloeden wettelijk verplicht. Onderzoek toont echter aan dat, in geval van deze wettelijke verplichting, de informatie-uitwisseling vaak oppervlakkig plaatsvindt. Als er een wettelijke domino-effect aanwijzing is, zal dit bijgevolg (in het beste geval) bepalen of er reeds een vorm van informatie-uitwisseling aanwezig is, maar dit is geen garantie voor een kwaliteitsvolle informatie-uitwisseling. Bovendien is het uitwisselen van informatie over mogelijke ongevalsscenario’s niet enkel relevant in geval van een domino-effect aanwijzing. Ook voor BRZO-bedrijven zonder domino-effect aanwijzing, voor risicorelevante bedrijven (bedrijven die net onder de BRZO-drempel vallen), en zelfs voor niet-BRZO-bedrijven is deze informatie-uitwisseling nuttig, en in het kader van optimale veiligheid, nodig. Het uitwisselen van informatie over ongevalsscenario’s kan leiden tot een beter begrip van: - Mogelijke ongevalsscenario's die in één bedrijf ontstaan, maar ook gevolgen kunnen hebben (schade/letsel) voor naburige bedrijven, denk hierbij bijvoorbeeld aan een toxische emissie of een explosie - Mogelijke ongevalsscenario's die in één bedrijf ontstaan en leiden tot een secundair ongevalsscenario in een ander bedrijf (domino-effecten en keteneffecten) Binnen een cluster van bedrijven is het dus nodig om goed op de hoogte te zijn van elkaars mogelijke ongevalsscenario’s (zowel safety als security gerelateerde scenario’s). Deze ongevalsscenario’s moeten ook op periodieke basis geëvalueerd worden, of wanneer er zich belangrijke wijzigingen voordoen binnen het bedrijf, bijvoorbeeld bij een wijziging in het proces. Als volgende stap is het cruciaal dat er ook echt iets wordt gedaan met deze informatie-uitwisseling. Als naburige bedrijven goed geïnformeerd zijn over mogelijke ongevalsscenario’s die een invloed kunnen hebben op andere bedrijven binnen de cluster, dan kan het duidelijk worden of men (extra) veiligheidsmaatregelen moet nemen.
A3: a2. Initiatief. Uitwisselen van informatie over niet-reguliere werkzaamheden | B3: Binnen een cluster van bedrijven is het nodig om elkaar tijdig op de hoogte te brengen van geplande niet-reguliere werkzaamheden, zoals bijvoorbeeld een onderhoud aan bepaalde installaties, of wanneer men gaat fakkelen. Zo kan men als buurbedrijf zelf maatregelen nemen indien nodig, of zo is men ten minste in een zekere staat van alertheid. Dergelijke informatie-uitwisseling kan men op regelmatige basis inplannen, bijvoorbeeld maandelijks, maar ook moet de mogelijkheid bestaan om deze informatie op een snelle en eenvoudige manier ad hoc uit te wisselen.
A4: a3. Initiatief. Communiceren over incidenten | B4: Er kan een clusterbreed rapportagesysteem voor (safety & security gerelateerde) incidenten opgezet worden, zodat de bedrijven op een laagdrempelige en uniforme manier informatie over incidenten met elkaar kunnen delen. Het gaat hierbij voornamelijk over ongevallen of bijna-ongevallen met (potentiële) arbeidsongeschiktheid tot gevolg, of voor procesgerelateerde incidenten. Als informatie over incidenten binnen de bedrijven op regelmatige basis worden uitgewisseld (zelfs zonder dat de nabijgelegen bedrijven nadelige effecten van deze incidenten ondervonden), wordt er binnen de cluster een cultuur van openheid gecreëerd.
A5: a4. Initiatief. Uitwisselen van informatie over veiligheidsinspecties van toezichthouders | B5: Binnen een cluster van bedrijven kan het nuttig zijn om de resultaten van veiligheidsinspecties van toezichthouders met elkaar te delen. Zo kan men als bedrijf zelf lessen trekken over bijvoorbeeld de vastgestelde overtredingen. Ook kan men elkaar binnen de cluster bijstaan met het zoeken naar oplossingen. Het delen van deze informatie, zeker als er een overtreding wordt vastgesteld, fungeert bovendien als een vorm van peer-supervision, waarbij de cluster als collectief de nodige acties mee kan opvolgen, en kan afdwingen indien nodig.
A6: Proactieve parameter: Beoordelen & beheersen van onderlinge risico’s op clusterniveau
A7: b1. Initiatief. Gezamenlijke risicoanalyses met focus op onderlinge risico’s | B7: Een eerder geformuleerde veiligheidsparameter gaat over het uitwisselen van informatie over mogelijke ongevalsscenario’s. Een stap verder is om gezamenlijk risicoanalyses uit te voeren om de onderlinge risico’s en ongevalsscenario’s samen in kaart te brengen. Risicoanalyses worden vaak enkel uitgevoerd door de individuele bedrijven, maar als aanvulling (dus niet als vervanging) kan een risicoanalyse die wordt uitgevoerd door meerdere bedrijven een meerwaarde opleveren. Als men met meerdere bedrijven een risicoanalyse uitvoert kan dit leiden tot nieuwe inzichten, en kan het een vollediger en accurater overzicht opleveren van mogelijke (onderlinge) risico’s en ongevalsscenario’s. Vaak kijken bedrijven immers enkel naar de eigen risico’s, zonder de risico’s van buurbedrijven hierin mee te nemen. Het gezamenlijk uitvoeren van risicoanalyses kan er zo voor zorgen dat niet enkel mogelijke ongevalsscenario’s van een individueel bedrijf in kaart worden gebracht, maar ook de ongevalsscenario’s die kunnen ontstaan door de aanwezigheid van het buurbedrijf. De mogelijkheid op domino-effecten, keteneffecten, en nadelige effecten (letsel/schade) tussen nabijgelegen bedrijven zijn kenmerkend voor bedrijven die in een cluster gelegen zijn. In een gezamenlijke risicoanalyse kunnen deze onderlinge risico’s de focus zijn. Zo kan er gezamenlijk in kaart gebracht worden wat de mogelijke domino-effecten en keteneffecten zijn binnen de cluster, en in welke mate de bedrijven nadelige effecten (letsel/schade) kunnen ondervinden van elkaar. Bedrijven kunnen zich telkens opstellen als zowel veroorzaker van een ongevalsscenario, en als getroffene van een ongevalsscenario. Onder meer een QRA, HAZOP of FMEA kan uitgevoerd worden op clusterniveau om de mogelijke onderlinge risico’s te identificeren en te kwantificeren, en een zicht te krijgen op de mogelijke ongevalsscenario’s in termen van waarschijnlijkheid en ernst. Cruciaal in een gezamenlijke risicoanalyse is dat de interactie tussen de bedrijven wordt meegenomen. Een gezamenlijke risicoanalyse levert een kwantitatief en kwalitatief inzicht in de veiligheid binnen de cluster. Belangrijk is om deze risicoanalyse op regelmatige basis te evalueren, of te herbekijken in geval van een verandering, bijvoorbeeld veranderingen in het proces of gebruikte chemische stoffen. Deze gezamenlijke risicoanalyses zijn zeker niet enkel nuttig voor BRZO-bedrijven of bedrijven met een wettelijke domino-effect aanwijzing. Ook risicorelevante bedrijven (bedrijven die net onder de BRZO-drempel vallen) of niet-BRZO-bedrijven kunnen deelnemen aan deze gezamenlijke risicoanalyse. Zeker wat betreft het in kaart brengen welke nadelige effecten (letsel/schade) men kan ondervinden van elkaar, kan een gezamenlijke risicoanalyse een meerwaarde opleveren voor alle bedrijven binnen een cluster. Het meest optimaal is dat een gezamenlijke risicoanalyse echt samen door en met verschillende bedrijven wordt uitgevoerd. In de praktijk is dit echter niet altijd even evident. Een mogelijk alternatief is het uitvoeren van een risicoanalyse waarbij andere bedrijven uit de cluster aanwezig zijn als observator. Zo leert men ook de risico’s van het bedrijf kennen, alsook de interpretaties en uitgangspunten in de uitgevoerde risicoanalyse. Niet enkel risicoanalyses (die focussen op safety gerelateerde ongevalsscenario’s), maar ook dreigingsanalyses, die focussen op het in kaart brengen op security gerelateerde ongevalsscenario’s kunnen door de cluster gezamenlijk worden uitgevoerd.
A8: b2. Initiatief. Beheersen van onderlinge risico’s op clusterniveau | B8: Op basis van de aanwezige onderlinge risico’s binnen een cluster is het nodig om veiligheidsmaatregelen (technisch, organisatorisch & menselijk) te nemen om deze risico’s te beheersen. Als cluster kan men samen nadenken over mogelijkheden, of kan men gezamenlijk veiligheidsmaatregelen opzetten of hier in investeren om de onderlinge risico’s te beheersen op een clusterniveau. Het is belangrijk dat mogelijke onderlinge risico’s (nadelige effecten, domino-effecten, keteneffecten) die kunnen plaatsvinden tussen de bedrijven zijn opgenomen in het (gezamenlijke) noodplan. Ook andere relevante stakeholders, zoals bijvoorbeeld de reguliere brandweer, moet op de hoogte zijn van de mogelijke onderlinge risico’s tussen de verschillende bedrijven.
A9: Proactieve parameter: Leren van elkaar
A10: c1. Initiatief. Leren van gedeelde veiligheidsrisico’s | B10: Verschillende bedrijven binnen eenzelfde cluster hebben vaak veiligheidsrisico’s met overeenkomsten in de oorzaak van het risico. Dit zijn de zogenaamde gedeelde risico’s. Een voorbeeld zijn de specifieke risico’s van onderdelen die in veel (petro)chemische fabrieken voorkomen, zoals afsluiters of warmtewisselaars. Ook cybersecurity is hiervan een voorbeeld. Het kan een meerwaarde opleveren als deze bedrijven van elkaar leren hoe ze met deze gedeelde risico’s omgaan binnen de bedrijven, en waar ze zelf nog aanpassingen of aanvullingen kunnen doorvoeren om deze risico’s op een optimale manier te beheersen.
A11: c2. Initiatief. Leren van elkaars veiligheidsmanagement (operationeel) | B11: Binnen een cluster kan het nuttig zijn om op regelmatige basis samen te zitten met elkaar om te leren hoe andere bedrijven hun veiligheidsmanagement (operationele veiligheid) aanpakken. Hoe pakken bijvoorbeeld andere bedrijven grote onderhoudstops aan? Hoe gaan bedrijven om met cybersecurity? Hoe gaan andere bedrijven om met een aanpassing in de wet- en regelgeving? Of hoe pakken bedrijven bepaalde veiligheidsgerelateerde opleidingen en trainingen aan?
A12: c3. Initiatief. Leren van elkaars veiligheidsbeleid (strategisch) | B12: Niet enkel wat betreft operationele veiligheid, maar ook op het vlak van strategische veiligheid kan men in een cluster leren van elkaar. Zo kunnen (top)managers van verschillende bedrijven op regelmatige basis overleggen over de aanpak van het veiligheidsbeleid. Wat kan men met andere woorden beleidsmatig op strategisch niveau van elkaar leren over veiligheid?
A13: c4. Initiatief. Gezamenlijk leren uit incidenten | B13: Incidenten (zowel safety als security gerelateerd) die binnen de cluster hebben plaatsgevonden met een (potentieel) ernstige impact, kunnen best op clusterniveau geanalyseerd worden. Dit niet als vervanging, maar wel als aanvulling op het incidentenonderzoek gevoerd door het bedrijf waar het incident plaatsvond. Als noemenswaardige incidenten gezamenlijk worden geanalyseerd, kunnen ook andere bedrijven hun inzichten delen over mogelijke oorzaken en lessen die men hieruit kan trekken. Deze gezamenlijke analyse kan leiden tot nieuwe inzichten, en een tunnelvisie kan zo voorkomen worden. Bovendien kan men door gezamenlijk te leren uit incidenten bij buurbedrijven ook zelf maatregelen nemen in het eigen bedrijf om gelijkaardige incidentscenario’s te voorkomen. Zo worden er niet enkel maatregelen geformuleerd op bedrijfsniveau, maar ook op clusterniveau. Als gezamenlijk incidentenonderzoek moeilijk in de praktijk te realiseren is, kan men ook als individueel bedrijf het incident onderzoeken, en vervolgens het rapport delen en laten reviewen door de andere bedrijven uit de cluster.
A14: c5. Initiatief. Peer-to-peer veiligheidsaudits | B14: Binnen een cluster kunnen er gezamenlijk veiligheidsaudits worden uitgevoerd door een team dat bestaat uit leden van verschillende bedrijven uit de cluster. Zo kan men leren van de aanpak van andere bedrijven, en voorkomt men een tunnelvisie. Belangrijk bij deze peer-to-peer veiligheidsaudits is dat met uitgaat van een risicogerichte aanpak in plaats van een regelgerichte aanpak, waarbij de cluster van bedrijven met elkaar in gesprek gaat en kennis deelt om de veiligheid op een hoger niveau te brengen. De meeste veiligheidsinspecties door toezichthouders richten zich immers op compliance, waarbij de focus ligt op het zoeken naar overtredingen. Deze regelgerichte aanpak werkt eerder reactief gedrag bij de bedrijven in de hand. Risicogerichte peer-to-peer veiligheidsaudits kunnen hier een waardevolle aanvulling zijn.
A15: Proactieve parameter: Uniformiteit en standaardisatie van veiligheid
A16: d1. Initiatief. Standaardisatie van werkprocedures | B16: In een werkproces of -procedure wordt gespecificeerd hoe een bepaalde taak of activiteit wordt uitgevoerd, en welke veiligheidsmaatregelen hierbij genomen moeten worden. Als men werkprocedures van gelijkaardige processen in verschillende bedrijven uniform maakt, verhoogt dit onder meer de voorspelbaarheid van normale werkzaamheden. Zeker als bedrijven verbonden zijn in elkaars keten kan standaardisatie van werkprocedures veiligheidswinst opleveren.
A17: d2. Initiatief. Standaardniveau van veiligheidskennis en -vaardigheden | B17: Binnen een cluster kan men bepaalde kwaliteitseisen vastleggen wat betreft veiligheidskennis en -vaardigheden van de eigen werknemers. Zo kan men alle werknemers bijvoorbeeld een basispakket veiligheidsopleidingen en -trainingen laten volgen, en kan men enkel werken met gecertificeerde opleidingsinstellingen. Dergelijke standaardisatie zorgt ervoor dat eenzelfde niveau wordt behaald binnen de verschillende bedrijven die deel uitmaken van de cluster.
A18: d3. Initiatief. Uniforme veiligheidsregels en -normen | B18: Verschillende arbeidsveiligheidsregels op de verschillende bedrijfsterreinen kunnen voor werknemers voor onduidelijkheid en complexiteit zorgen. Uniforme veiligheidsregels kunnen hier een oplossing bieden. Zo kan men bijvoorbeeld dezelfde maximumsnelheid hanteren op alle bedrijfsterreinen die binnen een bepaald geografisch gebied liggen. Ook wat betreft procesveiligheid kunnen er binnen een cluster uniforme afspraken gemaakt worden, bijvoorbeeld over de onderhoudsfrequentie van bepaalde gelijkaardige onderdelen van installaties, of over de frequentie van risicoanalyses. Deze uniformiteit draagt voornamelijk bij aan het verzekeren van een bepaald kwaliteitsniveau van veiligheid, waarbij bepaalde veiligheidsnormen door alle leden van de cluster gevolgd moeten worden.
A19: d4. Initiatief. Uniforme veiligheidsregels en -normen voor contractoren | B19: Het kan zijn dat contractoren andere veiligheidsregels opgelegd krijgen bij verschillende bedrijven die deel uitmaken van dezelfde cluster. Een uniforme aanpak binnen de cluster wat betreft veiligheidsregels voor contractoren kan verschillende voordelen opleveren. Zo kan uniformiteit ervoor zorgen dat veiligheid overzichtelijker wordt. Een groot aantal verschillende veiligheidsregels kan enerzijds zorgen voor onduidelijkheid, en anderzijds voor onverschilligheid. Als contractoren op elke locatie verschillende veiligheidsvoorschriften krijgen, bestaat de kans dat men deze niet meer grondig leest.Bovendien kan uniformiteit een duidelijk verwachtingspatroon creëren voor alle betrokken partijen. Als bepaalde veiligheidsregels en -normen voor contractoren gelden binnen de hele cluster, kan men ook de gevolgen van een overtreding doortrekken binnen de hele cluster. Het overtreden van een veiligheidsregel of een ‘life saving rule’, zoals bijvoorbeeld wanneer een contractor aan de slag is zonder werkvergunning, kan als gevolg hebben dat deze contractor niet meer wordt toegelaten binnen het bedrijf waar de overtreding werd begaan. Men zou dit kunnen doortrekken naar de gehele cluster, waar bij uitbreiding de betreffende contractor ook niet meer wordt toegelaten bij de andere bedrijven van de cluster. De cluster kan m.a.w. inzetten op een gemeenschappelijk beleid over hoe er met contractoren wordt omgegaan als er veiligheidsregels overtreden worden. Dergelijke uniformiteit zorgt ook voor een daling in complexiteit wat betreft controle op het naleven van gemaakte afspraken. Contractoren die aan de slag gaan bij een bedrijf dat deel uitmaakt van een cluster kunnen bovendien ook best een introductie krijgen voordat ze aan de slag gaan, waarbij het bedrijf gekaderd wordt als deel uitmakend van een cluster (om bijvoorbeeld de mogelijkheid op domino-effecten of keteneffecten te benadrukken).
A20: Proactieve parameter: De cluster van bedrijven als collectief | B20: Only general security information is available for different plants in the cluster, but there is no exchange of detailed security info. The exchange of info is on an irregular basis.
A21: e1. Initiatief. Overkoepelende clustercoalitie | B21: Het oprichten van een overkoepelende clustercoalitie kan ervoor zorgen dat een sterkere amenhang en goede samenwerking tussen de verschillende bedrijven wordt gecreëerd of wordt onderhouden. Alle veiligheidsinitiatieven die worden opgezet op het niveau van de cluster kunnen gecoördineerd en gemanaged worden door deze overkoepelende clustercoalitie. Om veiligheid binnen een cluster op een hoger niveau te brengen kan men aan een overkoepelende clustercoalitie bepaalde mandaten toekennen. Hierbij kan het bijvoorbeeld gaan om het opleggen van bepaalde veiligheidsregels die door alle bedrijven gevolgd moeten worden, of om de mogelijkheid om in bijzondere omstandigheden vergaderingen te beleggen en beslissingen te nemen (bijvoorbeeld het verplicht laten stilleggen van processen en werkzaamheden in geval van veiligheidsproblemen). Het gaat dus om een top-down structuur waarbij de clustercoalitie een bepaalde bevoegdheid heeft over de bedrijven. Belangrijk is dat dergelijk clustermandaat niet enkel een reeks van veiligheidsregels oplegt aan de leden van de cluster, maar dat de clustercoalitie ook het vermogen heeft om het groter geheel te zien, en de toekomst van de veiligheid van de cluster beter te sturen. Een langetermijnvisie op vlak van veiligheid wordt zo ontwikkeld voor de cluster in zijn geheel. Essentieel bij een overkoepelende clustercoalitie is dat de verschillende bedrijven die deel uitmaken van de cluster hierin een stem moeten krijgen, bijvoorbeeld door het afvaardigen van elk bedrijf in de coalitie (of als er heel veel kleine bedrijven zijn een afgevaardigde aanduiden die het geheel van deze kleinere bedrijven vertegenwoordigt). Zo worden kennis en expertise uit de verschillende bedrijven gebundeld wat de slaagkans van veiligheidsinitiatieven op clusterniveau ten goede kan komen. Het afvaardigen van elk bedrijf in de coalitie zorgt bovendien voor een soort van controlemechanisme (checks and balances) dat ervoor zorgt dat de clustermacht niet in de handen van één bedrijf wordt geconcentreerd. Bij het oprichten van een overkoepelende clustercoalitie moeten er duidelijke afspraken worden gemaakt en moeten de rollen en verantwoordelijkheden vastgelegd worden om de veiligheid op clusterniveau te beheren en te beheersen. Individuele bedrijven moeten goed op de hoogte zijn van de rechten en de plichten (wat als bijvoorbeeld een bedrijf de opgelegde regels door de clustercoalitie niet volgt). Dit kan opgenomen worden in een Service Level Agreement (SLA). Transparantie en een goede communicatie is essentieel om de synergie van een overkoepelende clustercoalitie te behouden.
A22: e2. Initiatief. Gezamenlijk budget voor veiligheidsinitiatieven | B22: Een cluster van bedrijven kan ervoor kiezen om voor bepaalde veiligheidsinitiatieven op clusterniveau de financiële middelen te bundelen. Dit kan zorgen voor een beter en bewuster gebruik van financiële middelen. Zo kan men als cluster van bedrijven meer hoogwaardige investeringen doen dan wanneer een enkel bedrijf hierin moet investeren. Enkele voorbeelden van veiligheidsinitiatieven waarin men samen kan investeren: - Gezamenlijke onderhoudsdienst - Gezamenlijke veiligheidsopleiding en -training (programma’s en/of faciliteiten), bijvoorbeeld voor contractoren - Gezamenlijk outsourcen van activiteiten, bijvoorbeeld terreinbeveiliging - Gezamenlijk een firewall neerzetten om cybersecurity te optimaliseren
A23: e3. Initiatief. Gezamenlijke communicatie naar/met de omwonenden | B23: Als cluster is het nodig om bij communicatie naar (éénrichtingsverkeer) en met (tweerichtingsverkeer) de omwonenden als één geheel naar buiten te treden. Omwonenden zien een cluster immers vaak als één geheel, en niet als verschillende afzonderlijke bedrijven. Zo is het aan te raden om als cluster onder normale operationele omstandigheden op regelmatige basis te communiceren naar en met de omwonenden. Men kan bijvoorbeeld informeren over de veiligheidsinitiatieven die men gezamenlijk neemt als cluster, en men kan in gesprek gaan met de omwonenden om eventuele (veiligheids)bezorgdheden te bespreken en te bekijken op welke manier hier men hier als cluster aan tegemoet kan komen. De (veiligheids)perceptie van omwonenden over de cluster zal zo op een positieve manier beïnvloed worden.
A24: Reactieve parameter: Gedeelde calamiteitenuitrusting en -faciliteiten | B24: Only inspection reports and inspection details are available for different plants in the cluster, but there is no exchange of info regarding the safety measures and interventions implemented and follow-ups of inspections. The exchange of info is on an irregular basis.
A25: f1. Initiatief. Gezamenlijke bedrijfsbrandweer | B25: Als verschillende nabijgelegen bedrijven een aanwijzing bedrijfsbrandweer hebben, kan het voor de cluster van bedrijven veiligheidswinst opleveren als men dit gezamenlijk organiseert. Een gezamenlijke bedrijfsbrandweer kan een kostenbesparing opleveren, en door het bundelen van kennis en middelen kan de bedrijfsbrandweer ook professioneler georganiseerd worden, waardoor de kwaliteit van de hulpverlening stijgt. Het inzetten op een gezamenlijke bedrijfsbrandweer is niet enkel aan te raden als alle bedrijven van de cluster een aanwijzing bedrijfsbrandweer hebben. Ook wanneer er geen aanwijzing is kan het voor een bedrijf (en bijgevolg voor de cluster in zijn geheel) veiligheidswinst opleveren. Zo is de aanrijtijd van een bedrijfsbrandweer korter waardoor er sneller ingegrepen kan worden. Ook is een bedrijfsbrandweer opgeleid om industriële calamiteiten te bestrijden, en zijn ze beter bekend met de aanwezige gevaarlijke stoffen. Als bedrijven zonder aanwijzing zich aansluiten bij een bedrijfsbrandweer kunnen afspraken gemaakt worden om de bijdragen/investeringen af te stemmen op de aanwezige risico’s. Als er een gezamenlijke bedrijfsbrandweer aanwezig is, moeten er ook duidelijke afspraken zijn over de opleiding en training van alle bemanningsleden van deze gezamenlijke bedrijfsbrandweer (niveau van opleiding, trainingsuren, enzovoort). Dit is noodzakelijk omdat een gezamenlijke bedrijfsbrandweer vaak bemant wordt vanuit verschillende bedrijven.
A26: f2. Initiatief. Samen investeren in of delen van technische uitrusting en faciliteiten in geval van calamiteiten | B26: Ongeacht het feit of er al dan niet een aanwijzing bedrijfsbrandweer is bij een of meer van de bedrijven, is het nodig om als bedrijf in te zetten op nodige technische uitrusting en faciliteiten in geval van calamiteiten. Het kan daarbij gaan om BHV-verzamelplaatsen, schuilplaatsen al dan niet voorzien met waterschermen, noodstroomvoorzieningen, enzovoort. Als cluster van bedrijven kan men ervoor kiezen om hier gezamenlijk op in te zetten. Zo kan men gezamenlijk investeren in deze technische uitrusting en faciliteiten door het delen van de aankoopkosten en onderhoudskosten. Door het bundelen van financiële middelen kan men meer hoogwaardige uitrusting en faciliteiten aankopen dan wanneer een enkel bedrijf hierin moet investeren. Bij deze gezamenlijke investering wordt de cluster van bedrijven als geheel bekeken, zoals bijvoorbeeld de som van het aantal werknemers van de gecombineerde bedrijven waarvoor potentiële BHV-verzamelplaatsen voorzien moeten worden in het geval van een calamiteit. Ook bijvoorbeeld de opslagplaats van de uitrusting, of de locatie en bereikbaarheid van schuil- en verzamelplaatsen moet bekeken worden in functie van de coalitie van bedrijven. Zo moeten schuil- en verzamelplaatsen gemakkelijke bereikbaar zijn voor alle bedrijven. Men hoeft niet per se gezamenlijk te investeren. Men kan als cluster van bedrijven ook technische uitrusting en faciliteiten om calamiteiten te bestrijden met elkaar delen. Er kunnen afspraken gemaakt worden om beroep te doen op de uitrusting en faciliteiten van een nabijgelegen bedrijf tijdens een crisissituatie. Hierbij moeten duidelijke procedures opgesteld worden, en moet men rekening houden met de mogelijkheid dat een crisissituatie verschillende bedrijven gelijktijdig kan beïnvloeden. Men mag met andere woorden als bedrijf niet zelf in de problemen komen als een bepaalde faciliteit of uitrusting gedeeld of uitgeleend wordt aan een nabijgelegen bedrijf tijdens een crisissituatie.
A27: f3. Initiatief. Early-warning systeem bij calamiteiten | B27: Een van de kritische elementen bij calamiteiten en crisisrespons is het tijdig communiceren van informatie naar relevante stakeholders. Bij geclusterde bedrijven is het door de geografische nabijheid cruciaal om elkaar tijdig te waarschuwen in geval van een calamiteit. Een early-warning systeem wordt opgezet om nabijgelegen bedrijf reeds in een zeer vroeg stadium te informeren in geval van (mogelijkheid op) een calamiteit. Het gaat daarbij bijvoorbeeld over het informeren over een onvoorziene temperatuursverhoging in een van de processen. Zo kan het nabijgelegen bedrijf al eventuele maatregelen treffen, zoals het stopzetten van activiteiten of het stilleggen van processen. Als er (nog) geen maatregelen genomen worden zijn ze ten minste in een zekere staat van alertheid. Tijdige waarschuwing kan voorkomen dat een incident leidt tot nadelige effecten bij een buurbedrijf, of dit kan voorkomen dat een incident leidt tot een domino-effect of een keteneffect.
... A34: g5. Initiatief. Communicatie naar omwonenden in geval van calamiteiten | B34: Bij calamiteiten met (en zelfs zonder) mogelijks effect buiten de bedrijfsmuren is een gezamenlijk communicatieplan aan te raden waarbij de cluster als één geheel naar buiten treedt. Zo kan men gezamenlijk op een eenduidige manier de omwonenden informeren of geruststellen.

Sheet Hoofdwerkblad
A1: Overzicht veiligheidsparameters | B1: Specifieke veiligheidsinitiatieven | C1: Prestatiescore: de huidige prestatie van het veiligheidsinitiatief (0 ~ 3) Score 0 = samenwerking ontbreekt volledigd op dit moment Score 1 = al enige samenwerking, maar kan nog grondig verbeterd worden Score 2 = al enige samenwerking, maar kan nog in eerder beperke mate verbeterd worden Score 3 = optimale samenswerking (op strategisch niveau met focus op lange termijn) | D1: Geïntegreerde haalbaarheidsscore (automatisch berekend) | E1: CATEGORIE I | F1: RESULTATEN De veiligheidsinitiatieven met een huidige suboptimale prestatie (samenwerking omtrent dit veiligheidsinitiatief ontbreekt volledigd op dit moment) | G1: CATEGORIE II | H1: RESULTATEN De veiligheidinitiatieven waarvoor op dit moment al enige samenwerking plaatsvindt, maar waarvoor de samenwerking nog grondig verbeterd kan worden | I1: CATEGORIE III | J1: RESULTATEN De veiligheidinitiatieven waarvoor op dit moment al enige samenwerking plaatsvindt, maar waarvoor de samenwerking nog in eerder beperke mate verbeterd kan worden | K1: CATEGORIE IV | L1: RESULTATEN De veiligheidsinitiatieven met een huidige optimale prestatie (reeds aanwezige samenwerking op strategisch niveau waarbij de focus ligt op de lange termijn) | M1: CATEGORIE V (Niet van toepassing) | N1: RESULTATEN De veiligheidsinitiatieven die niet van toepassing zijn voor de specifieke cluster, en bijgevolg niet worden meegenomen in de finale ranking | O1: Finale ranking | P1: RESULTATEN - FINALE RANKING Deze kolom toont de prioriteitsstelling van veiligheidsparameters, waarbij de hoogst gerankte veiligheidsparameters (nr. 1) de meeste veiligheidswinst kan opleveren voor de specifieke cluster | Q1: RANK
A2: Uitwisselen van veiligheidsinformatie (proactief) | B2: a1.Uitwisselen van veiligheidsinformatie over ongevalsscenario’s | C2: 0 | D2: ='a1'!E20 -> 8.5 | F2: a1.Uitwisselen van veiligheidsinformatie over ongevalsscenario’s | P2: a1.Uitwisselen van veiligheidsinformatie over ongevalsscenario’s | Q2: 1
B3: a2.Uitwisselen van informatie over niet-reguliere werkzaamheden | C3: 0 | D3: ='a2'!E20 -> 8.5 | F3: a2.Uitwisselen van informatie over niet-reguliere werkzaamheden | P3: a2.Uitwisselen van informatie over niet-reguliere werkzaamheden | Q3: 2
B4: a3.Communiceren over incidenten | C4: 0 | D4: ='a3'!E20 -> 8.5 | F4: a3.Communiceren over incidenten | P4: a3.Communiceren over incidenten | Q4: 3
B5: a4.Uitwisselen van informatie over veiligheidsinspecties van toezichthouders | C5: 0 | D5: ='a4'!E20 -> 8.5 | F5: a4.Uitwisselen van informatie over veiligheidsinspecties van toezichthouders | P5: a4.Uitwisselen van informatie over veiligheidsinspecties van toezichthouders | Q5: 3
A6: Beoordelen & beheersen van onderlinge risico’s op clusterniveau (proactief) | B6: b1.Gezamenlijke risicoanalyses met focus op onderlinge risico’s | C6: 0 | D6: ='b1'!E20 -> 8.5 | F6: b1.Gezamenlijke risicoanalyses met focus op onderlinge risico’s | P6: b1.Gezamenlijke risicoanalyses met focus op onderlinge risico’s | Q6: 3
B7: b2.Beheersen van onderlinge risico’s op clusterniveau | C7: 0 | D7: ='b2'!E20 -> 8.5 | F7: b2.Beheersen van onderlinge risico’s op clusterniveau | P7: b2.Beheersen van onderlinge risico’s op clusterniveau | Q7: 3
A8: Leren van elkaar (proactief) | B8: c1.Leren van gedeelde veiligheidsrisico’s | C8: 0 | D8: ='c1'!E20 -> 8.5 | F8: c1.Leren van gedeelde veiligheidsrisico’s | P8: c1.Leren van gedeelde veiligheidsrisico’s | Q8: 3
B9: c2.Leren van elkaars veiligheidsmanagement (operationeel) | C9: 0 | D9: ='c2'!E20 -> 8.5 | F9: c2.Leren van elkaars veiligheidsmanagement (operationeel) | P9: c2.Leren van elkaars veiligheidsmanagement (operationeel) | Q9: 3
B10: c3.Leren van elkaars veiligheidsbeleid (strategisch) | C10: 0 | D10: ='c3'!E20 -> 8.5 | F10: c3.Leren van elkaars veiligheidsbeleid (strategisch) | P10: c3.Leren van elkaars veiligheidsbeleid (strategisch) | Q10: 3
B11: c4.Gezamenlijk leren uit incidenten | C11: 0 | D11: ='c4'!E20 -> 8.5 | F11: c4.Gezamenlijk leren uit incidenten | P11: c4.Gezamenlijk leren uit incidenten | Q11: 3
B12: c5.Peer-to-peer veiligheidsaudits | C12: 0 | D12: ='c5'!E20 -> 8.5 | F12: c5.Peer-to-peer veiligheidsaudits | P12: c5.Peer-to-peer veiligheidsaudits | Q12: 3
A13: Uniformiteit en standaardisatie van veiligheid (proactief) | B13: d1.Standaardisatie van werkprocedures | C13: 0 | D13: ='d1'!E20 -> 8.5 | F13: d1.Standaardisatie van werkprocedures | P13: d1.Standaardisatie van werkprocedures | Q13: 3
B14: d2.Standaardniveau van veiligheidskennis en -vaardigheden | C14: 0 | D14: ='d2'!E20 -> 8.5 | F14: d2.Standaardniveau van veiligheidskennis en -vaardigheden | P14: d2.Standaardniveau van veiligheidskennis en -vaardigheden | Q14: 3
B15: d3.Uniforme veiligheidsregels en -normen | C15: 0 | D15: ='d3'!E20 -> 8.5 | F15: d3.Uniforme veiligheidsregels en -normen | P15: d3.Uniforme veiligheidsregels en -normen | Q15: 3
B16: d4.Uniforme veiligheidsregels en -normen voor contractoren | C16: 0 | D16: ='d4'!E20 -> 8.5 | F16: d4.Uniforme veiligheidsregels en -normen voor contractoren | P16: d4.Uniforme veiligheidsregels en -normen voor contractoren | Q16: 3
A17: De cluster van bedrijven als collectief (proactief) | B17: e1.Overkoepelende clustercoalitie | C17: 0 | D17: ='e1'!E20 -> 8.5 | F17: e1.Overkoepelende clustercoalitie | P17: e1.Overkoepelende clustercoalitie | Q17: 3
B18: e2.Gezamenlijk budget voor veiligheidsinitiatieven | C18: 0 | D18: ='e2'!E20 -> 8.5 | F18: e2.Gezamenlijk budget voor veiligheidsinitiatieven | P18: e2.Gezamenlijk budget voor veiligheidsinitiatieven | Q18: 3
B19: e3.Gezamenlijke communicatie naar/met de omwonenden | C19: 0 | D19: ='e3'!E20 -> 8.5 | F19: e3.Gezamenlijke communicatie naar/met de omwonenden | P19: e3.Gezamenlijke communicatie naar/met de omwonenden | Q19: 3
A20: Gedeelde calamiteitenuitrusting en -faciliteiten (reactief) | B20: f1.Gezamenlijke bedrijfsbrandweer | C20: 0 | D20: ='f1'!E20 -> 8.5 | F20: f1.Gezamenlijke bedrijfsbrandweer | P20: f1.Gezamenlijke bedrijfsbrandweer | Q20: 3
B21: f2.Samen investeren in of delen van technische uitrusting & faciliteiten om calamiteiten te bestrijden | C21: 0 | D21: ='f2'!E20 -> 8.5 | F21: f2.Samen investeren in of delen van technische uitrusting & faciliteiten om calamiteiten te bestrijden | P21: f2.Samen investeren in of delen van technische uitrusting & faciliteiten om calamiteiten te bestrijden | Q21: 3
B22: f3.Early-warning systeem bij calamiteiten | C22: 0 | D22: ='f3'!E20 -> 8.5 | F22: f3.Early-warning systeem bij calamiteiten | P22: f3.Early-warning systeem bij calamiteiten | Q22: 3
B23: f4.Gelijkaardige evacuatiealarmen | C23: 0 | D23: ='f4'!E20 -> 8.5 | F23: f4.Gelijkaardige evacuatiealarmen | P23: f4.Gelijkaardige evacuatiealarmen | Q23: 3
A24: Gezamenlijke noodorganisatie en crisiscommunicatie (reactief) | B24: g1.Gezamenlijk noodplan | C24: 0 | D24: ='g1'!E20 -> 8.5 | F24: g1.Gezamenlijk noodplan | P24: g1.Gezamenlijk noodplan | Q24: 3
B25: g2.Clusterbreed bedrijfshulpverleningsteam (BHV-team) | C25: 0 | D25: ='g2'!E20 -> 8.5 | F25: g2.Clusterbreed bedrijfshulpverleningsteam (BHV-team) | P25: g2.Clusterbreed bedrijfshulpverleningsteam (BHV-team) | Q25: 3
B26: g3.Gezamenlijke evacuatie- en rampenbestrijdingsoefeningen | C26: 0 | D26: ='g3'!E20 -> 8.5 | F26: g3.Gezamenlijke evacuatie- en rampenbestrijdingsoefeningen | P26: g3.Gezamenlijke evacuatie- en rampenbestrijdingsoefeningen | Q26: 3
B27: g4.Communicatie tussen de clusterbedrijven in geval van calamiteiten | C27: 0 | D27: ='g4'!E20 -> 8.5 | F27: g4.Communicatie tussen de clusterbedrijven in geval van calamiteiten | P27: g4.Communicatie tussen de clusterbedrijven in geval van calamiteiten | Q27: 3
B28: g5.Communicatie naar omwonenden in geval van calamiteiten | C28: 0 | D28: ='g5'!E20 -> 8.5 | F28: g5.Communicatie naar omwonenden in geval van calamiteiten | P28: g5.Communicatie naar omwonenden in geval van calamiteiten | Q28: 3

Sheet a1
A1: =IF(OR(Hoofdwerkblad!C2="Niet van toepassing", Hoofdwerkblad!C2= 3),"Niet van toepassing","a1") -> a1 | B1: Proactieve parameter: Uitwisselen van veiligheidsinformatie Uitwisselen van veiligheidsinformatie over ongevalsscenario’s
A2: Criteria om de haalbaarheid van het veiligheidsinitiatief in the schatten | B2: Omschrijving criteria om de haalbaarheid van het veiligheidsinitiatief in the schatten | C2: Antwoord | D2: Gewicht | E2: Geïntegreerde score
A3: Kosten | B3: Is het inzetten op dit veiligheidsinitiatief betaalbaar? | C3: Ja | D3: Normaal | E3: =IF(C3="Ja",1,-1)*IF(D3="Hoog",1,0.5) -> 0.5
A4: Implementatie-tijd | B4: Kan dit veiligheidsinitiatief op een redelijke termijn geïmplementeerd worden? | C4: Ja | D4: Normaal | E4: =IF(C4="Ja",1,-1)*IF(D4="Hoog",1,0.5) -> 0.5
A5: Kennis | B5: Is de nodige knowhow beschikbaar om in te zetten op dit veiligheidsinitiatief? (Mogelijks kan er innovatie of (technische) kennis nodig zijn om in te zetten op een veiligheidsinitiatief) | C5: Ja | D5: Normaal | E5: =IF(C5="Ja",1,-1)*IF(D5="Hoog",1,0.5) -> 0.5
A6: Billijkheid | B6: Als er op dit veiligheidsinitiatief wordt ingezet, betalen dan diegenen ervoor die ook het risico creëren? | C6: Ja | D6: Normaal | E6: =IF(C6="Ja",1,-1)*IF(D6="Hoog",1,0.5) -> 0.5
A7: Risicoreductie potentieel | B7: Zijn de investeringen voor dit veiligheidsinitiatief niet disproportioneel met de potentiële veiligheidswinst die dit initiatief kan opleveren? | C7: Ja | D7: Normaal | E7: =IF(C7="Ja",1,-1)*IF(D7="Hoog",1,0.5) -> 0.5
A8: Afstand van elkaar | B8: Laat de geografische afstand tussen de bedrijven toe om in te zetten op dit veiligheidsinitiatief? (Liggen de bedrijven bijvoorbeeld niet te ver van elkaar om te investeren in gezamenlijke schuilplaatsen) | C8: Ja | D8: Normaal | E8: =IF(C8="Ja",1,-1)*IF(D8="Hoog",1,0.5) -> 0.5
A9: Invloed beleid (moeder)bedrijven | B9: Laat het beleid van de (moeder)bedrijven het toe om in te zetten op dit veiligheidsinitiatief? | C9: Ja | D9: Normaal | E9: =IF(C9="Ja",1,-1)*IF(D9="Hoog",1,0.5) -> 0.5
A10: Concurrentiegevoeligheid | B10: Laat de concurrentiegevoeligheid van de informatie die gedeeld moet worden voor dit veiligheidsinitiatief het toe dat hierop wordt ingezet? | C10: Ja | D10: Normaal | E10: =IF(C10="Ja",1,-1)*IF(D10="Hoog",1,0.5) -> 0.5
A11: Organisatorische context | B11: Laat de organisatorische context het toe om in te zetten op dit veiligheidsinitiatief? (Zijn er bijvoorbeeld organisatiestructuren of Service Level Agreements (SLA’s) aanwezig die conflicteren met de opzet van het veiligheidsinitiatief) | C11: Ja | D11: Normaal | E11: =IF(C11="Ja",1,-1)*IF(D11="Hoog",1,0.5) -> 0.5
A12: Wettelijke context | B12: Laat de wettelijke context het toe om in te zetten op dit veiligheidsinitiatief? | C12: Ja | D12: Normaal | E12: =IF(C12="Ja",1,-1)*IF(D12="Hoog",1,0.5) -> 0.5
A13: Compatibiliteit | B13: Is dit veiligheidsinitiatief verenigbaar met andere (veiligheids)initiatieven die geïmplementeerd zijn binnen de cluster? | C13: Ja | D13: Normaal | E13: =IF(C13="Ja",1,-1)*IF(D13="Hoog",1,0.5) -> 0.5
A14: Ondersteuning door relevante stakeholders | B14: Is het waarschijnlijk dat dit veiligheidsinitiatief zal worden gesteund door relevante stakeholders, zoals bijvoorbeeld autoriteiten, de omwonenden of sectorverenigingen? (Zo kan een veiligheidsinitiatief een speerpunt zijn van een sectorvereniging, of kan een veiligheidsinitiatief leiden tot een verbeterde veiligheidsbeleving van omwonenden) | C14: Ja | D14: Normaal | E14: =IF(C14="Ja",1,-1)*IF(D14="Hoog",1,0.5) -> 0.5
... A19: Continuïteit | B19: Kan er een lange-termijn commitment worden aangegaan tussen de bedrijven om in te zetten op dit veiligheidsinitiatief? | C19: Ja | D19: Normaal | E19: =IF(C19="Ja",1,-1)*IF(D19="Hoog",1,0.5) -> 0.5
A20: Total score | E20: =SUM(E3:E19) -> 8.5

Sheet a2
A1: =IF(OR(Hoofdwerkblad!C3="Niet van toepassing", Hoofdwerkblad!C3= 3),"Niet van toepassing","a2") -> a2 | B1: Proactieve parameter: Uitwisselen van veiligheidsinformatie Uitwisselen van informatie over niet-reguliere werkzaamheden
A2: Criteria om de haalbaarheid van het veiligheidsinitiatief in the schatten | B2: Omschrijving criteria om de haalbaarheid van het veiligheidsinitiatief in the schatten | C2: Antwoord | D2: Gewicht | E2: Geïntegreerde score
A3: Kosten | B3: Is het inzetten op dit veiligheidsinitiatief betaalbaar? | C3: Ja | D3: Normaal | E3: =IF(C3="Ja",1,-1)*IF(D3="Hoog",1,0.5) -> 0.5
A4: Implementatie-tijd | B4: Kan dit veiligheidsinitiatief op een redelijke termijn geïmplementeerd worden? | C4: Ja | D4: Normaal | E4: =IF(C4="Ja",1,-1)*IF(D4="Hoog",1,0.5) -> 0.5
A5: Kennis | B5: Is de nodige knowhow beschikbaar om in te zetten op dit veiligheidsinitiatief? (Mogelijks kan er innovatie of (technische) kennis nodig zijn om in te zetten op een veiligheidsinitiatief) | C5: Ja | D5: Normaal | E5: =IF(C5="Ja",1,-1)*IF(D5="Hoog",1,0.5) -> 0.5
A6: Billijkheid | B6: Als er op dit veiligheidsinitiatief wordt ingezet, betalen dan diegenen ervoor die ook het risico creëren? | C6: Ja | D6: Normaal | E6: =IF(C6="Ja",1,-1)*IF(D6="Hoog",1,0.5) -> 0.5
A7: Risicoreductie potentieel | B7: Zijn de investeringen voor dit veiligheidsinitiatief niet disproportioneel met de potentiële veiligheidswinst die dit initiatief kan opleveren? | C7: Ja | D7: Normaal | E7: =IF(C7="Ja",1,-1)*IF(D7="Hoog",1,0.5) -> 0.5
A8: Afstand van elkaar | B8: Laat de geografische afstand tussen de bedrijven toe om in te zetten op dit veiligheidsinitiatief? (Liggen de bedrijven bijvoorbeeld niet te ver van elkaar om te investeren in gezamenlijke schuilplaatsen) | C8: Ja | D8: Normaal | E8: =IF(C8="Ja",1,-1)*IF(D8="Hoog",1,0.5) -> 0.5
A9: Invloed beleid (moeder)bedrijven | B9: Laat het beleid van de (moeder)bedrijven het toe om in te zetten op dit veiligheidsinitiatief? | C9: Ja | D9: Normaal | E9: =IF(C9="Ja",1,-1)*IF(D9="Hoog",1,0.5) -> 0.5
A10: Concurrentiegevoeligheid | B10: Laat de concurrentiegevoeligheid van de informatie die gedeeld moet worden voor dit veiligheidsinitiatief het toe dat hierop wordt ingezet? | C10: Ja | D10: Normaal | E10: =IF(C10="Ja",1,-1)*IF(D10="Hoog",1,0.5) -> 0.5
A11: Organisatorische context | B11: Laat de organisatorische context het toe om in te zetten op dit veiligheidsinitiatief? (Zijn er bijvoorbeeld organisatiestructuren of Service Level Agreements (SLA’s) aanwezig die conflicteren met de opzet van het veiligheidsinitiatief) | C11: Ja | D11: Normaal | E11: =IF(C11="Ja",1,-1)*IF(D11="Hoog",1,0.5) -> 0.5
A12: Wettelijke context | B12: Laat de wettelijke context het toe om in te zetten op dit veiligheidsinitiatief? | C12: Ja | D12: Normaal | E12: =IF(C12="Ja",1,-1)*IF(D12="Hoog",1,0.5) -> 0.5
A13: Compatibiliteit | B13: Is dit veiligheidsinitiatief verenigbaar met andere (veiligheids)initiatieven die geïmplementeerd zijn binnen de cluster? | C13: Ja | D13: Normaal | E13: =IF(C13="Ja",1,-1)*IF(D13="Hoog",1,0.5) -> 0.5
A14: Ondersteuning door relevante stakeholders | B14: Is het waarschijnlijk dat dit veiligheidsinitiatief zal worden gesteund door relevante stakeholders, zoals bijvoorbeeld autoriteiten, de omwonenden of sectorverenigingen? (Zo kan een veiligheidsinitiatief een speerpunt zijn van een sectorvereniging, of kan een veiligheidsinitiatief leiden tot een verbeterde veiligheidsbeleving van omwonenden) | C14: Ja | D14: Normaal | E14: =IF(C14="Ja",1,-1)*IF(D14="Hoog",1,0.5) -> 0.5
... A19: Continuïteit | B19: Kan er een lange-termijn commitment worden aangegaan tussen de bedrijven om in te zetten op dit veiligheidsinitiatief? | C19: Ja | D19: Normaal | E19: =IF(C19="Ja",1,-1)*IF(D19="Hoog",1,0.5) -> 0.5
A20: Total score | E20: =SUM(E3:E19) -> 8.5

Sheet a3
A1: =IF(OR(Hoofdwerkblad!C4="Niet van toepassing", Hoofdwerkblad!C4= 3),"Niet van toepassing","a3") -> a3 | B1: Proactieve parameter: Uitwisselen van veiligheidsinformatie Communiceren over incidenten
A2: Criteria om de haalbaarheid van het veiligheidsinitiatief in the schatten | B2: Omschrijving criteria om de haalbaarheid van het veiligheidsinitiatief in the schatten | C2: Antwoord | D2: Gewicht | E2: Geïntegreerde score
A3: Kosten | B3: Is het inzetten op dit veiligheidsinitiatief betaalbaar? | C3: Ja | D3: Normaal | E3: =IF(C3="Ja",1,-1)*IF(D3="Hoog",1,0.5) -> 0.5
A4: Implementatie-tijd | B4: Kan dit veiligheidsinitiatief op een redelijke termijn geïmplementeerd worden? | C4: Ja | D4: Normaal | E4: =IF(C4="Ja",1,-1)*IF(D4="Hoog",1,0.5) -> 0.5
A5: Kennis | B5: Is de nodige knowhow beschikbaar om in te zetten op dit veiligheidsinitiatief? (Mogelijks kan er innovatie of (technische) kennis nodig zijn om in te zetten op een veiligheidsinitiatief) | C5: Ja | D5: Normaal | E5: =IF(C5="Ja",1,-1)*IF(D5="Hoog",1,0.5) -> 0.5
A6: Billijkheid | B6: Als er op dit veiligheidsinitiatief wordt ingezet, betalen dan diegenen ervoor die ook het risico creëren? | C6: Ja | D6: Normaal | E6: =IF(C6="Ja",1,-1)*IF(D6="Hoog",1,0.5) -> 0.5
A7: Risicoreductie potentieel | B7: Zijn de investeringen voor dit veiligheidsinitiatief niet disproportioneel met de potentiële veiligheidswinst die dit initiatief kan opleveren? | C7: Ja | D7: Normaal | E7: =IF(C7="Ja",1,-1)*IF(D7="Hoog",1,0.5) -> 0.5
A8: Afstand van elkaar | B8: Laat de geografische afstand tussen de bedrijven toe om in te zetten op dit veiligheidsinitiatief? (Liggen de bedrijven bijvoorbeeld niet te ver van elkaar om te investeren in gezamenlijke schuilplaatsen) | C8: Ja | D8: Normaal | E8: =IF(C8="Ja",1,-1)*IF(D8="Hoog",1,0.5) -> 0.5
A9: Invloed beleid (moeder)bedrijven | B9: Laat het beleid van de (moeder)bedrijven het toe om in te zetten op dit veiligheidsinitiatief? | C9: Ja | D9: Normaal | E9: =IF(C9="Ja",1,-1)*IF(D9="Hoog",1,0.5) -> 0.5
A10: Concurrentiegevoeligheid | B10: Laat de concurrentiegevoeligheid van de informatie die gedeeld moet worden voor dit veiligheidsinitiatief het toe dat hierop wordt ingezet? | C10: Ja | D10: Normaal | E10: =IF(C10="Ja",1,-1)*IF(D10="Hoog",1,0.5) -> 0.5
A11: Organisatorische context | B11: Laat de organisatorische context het toe om in te zetten op dit veiligheidsinitiatief? (Zijn er bijvoorbeeld organisatiestructuren of Service Level Agreements (SLA’s) aanwezig die conflicteren met de opzet van het veiligheidsinitiatief) | C11: Ja | D11: Normaal | E11: =IF(C11="Ja",1,-1)*IF(D11="Hoog",1,0.5) -> 0.5
A12: Wettelijke context | B12: Laat de wettelijke context het toe om in te zetten op dit veiligheidsinitiatief? | C12: Ja | D12: Normaal | E12: =IF(C12="Ja",1,-1)*IF(D12="Hoog",1,0.5) -> 0.5
A13: Compatibiliteit | B13: Is dit veiligheidsinitiatief verenigbaar met andere (veiligheids)initiatieven die geïmplementeerd zijn binnen de cluster? | C13: Ja | D13: Normaal | E13: =IF(C13="Ja",1,-1)*IF(D13="Hoog",1,0.5) -> 0.5
A14: Ondersteuning door relevante stakeholders | B14: Is het waarschijnlijk dat dit veiligheidsinitiatief zal worden gesteund door relevante stakeholders, zoals bijvoorbeeld autoriteiten, de omwonenden of sectorverenigingen? (Zo kan een veiligheidsinitiatief een speerpunt zijn van een sectorvereniging, of kan een veiligheidsinitiatief leiden tot een verbeterde veiligheidsbeleving van omwonenden) | C14: Ja | D14: Normaal | E14: =IF(C14="Ja",1,-1)*IF(D14="Hoog",1,0.5) -> 0.5
... A19: Continuïteit | B19: Kan er een lange-termijn commitment worden aangegaan tussen de bedrijven om in te zetten op dit veiligheidsinitiatief? | C19: Ja | D19: Normaal | E19: =IF(C19="Ja",1,-1)*IF(D19="Hoog",1,0.5) -> 0.5
A20: Total score | E20: =SUM(E3:E19) -> 8.5

Sheet a4
A1: =IF(OR(Hoofdwerkblad!C5="Niet van toepassing", Hoofdwerkblad!C5= 3),"Niet van toepassing","a4") -> a4 | B1: Proactieve parameter: Uitwisselen van veiligheidsinformatie Uitwisselen van informatie over veiligheidsinspecties van toezichthouders
A2: Criteria om de haalbaarheid van het veiligheidsinitiatief in the schatten | B2: Omschrijving criteria om de haalbaarheid van het veiligheidsinitiatief in the schatten | C2: Antwoord | D2: Gewicht | E2: Geïntegreerde score
A3: Kosten | B3: Is het inzetten op dit veiligheidsinitiatief betaalbaar? | C3: Ja | D3: Normaal | E3: =IF(C3="Ja",1,-1)*IF(D3="Hoog",1,0.5) -> 0.5
A4: Implementatie-tijd | B4: Kan dit veiligheidsinitiatief op een redelijke termijn geïmplementeerd worden? | C4: Ja | D4: Normaal | E4: =IF(C4="Ja",1,-1)*IF(D4="Hoog",1,0.5) -> 0.5
A5: Kennis | B5: Is de nodige knowhow beschikbaar om in te zetten op dit veiligheidsinitiatief? (Mogelijks kan er innovatie of (technische) kennis nodig zijn om in te zetten op een veiligheidsinitiatief) | C5: Ja | D5: Normaal | E5: =IF(C5="Ja",1,-1)*IF(D5="Hoog",1,0.5) -> 0.5
A6: Billijkheid | B6: Als er op dit veiligheidsinitiatief wordt ingezet, betalen dan diegenen ervoor die ook het risico creëren? | C6: Ja | D6: Normaal | E6: =IF(C6="Ja",1,-1)*IF(D6="Hoog",1,0.5) -> 0.5
A7: Risicoreductie potentieel | B7: Zijn de investeringen voor dit veiligheidsinitiatief niet disproportioneel met de potentiële veiligheidswinst die dit initiatief kan opleveren? | C7: Ja | D7: Normaal | E7: =IF(C7="Ja",1,-1)*IF(D7="Hoog",1,0.5) -> 0.5
A8: Afstand van elkaar | B8: Laat de geografische afstand tussen de bedrijven toe om in te zetten op dit veiligheidsinitiatief? (Liggen de bedrijven bijvoorbeeld niet te ver van elkaar om te investeren in gezamenlijke schuilplaatsen) | C8: Ja | D8: Normaal | E8: =IF(C8="Ja",1,-1)*IF(D8="Hoog",1,0.5) -> 0.5
A9: Invloed beleid (moeder)bedrijven | B9: Laat het beleid van de (moeder)bedrijven het toe om in te zetten op dit veiligheidsinitiatief? | C9: Ja | D9: Normaal | E9: =IF(C9="Ja",1,-1)*IF(D9="Hoog",1,0.5) -> 0.5
A10: Concurrentiegevoeligheid | B10: Laat de concurrentiegevoeligheid van de informatie die gedeeld moet worden voor dit veiligheidsinitiatief het toe dat hierop wordt ingezet? | C10: Ja | D10: Normaal | E10: =IF(C10="Ja",1,-1)*IF(D10="Hoog",1,0.5) -> 0.5
A11: Organisatorische context | B11: Laat de organisatorische context het toe om in te zetten op dit veiligheidsinitiatief? (Zijn er bijvoorbeeld organisatiestructuren of Service Level Agreements (SLA’s) aanwezig die conflicteren met de opzet van het veiligheidsinitiatief) | C11: Ja | D11: Normaal | E11: =IF(C11="Ja",1,-1)*IF(D11="Hoog",1,0.5) -> 0.5
A12: Wettelijke context | B12: Laat de wettelijke context het toe om in te zetten op dit veiligheidsinitiatief? | C12: Ja | D12: Normaal | E12: =IF(C12="Ja",1,-1)*IF(D12="Hoog",1,0.5) -> 0.5
A13: Compatibiliteit | B13: Is dit veiligheidsinitiatief verenigbaar met andere (veiligheids)initiatieven die geïmplementeerd zijn binnen de cluster? | C13: Ja | D13: Normaal | E13: =IF(C13="Ja",1,-1)*IF(D13="Hoog",1,0.5) -> 0.5
A14: Ondersteuning door relevante stakeholders | B14: Is het waarschijnlijk dat dit veiligheidsinitiatief zal worden gesteund door relevante stakeholders, zoals bijvoorbeeld autoriteiten, de omwonenden of sectorverenigingen? (Zo kan een veiligheidsinitiatief een speerpunt zijn van een sectorvereniging, of kan een veiligheidsinitiatief leiden tot een verbeterde veiligheidsbeleving van omwonenden) | C14: Ja | D14: Normaal | E14: =IF(C14="Ja",1,-1)*IF(D14="Hoog",1,0.5) -> 0.5
... A19: Continuïteit | B19: Kan er een lange-termijn commitment worden aangegaan tussen de bedrijven om in te zetten op dit veiligheidsinitiatief? | C19: Ja | D19: Normaal | E19: =IF(C19="Ja",1,-1)*IF(D19="Hoog",1,0.5) -> 0.5
A20: Total score | E20: =SUM(E3:E19) -> 8.5

Sheet b1
A1: =IF(OR(Hoofdwerkblad!C6="Niet van toepassing", Hoofdwerkblad!C6= 3),"Niet van toepassing","b1") -> b1 | B1: Proactieve parameter: Beoordelen & beheersen van onderlinge risico’s op clusterniveau Gezamenlijke risicoanalyses met focus op onderlinge risico’s
A2: Criteria om de haalbaarheid van het veiligheidsinitiatief in the schatten | B2: Omschrijving criteria om de haalbaarheid van het veiligheidsinitiatief in the schatten | C2: Antwoord | D2: Gewicht | E2: Geïntegreerde score
A3: Kosten | B3: Is het inzetten op dit veiligheidsinitiatief betaalbaar? | C3: Ja | D3: Normaal | E3: =IF(C3="Ja",1,-1)*IF(D3="Hoog",1,0.5) -> 0.5
A4: Implementatie-tijd | B4: Kan dit veiligheidsinitiatief op een redelijke termijn geïmplementeerd worden? | C4: Ja | D4: Normaal | E4: =IF(C4="Ja",1,-1)*IF(D4="Hoog",1,0.5) -> 0.5
A5: Kennis | B5: Is de nodige knowhow beschikbaar om in te zetten op dit veiligheidsinitiatief? (Mogelijks kan er innovatie of (technische) kennis nodig zijn om in te zetten op een veiligheidsinitiatief) | C5: Ja | D5: Normaal | E5: =IF(C5="Ja",1,-1)*IF(D5="Hoog",1,0.5) -> 0.5
A6: Billijkheid | B6: Als er op dit veiligheidsinitiatief wordt ingezet, betalen dan diegenen ervoor die ook het risico creëren? | C6: Ja | D6: Normaal | E6: =IF(C6="Ja",1,-1)*IF(D6="Hoog",1,0.5) -> 0.5
A7: Risicoreductie potentieel | B7: Zijn de investeringen voor dit veiligheidsinitiatief niet disproportioneel met de potentiële veiligheidswinst die dit initiatief kan opleveren? | C7: Ja | D7: Normaal | E7: =IF(C7="Ja",1,-1)*IF(D7="Hoog",1,0.5) -> 0.5
A8: Afstand van elkaar | B8: Laat de geografische afstand tussen de bedrijven toe om in te zetten op dit veiligheidsinitiatief? (Liggen de bedrijven bijvoorbeeld niet te ver van elkaar om te investeren in gezamenlijke schuilplaatsen) | C8: Ja | D8: Normaal | E8: =IF(C8="Ja",1,-1)*IF(D8="Hoog",1,0.5) -> 0.5
A9: Invloed beleid (moeder)bedrijven | B9: Laat het beleid van de (moeder)bedrijven het toe om in te zetten op dit veiligheidsinitiatief? | C9: Ja | D9: Normaal | E9: =IF(C9="Ja",1,-1)*IF(D9="Hoog",1,0.5) -> 0.5
A10: Concurrentiegevoeligheid | B10: Laat de concurrentiegevoeligheid van de informatie die gedeeld moet worden voor dit veiligheidsinitiatief het toe dat hierop wordt ingezet? | C10: Ja | D10: Normaal | E10: =IF(C10="Ja",1,-1)*IF(D10="Hoog",1,0.5) -> 0.5
A11: Organisatorische context | B11: Laat de organisatorische context het toe om in te zetten op dit veiligheidsinitiatief? (Zijn er bijvoorbeeld organisatiestructuren of Service Level Agreements (SLA’s) aanwezig die conflicteren met de opzet van het veiligheidsinitiatief) | C11: Ja | D11: Normaal | E11: =IF(C11="Ja",1,-1)*IF(D11="Hoog",1,0.5) -> 0.5
A12: Wettelijke context | B12: Laat de wettelijke context het toe om in te zetten op dit veiligheidsinitiatief? | C12: Ja | D12: Normaal | E12: =IF(C12="Ja",1,-1)*IF(D12="Hoog",1,0.5) -> 0.5
A13: Compatibiliteit | B13: Is dit veiligheidsinitiatief verenigbaar met andere (veiligheids)initiatieven die geïmplementeerd zijn binnen de cluster? | C13: Ja | D13: Normaal | E13: =IF(C13="Ja",1,-1)*IF(D13="Hoog",1,0.5) -> 0.5
A14: Ondersteuning door relevante stakeholders | B14: Is het waarschijnlijk dat dit veiligheidsinitiatief zal worden gesteund door relevante stakeholders, zoals bijvoorbeeld autoriteiten, de omwonenden of sectorverenigingen? (Zo kan een veiligheidsinitiatief een speerpunt zijn van een sectorvereniging, of kan een veiligheidsinitiatief leiden tot een verbeterde veiligheidsbeleving van omwonenden) | C14: Ja | D14: Normaal | E14: =IF(C14="Ja",1,-1)*IF(D14="Hoog",1,0.5) -> 0.5
... A19: Continuïteit | B19: Kan er een lange-termijn commitment worden aangegaan tussen de bedrijven om in te zetten op dit veiligheidsinitiatief? | C19: Ja | D19: Normaal | E19: =IF(C19="Ja",1,-1)*IF(D19="Hoog",1,0.5) -> 0.5
A20: Total score | E20: =SUM(E3:E19) -> 8.5

Sheet b2
A1: =IF(OR(Hoofdwerkblad!C7="Niet van toepassing", Hoofdwerkblad!C7= 3),"Niet van toepassing","b2") -> b2 | B1: Proactieve parameter: Beoordelen & beheersen van onderlinge risico’s op clusterniveau Beheersen van onderlinge risico’s op clusterniveau
A2: Criteria om de haalbaarheid van het veiligheidsinitiatief in the schatten | B2: Omschrijving criteria om de haalbaarheid van het veiligheidsinitiatief in the schatten | C2: Antwoord | D2: Gewicht | E2: Geïntegreerde score
A3: Kosten | B3: Is het inzetten op dit veiligheidsinitiatief betaalbaar? | C3: Ja | D3: Normaal | E3: =IF(C3="Ja",1,-1)*IF(D3="Hoog",1,0.5) -> 0.5
A4: Implementatie-tijd | B4: Kan dit veiligheidsinitiatief op een redelijke termijn geïmplementeerd worden? | C4: Ja | D4: Normaal | E4: =IF(C4="Ja",1,-1)*IF(D4="Hoog",1,0.5) -> 0.5
A5: Kennis | B5: Is de nodige knowhow beschikbaar om in te zetten op dit veiligheidsinitiatief? (Mogelijks kan er innovatie of (technische) kennis nodig zijn om in te zetten op een veiligheidsinitiatief) | C5: Ja | D5: Normaal | E5: =IF(C5="Ja",1,-1)*IF(D5="Hoog",1,0.5) -> 0.5
A6: Billijkheid | B6: Als er op dit veiligheidsinitiatief wordt ingezet, betalen dan diegenen ervoor die ook het risico creëren? | C6: Ja | D6: Normaal | E6: =IF(C6="Ja",1,-1)*IF(D6="Hoog",1,0.5) -> 0.5
A7: Risicoreductie potentieel | B7: Zijn de investeringen voor dit veiligheidsinitiatief niet disproportioneel met de potentiële veiligheidswinst die dit initiatief kan opleveren? | C7: Ja | D7: Normaal | E7: =IF(C7="Ja",1,-1)*IF(D7="Hoog",1,0.5) -> 0.5
A8: Afstand van elkaar | B8: Laat de geografische afstand tussen de bedrijven toe om in te zetten op dit veiligheidsinitiatief? (Liggen de bedrijven bijvoorbeeld niet te ver van elkaar om te investeren in gezamenlijke schuilplaatsen) | C8: Ja | D8: Normaal | E8: =IF(C8="Ja",1,-1)*IF(D8="Hoog",1,0.5) -> 0.5
A9: Invloed beleid (moeder)bedrijven | B9: Laat het beleid van de (moeder)bedrijven het toe om in te zetten op dit veiligheidsinitiatief? | C9: Ja | D9: Normaal | E9: =IF(C9="Ja",1,-1)*IF(D9="Hoog",1,0.5) -> 0.5
A10: Concurrentiegevoeligheid | B10: Laat de concurrentiegevoeligheid van de informatie die gedeeld moet worden voor dit veiligheidsinitiatief het toe dat hierop wordt ingezet? | C10: Ja | D10: Normaal | E10: =IF(C10="Ja",1,-1)*IF(D10="Hoog",1,0.5) -> 0.5
A11: Organisatorische context | B11: Laat de organisatorische context het toe om in te zetten op dit veiligheidsinitiatief? (Zijn er bijvoorbeeld organisatiestructuren of Service Level Agreements (SLA’s) aanwezig die conflicteren met de opzet van het veiligheidsinitiatief) | C11: Ja | D11: Normaal | E11: =IF(C11="Ja",1,-1)*IF(D11="Hoog",1,0.5) -> 0.5
A12: Wettelijke context | B12: Laat de wettelijke context het toe om in te zetten op dit veiligheidsinitiatief? | C12: Ja | D12: Normaal | E12: =IF(C12="Ja",1,-1)*IF(D12="Hoog",1,0.5) -> 0.5
A13: Compatibiliteit | B13: Is dit veiligheidsinitiatief verenigbaar met andere (veiligheids)initiatieven die geïmplementeerd zijn binnen de cluster? | C13: Ja | D13: Normaal | E13: =IF(C13="Ja",1,-1)*IF(D13="Hoog",1,0.5) -> 0.5
A14: Ondersteuning door relevante stakeholders | B14: Is het waarschijnlijk dat dit veiligheidsinitiatief zal worden gesteund door relevante stakeholders, zoals bijvoorbeeld autoriteiten, de omwonenden of sectorverenigingen? (Zo kan een veiligheidsinitiatief een speerpunt zijn van een sectorvereniging, of kan een veiligheidsinitiatief leiden tot een verbeterde veiligheidsbeleving van omwonenden) | C14: Ja | D14: Normaal | E14: =IF(C14="Ja",1,-1)*IF(D14="Hoog",1,0.5) -> 0.5
... A19: Continuïteit | B19: Kan er een lange-termijn commitment worden aangegaan tussen de bedrijven om in te zetten op dit veiligheidsinitiatief? | C19: Ja | D19: Normaal | E19: =IF(C19="Ja",1,-1)*IF(D19="Hoog",1,0.5) -> 0.5
A20: Total score | E20: =SUM(E3:E19) -> 8.5

Sheet c1
