Workbook
Name CoatRefLT: Instellingen!$X$36
Name CorrRVS: Instellingen!$S$34:$T$34
Name CorrTempBounds: Instellingen!$T$23:$Z$23
Name DroogNatWissel: Instellingen!$S$24:$S$26
Name ExpCorrDam: Instellingen!$V$12:$V$16
Name IsolatieMateriaal: Instellingen!$T$3:$T$9
Name KleurJN: Installatie!$G$1
Name LimitsMOTBF: 'NEN-EN 16991'!$AB$2:$AF$2
Name NatDroogRiskMatrix: Instellingen!$T$24:$Z$26
Name NDT_Techn: Instellingen!$O$3:$O$13
Name NDTEff: Instellingen!$P$16:$R$20
Name NDTEffRatings: Instellingen!$C$15:$M$20
Name Risk_MOTBF: 'NEN-EN 16991'!$AB$3:$AF$7
Name TblIsolStimuFact: Instellingen!$T$3:$U$9
Name TempRVS: Instellingen!$S$33:$T$33
Name TSA_LTE: Instellingen!$Z$36
Name Typicals: Instellingen!$B$15:$B$20
Name ZoutRisico: Instellingen!$R$29:$R$31
Name ZoutRiskMatrix: Instellingen!$T$29:$Z$31

Sheet Toelichting
G3: Tool die projectonderdelen Risk Based CUI Management integreert.
C4: World Class Maintenance.
C5: Project: | D5: Risk Based Corrosie Onder Isolatie Management.
C6: Dit werkblad bevat een uitwerking van de planning van Risk Based CUI Management.
C7: Het beoogt een voorzet te zijn voor een uitwerking ten behoeve van een asset owner.
C8: De uitwerking van de verschillende projectonderdelenis gebaseerd op een "default" risk based aanpak vanuit de RB-CUI management tool.
C9: De beschrijving van die onderdelen is samengevat in de definitieve versie van deze tool.
C11: De tool is als hulpmiddel beschikbaar voor diegenen die nog geen aanpak hebben.
C12: Daarnaast functioneert de tool ook als test voor de praktijkgerichtheid van het eindresultaat.
C13: Het daarbij gehanteerde motto is: "een expliciet beslisproces is in een beslismodel te vatten".
C15: Gebruikte kleur codering: (standaard vlgs Microsoft Excel):
C16: Invoer van gegevens (input): | D16: Input
C17: Gegevensinvoer niet nodig: | D17: Input | E17: (betreft gegevens die, afhankelijk van andere gegevens, al dan niet nodig zijn)
C18: Resultaat van invoer (output): | D18: Output
C20: In deze tool worden de volgende hulpmiddelen aangereikt:
C21: • Overzichtlijst t.b.v. rapportage van de toestand van een fabriek(sdeel). Tab: Installatie.
C22: • Hulpmiddel om onderdelen van de installatie te kunnen localiseren. Tab: Weergave
C23: • Hulpmiddel om de installatie via clustering naar steigerpositie te kunnen inspecteren. Tab: Installatie
C24: • De risicomatrix om de toestandsinformatie te kunnen prioriteren naar te nemen akties. Tab: NEN 16991
C25: Het Tab [Instellingen] bevat de gegevens die in het tab [Installatie] benodigd zijn bij de risicobeoordeling.
C26: Er zijn twee leidende principes om het werk te sturen: Risico-gedreven en Efficiency gedreven.
C27: Risicogedreven is het leidende principe wanneer er dusdanige risico's zijn dat de beheersing daarvan de hoogste prioriteit heeft.
C28: Efficiency sturing is aan de orde als risico's acceptabel zijn en maximale efficiency het doel is.
C29: Op basis van de vastgestelde risico's, is via prioritisering de invulling volgordelijk uit te werken.
C30: In geval op basis van de risico's de urgenties gelijkelijk verdeeld zijn, wordt prioritisering op basis van efficiency toegepast.
C31: De afweging is dan: met welke steigerposities is maximale verwerkingssnelheid te behalen.(efficiency ð "maximaal effect per steigerpositie")
... C38: Doordat dit soort ontwikkelingen nu nog geen "bewezen praktijk" zijn, zijn die nu niet meegenomen in deze best practise.

Sheet Installatie
F1: Kleur (J/N): | G1: Ja
B2: Fase 1: Sectie "installatie gegevens" voor het vastleggen van het ontwerp. | I2: Sectie waarin de levensduur van de coating wordt bepaald. | W2: A-priori risico bepaling: | AH2: Fase 3: Sectie met bepaling van de isolatie conditie. | AM2: Fase 4: Sectie "installatie conditie" voor het registeren van het faalrisico.
B3: Installatie: | C3: (Steiger-) Locatie: | D3: Unit: | E3: Component: | F3: Materiaal: | G3: Corrosie marge: | H3: Procesvoering: | I3: Product: | J3: Generatie coating: | K3: Ontwerp: | L3: Proces & Mens: | M3: Isolatie: | N3: LT_Coating: | O3: Proces (skin-) temperatuur: | P3: Proces type: | Q3: Isolatie type: | R3: Isolatie materiaal: | S3: In gebruik sinds: | T3: Aantal nat-droog cycli: | U3: Zout-risico: | V3: Component_Typical: | W3: Resterende tijd tot normatief falen: | X3: Kans van falen: | Y3: Health | Z3: Safety | AA3: Environment | AB3: Business (€) | AC3: Security | AD3: Loss of repu-tation | AE3: Public disrup-tion | AF3: Aanwezig risico | AG3: Risico; kwalitatief | AH3: Conditie: | AI3: Weersinvloeden: | AJ3: Mate van inlek: | AK3: Aanwezig risico (ivm isolatie) | AL3: Risico; Isolatie conditie; kwalitatief | AM3: Toe te passen beheers-maatregel: | AN3: Mate van risico reductie: | AO3: Aanwezig rest-risico | AP3: Rest-risico; kwalitatief
B4: H-2010 | D4: 200 | E4: Heat exchanger | F4: C-staal, gecoat | G4: 2 | H4: Condensaat | I4: Getest, onbewezen | J4: Oud | K4: Compleet | L4: Goed plan, Onvoldoende expertise | M4: Voldoende uitvoering en onvoldoende onderhoud | N4: =IFERROR(IF(RIGHT(tblInstallatie[[#This Row],[Materiaal:]],3)="TSA",TSA_LTE,1)*IF(OR(IFERROR(FIND("gecoat",tblInstallatie[[#This Row],[Materiaal:]])>0,0),IFERROR(FIND("TSA",tblInstallatie[[#This Row],[Materiaal:]])>0,0)), (CoatRefLT*(1-(CHOOSE(FIND(RIGHT(LEFT(I4,9),1),"iob"),0.5,0.3,0.05)+ CHOOSE(FIND(RIGHT(LEFT(K4,2),1),"85o"),0.9,0.75,0.05)+ CHOOSE(FIND(LEFT(L4,1),"PGOC"),0.9,0.5,0.25,0.1)+ CHOOSE(FIND(LEFT(M4,1),"UVOC"),0.9, IF(LEFT(J4,1)="O",0.9,0.5), 0.25,0.1))/4)), 0),0) -> 11.25 | O4: 50 | P4: Vloeistof | Q4: Warmte | R4: Pyrogel XT over mineral wool | S4: 40179 | T4: 100 | U4: C1-2 | V4: Aftakkingen op leidingen > DN250 en op vatwanden | W4: =IF(LEFT(F4,1)="C", IFERROR(-(NOW()-S4)/365+N4+G4/(IFERROR(INDEX(ExpCorrDam,VLOOKUP(R4,TblIsolStimuFact,2,FALSE)),1)* (INDEX(NatDroogRiskMatrix,MATCH(T4,DroogNatWissel,1),MATCH(O4,CorrTempBounds,1))+ INDEX(ZoutRiskMatrix,MATCH(U4,ZoutRisico,0),MATCH(O4,CorrTempBounds,1)))),"Onbeperkt"), IF(LEFT(F4,1)="R",IF(O4<40,"Onbeperkt",IF(-(NOW()-S4)/365+N4>=0,-(NOW()-S4)/365+N4,INDEX(CorrRVS,1,(MATCH(O4,TempRVS,1))))),"?")) -> 5.1618806 | X4: =IF(W4="SAO",5, IF(W4="Onbeperkt",1, IF(ISERROR(W4),"?",IFERROR(6-MATCH(W4,'NEN-EN 16991'!$C$3:$C$7,1),6)))) -> 3 | Y4: C | Z4: B | AA4: C | AB4: A | AE4: A | AF4: =IFERROR(INDEX(Risk_MOTBF,6-MIN(5,Installatie!X4),IFERROR(IF(SEARCH("E",CONCATENATE(Y4,Z4,AA4,AB4,AC4,AD4,AE4))>0,5,0),IFERROR(IF(SEARCH("D",CONCATENATE(Y4,Z4,AA4,AB4,AC4,AD4,AE4))>0,4,0),IFERROR(IF(SEARCH("C",CONCATENATE(Y4,Z4,AA4,AB4,AC4,AD4,AE4))>0,3,0),IFERROR(IF(SEARCH("B",CONCATENATE(Y4,Z4,AA4,AB4,AC4,AD4,AE4))>0,2,0),IFERROR(IF(SEARCH("A",CONCATENATE(Y4,Z4,AA4,AB4,AC4,AD4,AE4))>0,1,0),"?")))))),"?") -> 36.666667 | AG4: =CHOOSE(IF(AF4>'NEN-EN 16991'!$AF$2,5,IF(AF4>'NEN-EN 16991'!$AE$2,4,IF(AF4>'NEN-EN 16991'!$AD$2,3,IF(AF4>'NEN-EN 16991'!$AC$2,2,1)))),"Very low","Low","Medium","High","Very high") -> Medium | AH4: 3, Matig | AI4: Binnen-vochtig | AJ4: =IFERROR(CHOOSE(1+(1-IFERROR(MATCH("*"&"droog"&"*",AI4,0),0))*MAX(IFERROR(LEFT(AH4,1),"?")-2,0),"Geen","Gering","Matig","Zwaar","Zwaar","Zwaar"),"?") -> Gering | AK4: =IFERROR(IF(AJ4="Geen",0,1)*AF4,IF(AJ4="Geen",0,"?")) -> 36.666667 | AL4: =CHOOSE(IF(AK4>'NEN-EN 16991'!$AF$2,5,IF(AK4>'NEN-EN 16991'!$AE$2,4,IF(AK4>'NEN-EN 16991'!$AD$2,3,IF(AK4>'NEN-EN 16991'!$AC$2,2,1)))),"Very low","Low","Medium","High","Very high") -> Medium | AM4: 1) Visuele inspectie met uitpakken. | AN4: =IFERROR(INDEX(NDTEff,FIND(INDEX(NDTEffRatings,MATCH(V4,Typicals,0),MATCH(AM4,NDT_Techn,0)),"ABCDE"),2),"?") -> 0.99 | AO4: =IFERROR((1-AN4)*AK4,"?") -> 0.36666667 | AP4: =IF(tblInstallatie[[#This Row],[Aanwezig rest-risico]]="?",tblInstallatie[[#This Row],[Risico; Isolatie conditie; kwalitatief]],CHOOSE(IF(tblInstallatie[[#This Row],[Aanwezig rest-risico]]>'NEN-EN 16991'!$AF$2,5,IF(tblInstallatie[[#This Row],[Aanwezig rest-risico]]>'NEN-EN 16991'!$AE$2,4,IF(tblInstallatie[[#This Row],[Aanwezig rest-risico]]>'NEN-EN 16991'!$AD$2,3,IF(tblInstallatie[[#This Row],[Aanwezig rest-risico]]>'NEN-EN 16991'!$AC$2,2,1)))),"Very low","Low","Medium","High","Very high")) -> Low
B5: C-2012 | D5: 200 | E5: Column | F5: C-staal | G5: 2 | I5: Getest, bewezen | J5: Oud | K5: Compleet | L5: Compleet | M5: Complete uitvoering en onderhoud | N5: =IFERROR(IF(RIGHT(tblInstallatie[[#This Row],[Materiaal:]],3)="TSA",TSA_LTE,1)*IF(OR(IFERROR(FIND("gecoat",tblInstallatie[[#This Row],[Materiaal:]])>0,0),IFERROR(FIND("TSA",tblInstallatie[[#This Row],[Materiaal:]])>0,0)), (CoatRefLT*(1-(CHOOSE(FIND(RIGHT(LEFT(I5,9),1),"iob"),0.5,0.3,0.05)+ CHOOSE(FIND(RIGHT(LEFT(K5,2),1),"85o"),0.9,0.75,0.05)+ CHOOSE(FIND(LEFT(L5,1),"PGOC"),0.9,0.5,0.25,0.1)+ CHOOSE(FIND(LEFT(M5,1),"UVOC"),0.9, IF(LEFT(J5,1)="O",0.9,0.5), 0.25,0.1))/4)), 0),0) -> 0 | O5: 50 | P5: Gas | Q5: Warmte | R5: Pyrogel XT | S5: 42371 | W5: =IF(LEFT(F5,1)="C", IFERROR(-(NOW()-S5)/365+N5+G5/(IFERROR(INDEX(ExpCorrDam,VLOOKUP(R5,TblIsolStimuFact,2,FALSE)),1)* (INDEX(NatDroogRiskMatrix,MATCH(T5,DroogNatWissel,1),MATCH(O5,CorrTempBounds,1))+ INDEX(ZoutRiskMatrix,MATCH(U5,ZoutRisico,0),MATCH(O5,CorrTempBounds,1)))),"Onbeperkt"), IF(LEFT(F5,1)="R",IF(O5<40,"Onbeperkt",IF(-(NOW()-S5)/365+N5>=0,-(NOW()-S5)/365+N5,INDEX(CorrRVS,1,(MATCH(O5,TempRVS,1))))),"?")) -> Onbeperkt | X5: =IF(W5="SAO",5, IF(W5="Onbeperkt",1, IF(ISERROR(W5),"?",IFERROR(6-MATCH(W5,'NEN-EN 16991'!$C$3:$C$7,1),6)))) -> 1 | Z5: B | AA5: C | AB5: A | AE5: A | AF5: =IFERROR(INDEX(Risk_MOTBF,6-MIN(5,Installatie!X5),IFERROR(IF(SEARCH("E",CONCATENATE(Y5,Z5,AA5,AB5,AC5,AD5,AE5))>0,5,0),IFERROR(IF(SEARCH("D",CONCATENATE(Y5,Z5,AA5,AB5,AC5,AD5,AE5))>0,4,0),IFERROR(IF(SEARCH("C",CONCATENATE(Y5,Z5,AA5,AB5,AC5,AD5,AE5))>0,3,0),IFERROR(IF(SEARCH("B",CONCATENATE(Y5,Z5,AA5,AB5,AC5,AD5,AE5))>0,2,0),IFERROR(IF(SEARCH("A",CONCATENATE(Y5,Z5,AA5,AB5,AC5,AD5,AE5))>0,1,0),"?")))))),"?") -> 0.97777778 | AG5: =CHOOSE(IF(AF5>'NEN-EN 16991'!$AF$2,5,IF(AF5>'NEN-EN 16991'!$AE$2,4,IF(AF5>'NEN-EN 16991'!$AD$2,3,IF(AF5>'NEN-EN 16991'!$AC$2,2,1)))),"Very low","Low","Medium","High","Very high") -> Low | AH5: 3, Matig | AI5: Binnen-vochtig | AJ5: =IFERROR(CHOOSE(1+(1-IFERROR(MATCH("*"&"droog"&"*",AI5,0),0))*MAX(IFERROR(LEFT(AH5,1),"?")-2,0),"Geen","Gering","Matig","Zwaar","Zwaar","Zwaar"),"?") -> Gering | AK5: =IFERROR(IF(AJ5="Geen",0,1)*AF5,IF(AJ5="Geen",0,"?")) -> 0.97777778 | AL5: =CHOOSE(IF(AK5>'NEN-EN 16991'!$AF$2,5,IF(AK5>'NEN-EN 16991'!$AE$2,4,IF(AK5>'NEN-EN 16991'!$AD$2,3,IF(AK5>'NEN-EN 16991'!$AC$2,2,1)))),"Very low","Low","Medium","High","Very high") -> Low | AN5: =IFERROR(INDEX(NDTEff,FIND(INDEX(NDTEffRatings,MATCH(V5,Typicals,0),MATCH(AM5,NDT_Techn,0)),"ABCDE"),2),"?") -> ? | AO5: =IFERROR((1-AN5)*AK5,"?") -> ? | AP5: =IF(tblInstallatie[[#This Row],[Aanwezig rest-risico]]="?",tblInstallatie[[#This Row],[Risico; Isolatie conditie; kwalitatief]],CHOOSE(IF(tblInstallatie[[#This Row],[Aanwezig rest-risico]]>'NEN-EN 16991'!$AF$2,5,IF(tblInstallatie[[#This Row],[Aanwezig rest-risico]]>'NEN-EN 16991'!$AE$2,4,IF(tblInstallatie[[#This Row],[Aanwezig rest-risico]]>'NEN-EN 16991'!$AD$2,3,IF(tblInstallatie[[#This Row],[Aanwezig rest-risico]]>'NEN-EN 16991'!$AC$2,2,1)))),"Very low","Low","Medium","High","Very high")) -> Low
B6: Ldg-2"-20.0013 | D6: 200 | E6: Pipeline | F6: C-staal, TSA | G6: 1 | H6: Condensaat | L6: Plan en expertise onvoldoende | N6: =IFERROR(IF(RIGHT(tblInstallatie[[#This Row],[Materiaal:]],3)="TSA",TSA_LTE,1)*IF(OR(IFERROR(FIND("gecoat",tblInstallatie[[#This Row],[Materiaal:]])>0,0),IFERROR(FIND("TSA",tblInstallatie[[#This Row],[Materiaal:]])>0,0)), (CoatRefLT*(1-(CHOOSE(FIND(RIGHT(LEFT(I6,9),1),"iob"),0.5,0.3,0.05)+ CHOOSE(FIND(RIGHT(LEFT(K6,2),1),"85o"),0.9,0.75,0.05)+ CHOOSE(FIND(LEFT(L6,1),"PGOC"),0.9,0.5,0.25,0.1)+ CHOOSE(FIND(LEFT(M6,1),"UVOC"),0.9, IF(LEFT(J6,1)="O",0.9,0.5), 0.25,0.1))/4)), 0),0) -> 7 | O6: 50 | P6: Vloeistof | Q6: Warmte | R6: WRG mineral wool | S6: 42372 | W6: =IF(LEFT(F6,1)="C", IFERROR(-(NOW()-S6)/365+N6+G6/(IFERROR(INDEX(ExpCorrDam,VLOOKUP(R6,TblIsolStimuFact,2,FALSE)),1)* (INDEX(NatDroogRiskMatrix,MATCH(T6,DroogNatWissel,1),MATCH(O6,CorrTempBounds,1))+ INDEX(ZoutRiskMatrix,MATCH(U6,ZoutRisico,0),MATCH(O6,CorrTempBounds,1)))),"Onbeperkt"), IF(LEFT(F6,1)="R",IF(O6<40,"Onbeperkt",IF(-(NOW()-S6)/365+N6>=0,-(NOW()-S6)/365+N6,INDEX(CorrRVS,1,(MATCH(O6,TempRVS,1))))),"?")) -> Onbeperkt | X6: =IF(W6="SAO",5, IF(W6="Onbeperkt",1, IF(ISERROR(W6),"?",IFERROR(6-MATCH(W6,'NEN-EN 16991'!$C$3:$C$7,1),6)))) -> 1 | Z6: D | AA6: C | AB6: A | AE6: A | AF6: =IFERROR(INDEX(Risk_MOTBF,6-MIN(5,Installatie!X6),IFERROR(IF(SEARCH("E",CONCATENATE(Y6,Z6,AA6,AB6,AC6,AD6,AE6))>0,5,0),IFERROR(IF(SEARCH("D",CONCATENATE(Y6,Z6,AA6,AB6,AC6,AD6,AE6))>0,4,0),IFERROR(IF(SEARCH("C",CONCATENATE(Y6,Z6,AA6,AB6,AC6,AD6,AE6))>0,3,0),IFERROR(IF(SEARCH("B",CONCATENATE(Y6,Z6,AA6,AB6,AC6,AD6,AE6))>0,2,0),IFERROR(IF(SEARCH("A",CONCATENATE(Y6,Z6,AA6,AB6,AC6,AD6,AE6))>0,1,0),"?")))))),"?") -> 9.7777778 | AG6: =CHOOSE(IF(AF6>'NEN-EN 16991'!$AF$2,5,IF(AF6>'NEN-EN 16991'!$AE$2,4,IF(AF6>'NEN-EN 16991'!$AD$2,3,IF(AF6>'NEN-EN 16991'!$AC$2,2,1)))),"Very low","Low","Medium","High","Very high") -> Medium | AH6: 4, Slecht | AI6: Binnen-vochtig | AJ6: =IFERROR(CHOOSE(1+(1-IFERROR(MATCH("*"&"droog"&"*",AI6,0),0))*MAX(IFERROR(LEFT(AH6,1),"?")-2,0),"Geen","Gering","Matig","Zwaar","Zwaar","Zwaar"),"?") -> Matig | AK6: =IFERROR(IF(AJ6="Geen",0,1)*AF6,IF(AJ6="Geen",0,"?")) -> 9.7777778 | AL6: =CHOOSE(IF(AK6>'NEN-EN 16991'!$AF$2,5,IF(AK6>'NEN-EN 16991'!$AE$2,4,IF(AK6>'NEN-EN 16991'!$AD$2,3,IF(AK6>'NEN-EN 16991'!$AC$2,2,1)))),"Very low","Low","Medium","High","Very high") -> Medium | AN6: =IFERROR(INDEX(NDTEff,FIND(INDEX(NDTEffRatings,MATCH(V6,Typicals,0),MATCH(AM6,NDT_Techn,0)),"ABCDE"),2),"?") -> ? | AO6: =IFERROR((1-AN6)*AK6,"?") -> ? | AP6: =IF(tblInstallatie[[#This Row],[Aanwezig rest-risico]]="?",tblInstallatie[[#This Row],[Risico; Isolatie conditie; kwalitatief]],CHOOSE(IF(tblInstallatie[[#This Row],[Aanwezig rest-risico]]>'NEN-EN 16991'!$AF$2,5,IF(tblInstallatie[[#This Row],[Aanwezig rest-risico]]>'NEN-EN 16991'!$AE$2,4,IF(tblInstallatie[[#This Row],[Aanwezig rest-risico]]>'NEN-EN 16991'!$AD$2,3,IF(tblInstallatie[[#This Row],[Aanwezig rest-risico]]>'NEN-EN 16991'!$AC$2,2,1)))),"Very low","Low","Medium","High","Very high")) -> Medium
B7: Ldg-2"-20.0014 | D7: 200 | E7: Pipeline | F7: C-staal, TSA | G7: 1 | J7: Oud | M7: Onvoldoende uitvoering, voldoende onderhoud | N7: =IFERROR(IF(RIGHT(tblInstallatie[[#This Row],[Materiaal:]],3)="TSA",TSA_LTE,1)*IF(OR(IFERROR(FIND("gecoat",tblInstallatie[[#This Row],[Materiaal:]])>0,0),IFERROR(FIND("TSA",tblInstallatie[[#This Row],[Materiaal:]])>0,0)), (CoatRefLT*(1-(CHOOSE(FIND(RIGHT(LEFT(I7,9),1),"iob"),0.5,0.3,0.05)+ CHOOSE(FIND(RIGHT(LEFT(K7,2),1),"85o"),0.9,0.75,0.05)+ CHOOSE(FIND(LEFT(L7,1),"PGOC"),0.9,0.5,0.25,0.1)+ CHOOSE(FIND(LEFT(M7,1),"UVOC"),0.9, IF(LEFT(J7,1)="O",0.9,0.5), 0.25,0.1))/4)), 0),0) -> 12.6875 | O7: 50 | P7: Vloeistof | Q7: Warmte | R7: Cellular glass | S7: 42373 | W7: =IF(LEFT(F7,1)="C", IFERROR(-(NOW()-S7)/365+N7+G7/(IFERROR(INDEX(ExpCorrDam,VLOOKUP(R7,TblIsolStimuFact,2,FALSE)),1)* (INDEX(NatDroogRiskMatrix,MATCH(T7,DroogNatWissel,1),MATCH(O7,CorrTempBounds,1))+ INDEX(ZoutRiskMatrix,MATCH(U7,ZoutRisico,0),MATCH(O7,CorrTempBounds,1)))),"Onbeperkt"), IF(LEFT(F7,1)="R",IF(O7<40,"Onbeperkt",IF(-(NOW()-S7)/365+N7>=0,-(NOW()-S7)/365+N7,INDEX(CorrRVS,1,(MATCH(O7,TempRVS,1))))),"?")) -> Onbeperkt | X7: =IF(W7="SAO",5, IF(W7="Onbeperkt",1, IF(ISERROR(W7),"?",IFERROR(6-MATCH(W7,'NEN-EN 16991'!$C$3:$C$7,1),6)))) -> 1 | Z7: B | AA7: C | AB7: A | AE7: A | AF7: =IFERROR(INDEX(Risk_MOTBF,6-MIN(5,Installatie!X7),IFERROR(IF(SEARCH("E",CONCATENATE(Y7,Z7,AA7,AB7,AC7,AD7,AE7))>0,5,0),IFERROR(IF(SEARCH("D",CONCATENATE(Y7,Z7,AA7,AB7,AC7,AD7,AE7))>0,4,0),IFERROR(IF(SEARCH("C",CONCATENATE(Y7,Z7,AA7,AB7,AC7,AD7,AE7))>0,3,0),IFERROR(IF(SEARCH("B",CONCATENATE(Y7,Z7,AA7,AB7,AC7,AD7,AE7))>0,2,0),IFERROR(IF(SEARCH("A",CONCATENATE(Y7,Z7,AA7,AB7,AC7,AD7,AE7))>0,1,0),"?")))))),"?") -> 0.97777778 | AG7: =CHOOSE(IF(AF7>'NEN-EN 16991'!$AF$2,5,IF(AF7>'NEN-EN 16991'!$AE$2,4,IF(AF7>'NEN-EN 16991'!$AD$2,3,IF(AF7>'NEN-EN 16991'!$AC$2,2,1)))),"Very low","Low","Medium","High","Very high") -> Low | AH7: 3, Matig | AI7: Binnen-vochtig | AJ7: =IFERROR(CHOOSE(1+(1-IFERROR(MATCH("*"&"droog"&"*",AI7,0),0))*MAX(IFERROR(LEFT(AH7,1),"?")-2,0),"Geen","Gering","Matig","Zwaar","Zwaar","Zwaar"),"?") -> Gering | AK7: =IFERROR(IF(AJ7="Geen",0,1)*AF7,IF(AJ7="Geen",0,"?")) -> 0.97777778 | AL7: =CHOOSE(IF(AK7>'NEN-EN 16991'!$AF$2,5,IF(AK7>'NEN-EN 16991'!$AE$2,4,IF(AK7>'NEN-EN 16991'!$AD$2,3,IF(AK7>'NEN-EN 16991'!$AC$2,2,1)))),"Very low","Low","Medium","High","Very high") -> Low | AN7: =IFERROR(INDEX(NDTEff,FIND(INDEX(NDTEffRatings,MATCH(V7,Typicals,0),MATCH(AM7,NDT_Techn,0)),"ABCDE"),2),"?") -> ? | AO7: =IFERROR((1-AN7)*AK7,"?") -> ? | AP7: =IF(tblInstallatie[[#This Row],[Aanwezig rest-risico]]="?",tblInstallatie[[#This Row],[Risico; Isolatie conditie; kwalitatief]],CHOOSE(IF(tblInstallatie[[#This Row],[Aanwezig rest-risico]]>'NEN-EN 16991'!$AF$2,5,IF(tblInstallatie[[#This Row],[Aanwezig rest-risico]]>'NEN-EN 16991'!$AE$2,4,IF(tblInstallatie[[#This Row],[Aanwezig rest-risico]]>'NEN-EN 16991'!$AD$2,3,IF(tblInstallatie[[#This Row],[Aanwezig rest-risico]]>'NEN-EN 16991'!$AC$2,2,1)))),"Very low","Low","Medium","High","Very high")) -> Low
B8: Ldg-2"-20.0018 | D8: 200 | E8: Pipeline | F8: C-staal, gecoat | G8: 1 | M8: Voldoende uitvoering en onvoldoende onderhoud | N8: =IFERROR(IF(RIGHT(tblInstallatie[[#This Row],[Materiaal:]],3)="TSA",TSA_LTE,1)*IF(OR(IFERROR(FIND("gecoat",tblInstallatie[[#This Row],[Materiaal:]])>0,0),IFERROR(FIND("TSA",tblInstallatie[[#This Row],[Materiaal:]])>0,0)), (CoatRefLT*(1-(CHOOSE(FIND(RIGHT(LEFT(I8,9),1),"iob"),0.5,0.3,0.05)+ CHOOSE(FIND(RIGHT(LEFT(K8,2),1),"85o"),0.9,0.75,0.05)+ CHOOSE(FIND(LEFT(L8,1),"PGOC"),0.9,0.5,0.25,0.1)+ CHOOSE(FIND(LEFT(M8,1),"UVOC"),0.9, IF(LEFT(J8,1)="O",0.9,0.5), 0.25,0.1))/4)), 0),0) -> 6 | O8: 50 | P8: Gas | Q8: Warmte | R8: Pyrogel XT over mineral wool | S8: 42374 | W8: =IF(LEFT(F8,1)="C", IFERROR(-(NOW()-S8)/365+N8+G8/(IFERROR(INDEX(ExpCorrDam,VLOOKUP(R8,TblIsolStimuFact,2,FALSE)),1)* (INDEX(NatDroogRiskMatrix,MATCH(T8,DroogNatWissel,1),MATCH(O8,CorrTempBounds,1))+ INDEX(ZoutRiskMatrix,MATCH(U8,ZoutRisico,0),MATCH(O8,CorrTempBounds,1)))),"Onbeperkt"), IF(LEFT(F8,1)="R",IF(O8<40,"Onbeperkt",IF(-(NOW()-S8)/365+N8>=0,-(NOW()-S8)/365+N8,INDEX(CorrRVS,1,(MATCH(O8,TempRVS,1))))),"?")) -> Onbeperkt | X8: =IF(W8="SAO",5, IF(W8="Onbeperkt",1, IF(ISERROR(W8),"?",IFERROR(6-MATCH(W8,'NEN-EN 16991'!$C$3:$C$7,1),6)))) -> 1 | Z8: B | AA8: C | AB8: A | AE8: A | AF8: =IFERROR(INDEX(Risk_MOTBF,6-MIN(5,Installatie!X8),IFERROR(IF(SEARCH("E",CONCATENATE(Y8,Z8,AA8,AB8,AC8,AD8,AE8))>0,5,0),IFERROR(IF(SEARCH("D",CONCATENATE(Y8,Z8,AA8,AB8,AC8,AD8,AE8))>0,4,0),IFERROR(IF(SEARCH("C",CONCATENATE(Y8,Z8,AA8,AB8,AC8,AD8,AE8))>0,3,0),IFERROR(IF(SEARCH("B",CONCATENATE(Y8,Z8,AA8,AB8,AC8,AD8,AE8))>0,2,0),IFERROR(IF(SEARCH("A",CONCATENATE(Y8,Z8,AA8,AB8,AC8,AD8,AE8))>0,1,0),"?")))))),"?") -> 0.97777778 | AG8: =CHOOSE(IF(AF8>'NEN-EN 16991'!$AF$2,5,IF(AF8>'NEN-EN 16991'!$AE$2,4,IF(AF8>'NEN-EN 16991'!$AD$2,3,IF(AF8>'NEN-EN 16991'!$AC$2,2,1)))),"Very low","Low","Medium","High","Very high") -> Low | AH8: 3, Matig | AI8: Binnen-vochtig | AJ8: =IFERROR(CHOOSE(1+(1-IFERROR(MATCH("*"&"droog"&"*",AI8,0),0))*MAX(IFERROR(LEFT(AH8,1),"?")-2,0),"Geen","Gering","Matig","Zwaar","Zwaar","Zwaar"),"?") -> Gering | AK8: =IFERROR(IF(AJ8="Geen",0,1)*AF8,IF(AJ8="Geen",0,"?")) -> 0.97777778 | AL8: =CHOOSE(IF(AK8>'NEN-EN 16991'!$AF$2,5,IF(AK8>'NEN-EN 16991'!$AE$2,4,IF(AK8>'NEN-EN 16991'!$AD$2,3,IF(AK8>'NEN-EN 16991'!$AC$2,2,1)))),"Very low","Low","Medium","High","Very high") -> Low | AN8: =IFERROR(INDEX(NDTEff,FIND(INDEX(NDTEffRatings,MATCH(V8,Typicals,0),MATCH(AM8,NDT_Techn,0)),"ABCDE"),2),"?") -> ? | AO8: =IFERROR((1-AN8)*AK8,"?") -> ? | AP8: =IF(tblInstallatie[[#This Row],[Aanwezig rest-risico]]="?",tblInstallatie[[#This Row],[Risico; Isolatie conditie; kwalitatief]],CHOOSE(IF(tblInstallatie[[#This Row],[Aanwezig rest-risico]]>'NEN-EN 16991'!$AF$2,5,IF(tblInstallatie[[#This Row],[Aanwezig rest-risico]]>'NEN-EN 16991'!$AE$2,4,IF(tblInstallatie[[#This Row],[Aanwezig rest-risico]]>'NEN-EN 16991'!$AD$2,3,IF(tblInstallatie[[#This Row],[Aanwezig rest-risico]]>'NEN-EN 16991'!$AC$2,2,1)))),"Very low","Low","Medium","High","Very high")) -> Low
B9: H-2013A | D9: 200 | E9: Heat exchanger | F9: C-staal | G9: 2 | N9: =IFERROR(IF(RIGHT(tblInstallatie[[#This Row],[Materiaal:]],3)="TSA",TSA_LTE,1)*IF(OR(IFERROR(FIND("gecoat",tblInstallatie[[#This Row],[Materiaal:]])>0,0),IFERROR(FIND("TSA",tblInstallatie[[#This Row],[Materiaal:]])>0,0)), (CoatRefLT*(1-(CHOOSE(FIND(RIGHT(LEFT(I9,9),1),"iob"),0.5,0.3,0.05)+ CHOOSE(FIND(RIGHT(LEFT(K9,2),1),"85o"),0.9,0.75,0.05)+ CHOOSE(FIND(LEFT(L9,1),"PGOC"),0.9,0.5,0.25,0.1)+ CHOOSE(FIND(LEFT(M9,1),"UVOC"),0.9, IF(LEFT(J9,1)="O",0.9,0.5), 0.25,0.1))/4)), 0),0) -> 0 | O9: 50 | P9: Gas | Q9: Warmte | R9: Pyrogel XT over mineral wool | S9: 42375 | W9: =IF(LEFT(F9,1)="C", IFERROR(-(NOW()-S9)/365+N9+G9/(IFERROR(INDEX(ExpCorrDam,VLOOKUP(R9,TblIsolStimuFact,2,FALSE)),1)* (INDEX(NatDroogRiskMatrix,MATCH(T9,DroogNatWissel,1),MATCH(O9,CorrTempBounds,1))+ INDEX(ZoutRiskMatrix,MATCH(U9,ZoutRisico,0),MATCH(O9,CorrTempBounds,1)))),"Onbeperkt"), IF(LEFT(F9,1)="R",IF(O9<40,"Onbeperkt",IF(-(NOW()-S9)/365+N9>=0,-(NOW()-S9)/365+N9,INDEX(CorrRVS,1,(MATCH(O9,TempRVS,1))))),"?")) -> Onbeperkt | X9: =IF(W9="SAO",5, IF(W9="Onbeperkt",1, IF(ISERROR(W9),"?",IFERROR(6-MATCH(W9,'NEN-EN 16991'!$C$3:$C$7,1),6)))) -> 1 | Z9: B | AA9: C | AB9: A | AE9: A | AF9: =IFERROR(INDEX(Risk_MOTBF,6-MIN(5,Installatie!X9),IFERROR(IF(SEARCH("E",CONCATENATE(Y9,Z9,AA9,AB9,AC9,AD9,AE9))>0,5,0),IFERROR(IF(SEARCH("D",CONCATENATE(Y9,Z9,AA9,AB9,AC9,AD9,AE9))>0,4,0),IFERROR(IF(SEARCH("C",CONCATENATE(Y9,Z9,AA9,AB9,AC9,AD9,AE9))>0,3,0),IFERROR(IF(SEARCH("B",CONCATENATE(Y9,Z9,AA9,AB9,AC9,AD9,AE9))>0,2,0),IFERROR(IF(SEARCH("A",CONCATENATE(Y9,Z9,AA9,AB9,AC9,AD9,AE9))>0,1,0),"?")))))),"?") -> 0.97777778 | AG9: =CHOOSE(IF(AF9>'NEN-EN 16991'!$AF$2,5,IF(AF9>'NEN-EN 16991'!$AE$2,4,IF(AF9>'NEN-EN 16991'!$AD$2,3,IF(AF9>'NEN-EN 16991'!$AC$2,2,1)))),"Very low","Low","Medium","High","Very high") -> Low | AH9: 3, Matig | AI9: Binnen-vochtig | AJ9: =IFERROR(CHOOSE(1+(1-IFERROR(MATCH("*"&"droog"&"*",AI9,0),0))*MAX(IFERROR(LEFT(AH9,1),"?")-2,0),"Geen","Gering","Matig","Zwaar","Zwaar","Zwaar"),"?") -> Gering | AK9: =IFERROR(IF(AJ9="Geen",0,1)*AF9,IF(AJ9="Geen",0,"?")) -> 0.97777778 | AL9: =CHOOSE(IF(AK9>'NEN-EN 16991'!$AF$2,5,IF(AK9>'NEN-EN 16991'!$AE$2,4,IF(AK9>'NEN-EN 16991'!$AD$2,3,IF(AK9>'NEN-EN 16991'!$AC$2,2,1)))),"Very low","Low","Medium","High","Very high") -> Low | AN9: =IFERROR(INDEX(NDTEff,FIND(INDEX(NDTEffRatings,MATCH(V9,Typicals,0),MATCH(AM9,NDT_Techn,0)),"ABCDE"),2),"?") -> ? | AO9: =IFERROR((1-AN9)*AK9,"?") -> ? | AP9: =IF(tblInstallatie[[#This Row],[Aanwezig rest-risico]]="?",tblInstallatie[[#This Row],[Risico; Isolatie conditie; kwalitatief]],CHOOSE(IF(tblInstallatie[[#This Row],[Aanwezig rest-risico]]>'NEN-EN 16991'!$AF$2,5,IF(tblInstallatie[[#This Row],[Aanwezig rest-risico]]>'NEN-EN 16991'!$AE$2,4,IF(tblInstallatie[[#This Row],[Aanwezig rest-risico]]>'NEN-EN 16991'!$AD$2,3,IF(tblInstallatie[[#This Row],[Aanwezig rest-risico]]>'NEN-EN 16991'!$AC$2,2,1)))),"Very low","Low","Medium","High","Very high")) -> Low
B10: H-2013B | D10: 200 | E10: Heat exchanger | F10: C-staal | G10: 2 | N10: =IFERROR(IF(RIGHT(tblInstallatie[[#This Row],[Materiaal:]],3)="TSA",TSA_LTE,1)*IF(OR(IFERROR(FIND("gecoat",tblInstallatie[[#This Row],[Materiaal:]])>0,0),IFERROR(FIND("TSA",tblInstallatie[[#This Row],[Materiaal:]])>0,0)), (CoatRefLT*(1-(CHOOSE(FIND(RIGHT(LEFT(I10,9),1),"iob"),0.5,0.3,0.05)+ CHOOSE(FIND(RIGHT(LEFT(K10,2),1),"85o"),0.9,0.75,0.05)+ CHOOSE(FIND(LEFT(L10,1),"PGOC"),0.9,0.5,0.25,0.1)+ CHOOSE(FIND(LEFT(M10,1),"UVOC"),0.9, IF(LEFT(J10,1)="O",0.9,0.5), 0.25,0.1))/4)), 0),0) -> 0 | O10: 50 | P10: Vloeistof | Q10: Warmte | R10: Pyrogel XT over mineral wool | S10: 42376 | W10: =IF(LEFT(F10,1)="C", IFERROR(-(NOW()-S10)/365+N10+G10/(IFERROR(INDEX(ExpCorrDam,VLOOKUP(R10,TblIsolStimuFact,2,FALSE)),1)* (INDEX(NatDroogRiskMatrix,MATCH(T10,DroogNatWissel,1),MATCH(O10,CorrTempBounds,1))+ INDEX(ZoutRiskMatrix,MATCH(U10,ZoutRisico,0),MATCH(O10,CorrTempBounds,1)))),"Onbeperkt"), IF(LEFT(F10,1)="R",IF(O10<40,"Onbeperkt",IF(-(NOW()-S10)/365+N10>=0,-(NOW()-S10)/365+N10,INDEX(CorrRVS,1,(MATCH(O10,TempRVS,1))))),"?")) -> Onbeperkt | X10: =IF(W10="SAO",5, IF(W10="Onbeperkt",1, IF(ISERROR(W10),"?",IFERROR(6-MATCH(W10,'NEN-EN 16991'!$C$3:$C$7,1),6)))) -> 1 | Z10: C | AA10: D | AB10: A | AE10: A | AF10: =IFERROR(INDEX(Risk_MOTBF,6-MIN(5,Installatie!X10),IFERROR(IF(SEARCH("E",CONCATENATE(Y10,Z10,AA10,AB10,AC10,AD10,AE10))>0,5,0),IFERROR(IF(SEARCH("D",CONCATENATE(Y10,Z10,AA10,AB10,AC10,AD10,AE10))>0,4,0),IFERROR(IF(SEARCH("C",CONCATENATE(Y10,Z10,AA10,AB10,AC10,AD10,AE10))>0,3,0),IFERROR(IF(SEARCH("B",CONCATENATE(Y10,Z10,AA10,AB10,AC10,AD10,AE10))>0,2,0),IFERROR(IF(SEARCH("A",CONCATENATE(Y10,Z10,AA10,AB10,AC10,AD10,AE10))>0,1,0),"?")))))),"?") -> 9.7777778 | AG10: =CHOOSE(IF(AF10>'NEN-EN 16991'!$AF$2,5,IF(AF10>'NEN-EN 16991'!$AE$2,4,IF(AF10>'NEN-EN 16991'!$AD$2,3,IF(AF10>'NEN-EN 16991'!$AC$2,2,1)))),"Very low","Low","Medium","High","Very high") -> Medium | AH10: 3, Matig | AI10: Binnen-vochtig | AJ10: =IFERROR(CHOOSE(1+(1-IFERROR(MATCH("*"&"droog"&"*",AI10,0),0))*MAX(IFERROR(LEFT(AH10,1),"?")-2,0),"Geen","Gering","Matig","Zwaar","Zwaar","Zwaar"),"?") -> Gering | AK10: =IFERROR(IF(AJ10="Geen",0,1)*AF10,IF(AJ10="Geen",0,"?")) -> 9.7777778 | AL10: =CHOOSE(IF(AK10>'NEN-EN 16991'!$AF$2,5,IF(AK10>'NEN-EN 16991'!$AE$2,4,IF(AK10>'NEN-EN 16991'!$AD$2,3,IF(AK10>'NEN-EN 16991'!$AC$2,2,1)))),"Very low","Low","Medium","High","Very high") -> Medium | AN10: =IFERROR(INDEX(NDTEff,FIND(INDEX(NDTEffRatings,MATCH(V10,Typicals,0),MATCH(AM10,NDT_Techn,0)),"ABCDE"),2),"?") -> ? | AO10: =IFERROR((1-AN10)*AK10,"?") -> ? | AP10: =IF(tblInstallatie[[#This Row],[Aanwezig rest-risico]]="?",tblInstallatie[[#This Row],[Risico; Isolatie conditie; kwalitatief]],CHOOSE(IF(tblInstallatie[[#This Row],[Aanwezig rest-risico]]>'NEN-EN 16991'!$AF$2,5,IF(tblInstallatie[[#This Row],[Aanwezig rest-risico]]>'NEN-EN 16991'!$AE$2,4,IF(tblInstallatie[[#This Row],[Aanwezig rest-risico]]>'NEN-EN 16991'!$AD$2,3,IF(tblInstallatie[[#This Row],[Aanwezig rest-risico]]>'NEN-EN 16991'!$AC$2,2,1)))),"Very low","Low","Medium","High","Very high")) -> Medium
B11: T-2008 | D11: 200 | E11: Tank | F11: C-staal | G11: 1.3 | N11: =IFERROR(IF(RIGHT(tblInstallatie[[#This Row],[Materiaal:]],3)="TSA",TSA_LTE,1)*IF(OR(IFERROR(FIND("gecoat",tblInstallatie[[#This Row],[Materiaal:]])>0,0),IFERROR(FIND("TSA",tblInstallatie[[#This Row],[Materiaal:]])>0,0)), (CoatRefLT*(1-(CHOOSE(FIND(RIGHT(LEFT(I11,9),1),"iob"),0.5,0.3,0.05)+ CHOOSE(FIND(RIGHT(LEFT(K11,2),1),"85o"),0.9,0.75,0.05)+ CHOOSE(FIND(LEFT(L11,1),"PGOC"),0.9,0.5,0.25,0.1)+ CHOOSE(FIND(LEFT(M11,1),"UVOC"),0.9, IF(LEFT(J11,1)="O",0.9,0.5), 0.25,0.1))/4)), 0),0) -> 0 | O11: 80 | P11: Gas | Q11: Warmte | R11: Pyrogel XT over mineral wool | S11: 36526 | T11: 100 | U11: C1-2 | V11: Rechte leidingen ≤ DN250 | W11: =IF(LEFT(F11,1)="C", IFERROR(-(NOW()-S11)/365+N11+G11/(IFERROR(INDEX(ExpCorrDam,VLOOKUP(R11,TblIsolStimuFact,2,FALSE)),1)* (INDEX(NatDroogRiskMatrix,MATCH(T11,DroogNatWissel,1),MATCH(O11,CorrTempBounds,1))+ INDEX(ZoutRiskMatrix,MATCH(U11,ZoutRisico,0),MATCH(O11,CorrTempBounds,1)))),"Onbeperkt"), IF(LEFT(F11,1)="R",IF(O11<40,"Onbeperkt",IF(-(NOW()-S11)/365+N11>=0,-(NOW()-S11)/365+N11,INDEX(CorrRVS,1,(MATCH(O11,TempRVS,1))))),"?")) -> -19.513005 | X11: =IF(W11="SAO",5, IF(W11="Onbeperkt",1, IF(ISERROR(W11),"?",IFERROR(6-MATCH(W11,'NEN-EN 16991'!$C$3:$C$7,1),6)))) -> 6 | Z11: A | AA11: C | AF11: =IFERROR(INDEX(Risk_MOTBF,6-MIN(5,Installatie!X11),IFERROR(IF(SEARCH("E",CONCATENATE(Y11,Z11,AA11,AB11,AC11,AD11,AE11))>0,5,0),IFERROR(IF(SEARCH("D",CONCATENATE(Y11,Z11,AA11,AB11,AC11,AD11,AE11))>0,4,0),IFERROR(IF(SEARCH("C",CONCATENATE(Y11,Z11,AA11,AB11,AC11,AD11,AE11))>0,3,0),IFERROR(IF(SEARCH("B",CONCATENATE(Y11,Z11,AA11,AB11,AC11,AD11,AE11))>0,2,0),IFERROR(IF(SEARCH("A",CONCATENATE(Y11,Z11,AA11,AB11,AC11,AD11,AE11))>0,1,0),"?")))))),"?") -> 1100 | AG11: =CHOOSE(IF(AF11>'NEN-EN 16991'!$AF$2,5,IF(AF11>'NEN-EN 16991'!$AE$2,4,IF(AF11>'NEN-EN 16991'!$AD$2,3,IF(AF11>'NEN-EN 16991'!$AC$2,2,1)))),"Very low","Low","Medium","High","Very high") -> High | AH11: 3, Matig | AI11: Binnen-vochtig | AJ11: =IFERROR(CHOOSE(1+(1-IFERROR(MATCH("*"&"droog"&"*",AI11,0),0))*MAX(IFERROR(LEFT(AH11,1),"?")-2,0),"Geen","Gering","Matig","Zwaar","Zwaar","Zwaar"),"?") -> Gering | AK11: =IFERROR(IF(AJ11="Geen",0,1)*AF11,IF(AJ11="Geen",0,"?")) -> 1100 | AL11: =CHOOSE(IF(AK11>'NEN-EN 16991'!$AF$2,5,IF(AK11>'NEN-EN 16991'!$AE$2,4,IF(AK11>'NEN-EN 16991'!$AD$2,3,IF(AK11>'NEN-EN 16991'!$AC$2,2,1)))),"Very low","Low","Medium","High","Very high") -> High | AM11: 3) On streamRT (digitaal) | AN11: =IFERROR(INDEX(NDTEff,FIND(INDEX(NDTEffRatings,MATCH(V11,Typicals,0),MATCH(AM11,NDT_Techn,0)),"ABCDE"),2),"?") -> 0.99 | AO11: =IFERROR((1-AN11)*AK11,"?") -> 11 | AP11: =IF(tblInstallatie[[#This Row],[Aanwezig rest-risico]]="?",tblInstallatie[[#This Row],[Risico; Isolatie conditie; kwalitatief]],CHOOSE(IF(tblInstallatie[[#This Row],[Aanwezig rest-risico]]>'NEN-EN 16991'!$AF$2,5,IF(tblInstallatie[[#This Row],[Aanwezig rest-risico]]>'NEN-EN 16991'!$AE$2,4,IF(tblInstallatie[[#This Row],[Aanwezig rest-risico]]>'NEN-EN 16991'!$AD$2,3,IF(tblInstallatie[[#This Row],[Aanwezig rest-risico]]>'NEN-EN 16991'!$AC$2,2,1)))),"Very low","Low","Medium","High","Very high")) -> Medium

Sheet Weergave
A1: Op dit tab wordt uiteengezet hoe de toestand van een asset kan worden vastgelegd.
A2: Gebruikelijke presentaties zijn:
A3: Een platte vlak presentatie met locatie coördinaten vanuit een raster. Een voorbeeld daarvan is hieronder weergegeven, met "spreadsheet indeling".
A4: Een drie dimensionale weergave, waarbij de platte vlak weergave wordt gebruikt in combinatie met een hoogte waargave (typisch zelfde resolutie, dus in dit voorbeeld met stappen van 2 meter).
A5: Op asset niveau is deze aan te vullen met de gebruikelijke indeling voor inspectie doeleinden.
A6: Voor horizontaal opgestelde vaten en reactoren een positie op klokuren/graden, met zichtrichting vanuit (1) toegang en/of (2) instroomzijde en nulpunt vanaf de overgang naar het naburige equipment.
A7: Voor verticaal opgestelde vaten en reactoren een vergelijkbare positie in windrichting/graden, met zichtrichting vanuit boven naar beneden met nulpunt vanaf de overgang naar het naburige equipment.
A8: Voor specifiek equipment zoals bijv. opslagtanks, biedt aansluiting met specifieke richtlijnen zoals de indeling vanuit EEMUA 159 (met ringen & platen vanuit de constructie) de meest effectieve opzet.
A10: Voor hoge installaties, wordt in veel gevallen de hoogte locatie praktisch bepaald (i.v.m. bereikbaarheid) aan de hand van het bordesnummer, tellend vanaf de onderzijde.
A12: Hieronder een voorbeeld van platte vlak weergave.
A13: A | B13: B | C13: C | D13: D | E13: E | F13: F | G13: G | H13: H | I13: I | J13: J | K13: K | L13: L | M13: M | N13: N | O13: O | P13: P | Q13: Q | R13: R | S13: S | T13: T | U13: U | V13: V | W13: W | X13: X | Y13: Y | Z13: Z | AA13: AA | AB13: AB | AC13: AC | AD13: AD | AE13: AE | AF13: AF | AG13: AG | AH13: AH | AI13: AI | AJ13: AJ | AK13: AK | AL13: AL | AM13: AM | AN13: AN | AO13: AO | AP13: AP | AQ13: AQ | AR13: AR | AS13: AS | AT13: AT | AU13: AU | AV13: AV | AW13: AW | AX13: AX | AY13: AY | AZ13: AZ | BA13: BA | BB13: BB | BC13: BC | BD13: BD | BE13: BE | BF13: BF | BG13: BG | BH13: BH | BI13: 11 | BJ13: Resolutie:
BI14: =BI13+1 -> 12 | BJ14: 50 meter /25 vakjes
BI15: =BI14+1 -> 13 | BJ15: 2 meter / vak.
BI16: =BI15+1 -> 14
BI17: =BI16+1 -> 15
BI18: =BI17+1 -> 16
BI19: =BI18+1 -> 17
BI20: =BI19+1 -> 18
BI21: =BI20+1 -> 19
BI22: =BI21+1 -> 20
BI23: =BI22+1 -> 21
BI24: =BI23+1 -> 22
BI25: =BI24+1 -> 23
BI26: =BI25+1 -> 24
BI27: =BI26+1 -> 25
... BI46: =BI45+1 -> 44
B48: Voorbeeld met een deel van een industriële site. Presentatie met één hokje van 2x2 m². | AG48: Bron: | AI48: https://earth.google.com/web/@49.52762482,8.42070398,99.54125575a,99.25755935d,35y,126.24522392h,0t,0r
B49: Deze resolutie maakt het mogelijk om (bijv. pijpleidingen) te registreren met een resolutie van 4 vierkante m². | AJ49: Meer detaillering is mogelijk met een kloksgewijze onderverdeling in secties 1-4.

Sheet NEN-EN 16991
B1: Risk matrix; Table 3; NEN-EN 16991; | E1: Voor betekenis van termen, ga in een cel staan. | P1: Lower limits calc. | R1: POF | V1: Upper limits calc. | X1: POF | AB1: Averaged limits calc. | AE1: MOTBF
B2: MOTBF | C2: U_Limit | D2: PoF annual | E2: PoF_U_Limit | F2: Qualitative | G2: Description: | I2: Cat. | P2: ="<"&Q2 -> <0,000005 | Q2: 5e-06 | R2: 0.0005 | S2: 0.05 | T2: 5 | V2: ="<"&W2 -> <0,0005 | W2: 0.0005 | X2: 0.05 | Y2: 5 | Z2: 500 | AB2: ="<"&AC2 -> <0,01 | AC2: 0.01 | AD2: 1 | AE2: 100 | AF2: 10000
A3: Probability of Failure / Likelyhood | B3: < 1 Year | C3: 0 | D3: > 10-2 | E3: 1 | F3: Very probable | G3: In a small population*, one or more failures can be expected annually. | H3: Failure has occurred several times a year in location. | I3: 5 | N3: Very High risk | P3: =0.1*$E$12*10^-2 -> 0.01 | Q3: =0.1*$E$13*10^-2 -> 0.1 | R3: =0.1*$E$14*10^-2 -> 1 | S3: =0.1*$E$15*10^-2 -> 10 | T3: =1*$E$15*10^-2 -> 100 | V3: =$E$12*10^-1 -> 1 | W3: =$E$13*10^-1 -> 10 | X3: =$E$14*10^-1 -> 100 | Y3: =$E$15*10^-1 -> 1000 | Z3: =10*$E$15*10^-1 -> 10000 | AB3: =((0+10)/2)/((0+1)/2) -> 10 | AC3: =((10+100)/2)/((0+1)/2) -> 110 | AD3: =((100+1000)/2)/((0+1)/2) -> 1100 | AE3: =((1000+10000)/2)/((0+1)/2) -> 11000 | AF3: =(10000*AVERAGE(5,5.5,5.5,5.5))/((0+1)/2) -> 107500
B4: 1-5 Years | C4: 1 | D4: 10-3 to 10-2 | E4: 0.01 | F4: Probable | G4: In a large population**, one or more failures can be expected annually. | H4: Failure has occurred several times a year in operating company. | I4: 4 | M4: High risk | P4: =0.1*$E$12*10^-3 -> 0.001 | Q4: =0.1*$E$13*10^-3 -> 0.01 | R4: =0.1*$E$14*10^-3 -> 0.1 | S4: =0.1*$E$15*10^-3 -> 1 | T4: =1*$E$15*10^-3 -> 10 | V4: =$E$12*10^-2 -> 0.1 | W4: =$E$13*10^-2 -> 1 | X4: =$E$14*10^-2 -> 10 | Y4: =$E$15*10^-2 -> 100 | Z4: =10*$E$15*10^-2 -> 1000 | AB4: =((0+10)/2)/((1+5)/2) -> 1.6666667 | AC4: =((10+100)/2)/((1+5)/2) -> 18.333333 | AD4: =((100+1000)/2)/((1+5)/2) -> 183.33333 | AE4: =((1000+10000)/2)/((1+5)/2) -> 1833.3333 | AF4: =(10000*AVERAGE(5,5.5,5.5,5.5))/((1+5)/2) -> 17916.667
B5: 5-25 years | C5: 5 | D5: 10-4 to 10-3 | E5: =E4/10 -> 0.001 | F5: Possible | G5: Several failures may occur during the life of the installation for a system comprising or a small number of equipment. | H5: Failure has occurred in company. | I5: 3 | L5: Medium risk | P5: =0.1*$E$12*10^-4 -> 0.0001 | Q5: =0.1*$E$13*10^-4 -> 0.001 | R5: =0.1*$E$14*10^-4 -> 0.01 | S5: =0.1*$E$15*10^-4 -> 0.1 | T5: =1*$E$15*10^-4 -> 1 | V5: =$E$12*10^-3 -> 0.01 | W5: =$E$13*10^-3 -> 0.1 | X5: =$E$14*10^-3 -> 1 | Y5: =$E$15*10^-3 -> 10 | Z5: =10*$E$15*10^-3 -> 100 | AB5: =((0+10)/2)/((5+25)/2) -> 0.33333333 | AC5: =((10+100)/2)/((5+25)/2) -> 3.6666667 | AD5: =((100+1000)/2)/((5+25)/2) -> 36.666667 | AE5: =((1000+10000)/2)/((5+25)/2) -> 366.66667 | AF5: =(10000*AVERAGE(5,5.5,5.5,5.5))/((5+25)/2) -> 3583.3333
B6: 25-120 years | C6: 25 | D6: 10-5 to 10-4 | E6: =E5/10 -> 0.0001 | F6: Unlikely | G6: Several failures may occur during the life of the installation for a system comprising of a large number of equipment | H6: Failure has occurred in industry | I6: 2 | K6: Low risk | P6: =0.1*$E$12*10^-5 -> 1e-05 | Q6: =0.1*$E$13*10^-5 -> 0.0001 | R6: =0.1*$E$14*10^-5 -> 0.001 | S6: =0.1*$E$15*10^-5 -> 0.01 | T6: =1*$E$15*10^-5 -> 0.1 | V6: =$E$12*10^-4 -> 0.001 | W6: =$E$13*10^-4 -> 0.01 | X6: =$E$14*10^-4 -> 0.1 | Y6: =$E$15*10^-4 -> 1 | Z6: =10*$E$15*10^-4 -> 10 | AB6: =((0+10)/2)/((25+125)/2) -> 0.066666667 | AC6: =((10+100)/2)/((25+125)/2) -> 0.73333333 | AD6: =((100+1000)/2)/((25+125)/2) -> 7.3333333 | AE6: =((1000+10000)/2)/((25+125)/2) -> 73.333333 | AF6: =(10000*AVERAGE(5,5.5,5.5,5.5))/((25+125)/2) -> 716.66667
B7: > 125 years | C7: 125 | D7: < 10-5 | E7: =E6/10 -> 1e-05 | F7: Very unlikely | G7: Failure is not expected | H7: Failure has not occurred in industry. | I7: 1 | J7: Very low (negligible risk) | P7: =0.1*$E$12*10^-6 -> 1e-06 | Q7: =0.1*$E$13*10^-6 -> 1e-05 | R7: =0.1*$E$14*10^-6 -> 0.0001 | S7: =0.1*$E$15*10^-6 -> 0.001 | T7: =1*$E$15*10^-6 -> 0.01 | V7: =$E$12*10^-5 -> 0.0001 | W7: =$E$13*10^-5 -> 0.001 | X7: =$E$14*10^-5 -> 0.01 | Y7: =$E$15*10^-5 -> 0.1 | Z7: =10*$E$15*10^-5 -> 1 | AB7: =((0+10)/2)/(125*(AVERAGE(3/0.5,15/3,75/30))) -> 0.0088888889 | AC7: =((10+100)/2)/(125*(AVERAGE(3/0.5,15/3,75/30))) -> 0.097777778 | AD7: =((100+1000)/2)/(125*(AVERAGE(3/0.5,15/3,75/30))) -> 0.97777778 | AE7: =((1000+10000)/2)/(125*(AVERAGE(3/0.5,15/3,75/30))) -> 9.7777778 | AF7: =(10000*AVERAGE(5,5.5,5.5,5.5))/(125*(AVERAGE(3/0.5,15/3,75/30))) -> 95.555556
B8: Notes: | J8: A | K8: B | L8: C | M8: D | N8: E
B9: * Small population = 20 to 50 items of equipment
B10: ** Large population = More than 50 items of equipment
B11: Health | C11: Safety | D11: Environment | E11: Business (€) | F11: Security | G11: Loss of reputation | H11: Public disruption | Q11: Aktie mbt risicoreductie:
A12: Consequence of Failure / Likelyhood | B12: Warning issued. No effect. | C12: No aid needed. Work disruption. | D12: Negligible impact. | E12: 10 | F12: None | G12: None | H12: None | I12: A | Q12: Risico's verwaarloosbaar.
B13: Warning issued. Possible impact. | C13: First aid needed. No work disability. | D13: Impact (e.g. spill) contained. | E13: 100 | F13: On-site (Local) | G13: Minor | H13: Negligible | I13: B | Q13: Risico's acceptabel.
B14: Temporary health problems, curable | C14: Temporaty work disability. | D14: Minor impact (e.g. spill) | E14: 1000 | F14: On-site (General) | G14: Bad publicity | H14: Minor | I14: C | Q14: Risico's beperken zonder specifieke eisen.
B15: Limited impact on public health, threat of chronic diseases | C15: Permanent work disability. | D15: On-site damage. | E15: 10000 | F15: Off site | G15: Company issue | H15: Small community | I15: D | Q15: Risico's aantoonbaar met een bewezen factor 10-100 terugbrengen tot "gele zone"
B16: Serious impact on public health, life threatening illness | C16: Fatalities. | D16: Off-site damage. Long term effect. | E16: 10000 | F16: Society threat | G16: Political issue | H16: Large community | I16: E | Q16: Onaaceptabel risico; herontwerp noodzakelijk.
B18: Conclusie:
B19: Met de risicomatrix zoals weergegeven, komt het risico in kostenweergave in alle situties overeen met het risico in kleurweergave.
B20: De kleurweergave is daarbij aangepast, waarbij de categorie > 125 met de hoogste consequenties nu geel is geworden (= vermijden indien haalbaar).
B21: Het argument waarom een serious impact met laagste frequentie, geel mag zijn, is dat dit reasonable worst case niet voorkomt tijdens de levensduur van de installatie.
B22: Uitgangspunt is dat de installatie veilig is ontworpen, dus dat vanuit het ontwerp aan veiligheidsniveau met kans op fataal incident < 10-5 jr-1 wordt voldaan.
B23: De schijnbare discrepantie tussen TTF en faalkans is gelegen in het feit dat de faalkans verondersteld wordt aanwezig te zijn binnen de aangegeven TTF periode.
B24: (Denk aan faalkans van accu is 10-4 binnen de levensduur van een accu cq TTF van 4 jaar).
B25: De faalkans is daarbij leidend aangezien op het moment van verwacht falen de faalkans toeneemt tot 1, wat gangbaar wordt voorkomen door reparatie / vervanging.
A26: Toelichting op dit werkblad:
A27: Dit werkblad bevat een aangepaste versie van de risicomatrix vanuit de NEN-EN 16991. Deze opzet is door de werkgroep CUI gevalideerd (bijeenkomst van 8Maart19).

Sheet Instellingen
A1: Dit tabblad bevat de instellingen die als default waarden worden toegepast om risico's en de mate van risicoreductie te bepalen die in het tabblad [Installatie] worden berekend en toegepast.
B2: Uitwerking door WCM werkgroep NDT Effectiviteit. | C2: Techniek: (Details zie API 581 Annex 2-C) | N2: Update 13 November 2019. | T2: Isolatie materialen: | U2: Stimulatiefactor; effect op corrosiegedrag:
B3: Werkwijze: | C3: 1) Visuele inspectie met uitpakken. | O3: =C3 -> 1) Visuele inspectie met uitpakken. | T3: Calcium silicate | U3: 5 | V3: De weergegeven factoren zijn "engineering estimates". Deze bevatten correcties voor mogelijke vertekening door aanwezige beperkingen in literatuur referenties.
B4: Een techniek heeft een bepaalde kans om schade te detecteren. Na beoordeling volgt, als daar aanleiding voor is, een 2-de beoordeling waarbij middels wanddiktemetingen de toestand wordt beoordeeld. De betrouwbaarheid van die (follow-up)beoordeling wordt hier niet meegenomen aangezien in dát geval de isolatie lokaal al is verwijderd; de effectiviteit om "door de isolatie heen te kijken" is dan al niet meer aan de orde. | D4: 2) On stream RT (Film) | O4: =D4 -> 2) On stream RT (Film) | T4: Expanded perlite | U4: Geen data beschikbaar.
E5: 3) On streamRT (digitaal) | O5: =E5 -> 3) On streamRT (digitaal) | T5: Pyrogel XT | U5: 3
F6: 4) Profile radiografie | O6: =F6 -> 4) Profile radiografie | T6: Cellular glass | U6: 3
G7: 5) Guided Waves / Long Range UT | O7: =G7 -> 5) Guided Waves / Long Range UT | T7: WRG mineral wool | U7: 4
H8: 6) PEC / PEC Array | O8: =H8 -> 6) PEC / PEC Array | T8: Mineral wool | U8: 5
I9: 7) In-line inspection (intelligent pigging) | O9: =I9 -> 7) In-line inspection (intelligent pigging) | T9: Pyrogel XT over mineral wool | U9: 3
J10: 8) Ultrasone wanddikte meting | O10: =J10 -> 8) Ultrasone wanddikte meting | U10: 1= inhibiterend ; 5 = stimulerend.
K11: 9) UT C-scan mapping | O11: =K11 -> 9) UT C-scan mapping | U11: Opties: | V11: Exp. Corr. Damage.
L12: 10) Thermografie | O12: =L12 -> 10) Thermografie | T12: Stimulatie factoren en effecten. | U12: 1 | V12: 0.1
M13: 11) Neuron Backscatter (tbv vochtdetectie) | O13: =M13 -> 11) Neuron Backscatter (tbv vochtdetectie) | U13: 2 | V13: 0.25
B14: Typical: | N14: Opmerking (mbt typical voor techniek): | P14: Referentie tabel: | U14: 3 | V14: 0.5
B15: Aftakkingen op leidingen > DN250 en op vatwanden | C15: A | D15: B | E15: B | F15: B | G15: C | H15: C | I15: B | J15: A | K15: B | L15: D | M15: D | P15: Eff. klasse: | Q15: Red.factor: | R15: Dekking: | U15: 4 | V15: 0.75
B16: Aftakkingen op leidingen ≤ DN250 | C16: A | D16: A | E16: A | F16: B | G16: C | H16: C | I16: B | J16: A | K16: A | L16: D | M16: D | P16: A | Q16: 0.99 | R16: 1 | U16: 5 | V16: 1
B17: Brandwerende bekleding in het algemeen | C17: A | D17: A | E17: A | F17: B | G17: D | H17: B | I17: E | J17: E | K17: A | L17: E | M17: D | P17: B | Q17: 0.9 | R17: 0.65 | T17: Deze tabel is ingevuld op basis van een eigen interpretatie van de in de bron gerapporteerde resulaten.
B18: Oplegging/Ondersteuning (*) | C18: D | D18: B | E18: A | F18: C | G18: C | H18: E | I18: A | J18: E | K18: E | L18: D | M18: E | P18: C | Q18: 0.7 | R18: 0.35
B19: Rechte leidingen > DN250 en vatwanden | C19: A | D19: B | E19: B | F19: B | G19: A | H19: B | I19: A | J19: A | K19: A | L19: C | M19: D | N19: 1): middels corrosieproduct op support (verondersteld Ó) | P19: D | Q19: 0.3 | R19: 0.05
B20: Rechte leidingen ≤ DN250 | C20: A | D20: A | E20: A | F20: A | G20: A | H20: B | I20: A | J20: A | K20: A | L20: C | M20: D | P20: E | Q20: 0
B21: (*): de waardering is sterk afhankelijk van het type support | C21: Opmerking (m.b.t. techniek in relatie tot typical(s))
B22: Faalcriterium: | M22: Score betreft SCHADE-detectie. Effectiviteitsscore voor vochtdetectie (!preventief!) ntb.
B23: Het behalen van de minimaal toelaatbare wanddikte, waardoor een kans op perforatie en mogelijk een catastrofale breuk ontstaat. | L23: Betreft schade-detectie. Effectiviteitsscore voor vochtdetectie nader te bepalen (ntb). | Q23: Nat-droog risicomatrix | S23: Wisselingen nat-droog (/jr.) >= | T23: -273 | U23: -4 | V23: 10 | W23: 50 | X23: 80 | Y23: 120 | Z23: 175
B24: Afhankelijk van het soort van proces, variëren dan de gevolgen. | Q24: C-staal | S24: 0 | T24: 0 | U24: 0.3 | V24: 0.1 | W24: 0.3 | X24: 0.3 | Y24: 0.1 | Z24: 0
B25: In hoeverre de met een techniek te behalen risicoreductie van voldoende is, zal in de specifieke bedrijfssituatie dan bekeken moeten worden. | S25: 10 | T25: 0 | U25: 0.3 | V25: 0.3 | W25: 0.3 | X25: 0.5 | Y25: 0.3 | Z25: 0
B26: Uitgangspunten qua dekking: | S26: 100 | T26: 0 | U26: 0.5 | V26: 0.3 | W26: 0.5 | X26: 0.7 | Y26: 0.3 | Z26: 0
B27: Voor de dekking van het oppervlak bij toepassing van een techniek, wordt uitgegaan van 100% visuele inspectie ter bepaling van "hot spots"(risicoplaatsen), met daarnaast in geval van de volgende effectiviteits categorieën: Het volgende percentage dekking van de hot-spots: Cat.A: 100%; B: >65%; C: >35%; D: > 5%.
Q28: Zout risicomatrix | S28: [Zout] | T28: -273 | U28: -4 | V28: 10 | W28: 50 | X28: 80 | Y28: 120 | Z28: 175
F29: DDR = "Direct Digital Recording", dus met inzet digitale techniek. | R29: C1-2 | S29: Low | T29: 0 | U29: 0.1 | V29: 0 | W29: 0.1 | X29: 0.1 | Y29: 0 | Z29: 0
E30: C is "Contour", dus met inzet van een scan rondom. | R30: C3 | S30: Middle | T30: 0 | U30: 0.1 | V30: 0.1 | W30: 0.1 | X30: 0.2 | Y30: 0.1 | Z30: 0
D31: RT is "Radiographic Technique", dus met gebruik van een stralingsbron. | R31: C4-C5-CX | S31: High | T31: 0 | U31: 0.2 | V31: 0.1 | W31: 0.2 | X31: 0.3 | Y31: 0.1 | Z31: 0
C32: ?? "met of zonder uitpakken"; maakt toch een groot verschil?
B33: Tabel: NDT Effectiviteit. | Q33: RVS_Corrosie | S33: -273 | T33: 40 | U33: Dit betreft de toepassing in de situatie met RVS 304, 316, 304L en 316L. Voor andere materialen is dit per materiaalsoort vast te stellen.
Q34: RVS (304/316 )(L) | S34: 0 | T34: SAO
R36: Uitwerking door WCM werkgroep coatings. | W36: Referentie levensduur van coatings: | X36: 20 | Y36: TSA levensduur verlenging: | Z36: =35/20 -> 1.75
R37: Optie #: | S37: Product | T37: Effect | U37: Ontwerp | V37: Effect | W37: Proces&mens+uitvoering | X37: Effect | Y37: Isolatie | Z37: Effect
B38: Tabel coating beschermingsduur: zoals toegepast in het tabblad [Installatie]. Voor details zie het spreadsheet [ToolBP_CUIManagement(Datum).xlsx]. ð ð | R38: 1 | S38: Getest (= voldoende tolerant)* en >10 jaar ervaring | T38: 0.05 | U38: Conserveerbaarheid object conform ISO 12944-3 en getoetst door coatingsdeskundige. | V38: 0.05 | W38: 100% doordacht en haalbaar proces. Getoetst door coatingsdeskundige | X38: 0.1 | Y38: Complete uitvoering en voldoende onderhoud | Z38: 0.1
U39: Bereikbaarheid, toegankelijkheid is zodanig dat optimaal kan worden geconserveerd | W39: Goed plan; voldoende expertise
R40: 2 | S40: Volledig getest en geen langdurige ervaring | T40: 0.3 | U40: Conserveerbaarheid is op 50% van het object moeilijk Bijv. Liften bij oplegpunten. | V40: 0.75 | W40: Goed plan; onvoldoende expertise | X40: 0.5 | Y40: Voldoende uitvoering en onvoldoende onderhoud | Z40: 0,9 (oude generatie coatings)
U41: Plaatselijk niet te raken. | Z41: 0,5 ?(huidige generatie)
R42: 3 | S42: Onvolledig getest maar geen ervaring | T42: 0.5 | U42: Conserveerbaarheid is op >80% van het object moeilijk | V42: 0.9 | W42: Onvoldoende plan; voldoende expertise | X42: 0.25 | Y42: Onvoldoende uitvoering, voldoende onderhoud | Z42: 0.25
S43: Nieuwe systemen | U43: Bijv. Liften bij oplegpunten.
U44: Plaatselijk niet te raken.
R45: 4 | W45: Onvoldoende plan; onvoldoende expertise | X45: 0.9 | Y45: Onvoldoende uitvoering, onvoldoende onderhoud | Z45: 0.9
N46: Tabel: Coating beschermingsduur.
