Workbook
Name Accessitibility: 'NDT Effectiviteit'!$C$41
Name ColdIsolCosts: 'Input and Output'!$J$36
Name HotIsolCosts: 'Input and Output'!$J$31
Name NDT_Kosten: 'NDT Effectiviteit'!$O$2:$O$12
Name NDT_Technieken: 'NDT Effectiviteit'!$P$2:$P$12
Name NDTEff: 'NDT Effectiviteit'!$D$47:$F$51
Name NDTEffRatings: 'NDT Effectiviteit'!$C$14:$M$19
Name RemLifeTimDef: 'Estimation formulae'!$C$8
Name RemYrsOfUse: 'Life cycle costing'!$D$10
Name Risk_MOTBF: '[1]NEN-EN 16991'!$AB$3:$AF$7
Name ScrInspIntDef: 'Estimation formulae'!$C$6
Name Sensitivity: 'NDT Effectiviteit'!$C$40
Name Typicals: 'NDT Effectiviteit'!$B$14:$B$19
Name VisInspIntDef: 'Estimation formulae'!$C$5

Sheet Toelichting
G3: Tool die projectonderdelen Risk Based CUI Management integreert.
C4: World Class Maintenance. | F4: Tool: Kostenanalyse onderhoudsscenarios
C5: Project: | D5: Risk Based Corrosie Onder Isolatie Management.
C6: Dit werkblad bevat een kosten berekening voor bepaling van het kostentechnisch gunstigste manier om CUI te managen.
C7: De asset owner kan hiermee bepalen welke vorm van onderhoud of modificatie naar verwachting het meest kosteneffectief is.
C8: In deze uitwerking is gebruik gemaakt van een "default" (standaard) risk based aanpak, met behulp van "de RB-CUI management tool".
C9: De beschrijving van de gebruikte onderdelen om het risico vast te stellen, kan nagelezen worden in die tool.
C11: Dit hulpmiddel is ontwikkeld voor diegenen die (a) nog geen aanpak hebben of (b) de eigen aanpak tegen het licht willen houden.
C12: Deze tool heeft ook als functie om de praktijkgerichtheid van het WCM project-eindresultaat te toetsen.
C13: Het daarbij gehanteerde motto is: "een expliciet beslisproces is in een beslismodel te vatten".
C15: Gebruikte kleur codering: (standaard vlgs Microsoft Excel):
C16: Invoer van gegevens (input): | D16: Input
C17: Resultaat van invoer (output): | D17: Output
C19: In deze tool worden de volgende hulpmiddelen aangereikt:
C20: • Kostenoverzicht bij keuze van scenario's per leidingsysteem. Tab: [Scenario's]
C21: • Uitwerking van de kosten per scenario. Tab: [Life cycle costing]
C22: • Lijst met algemene basisgegevens waar in de bereking mee is gewerkt. Tab: [Estimation formulae]
C23: In de berekeningen is uitgegaan van één standaard leidinglengte als basis voor de kostenberekening.
C24: Die berekening vormt een eenheidsmaat, waarmee voor andere lengtes naar rato de kosten worden berekend.
C25: Efficiency voordelen bij grotere volumes zitten daar niet in (kunnen desgewenst in cel [Scenario's].[C5] worden verwerkt)
C26: Op basis van de kostenanalyse, is per leidingsysteem een keuze op basis van risico's en kosten mogelijk.
C27: Daarmee is de asset owner in staat voor de totale asset een onderbouwde afweging te maken.
C29: Ontwikkelingen:
C30: Op termijn wordt voorzien dat het aantal scenario's uitgebreid kan worden met verschillende toegepaste technieken.
C31: Ook is dan meer nuance in te brengen door middel van het aanwezige risiconiveau op basis van de degradatietrend per leiding.
... C33: Doordat deze ontwikkelingen nu nog geen "bewezen praktijk" vormen zijn die nu nog niet meegenomen in deze best practise.
F34: Uitwerking: Casper Wassink; werkgroep NDT Effectiviteit.

Sheet Scenario's
A1: Op dit sheet wordt uitgerekend wat de totale kosten zijn van het omgaan met corrosie onder isolatie volgens een bepaald programma.
B3: Onderhoudsscenario: | C3: Stralen en schilderen
B4: Lengte leiding: | C4: 2500 | D4: Scenario's: (totale kosten over restlevensduur)
B5: Kosten: | C5: =(C4/100)*INDEX('Life cycle costing'!A17:$F$81,(MATCH(C3,'Life cycle costing'!$A$17:$A$81,0)+VLOOKUP(C3,'Life cycle costing'!$A$17:$F$81,6,FALSE)),6) -> 2796000 | D5: Stralen en schilderen | E5: Screening met vervolgaktie | F5: Storing en reparatie | G5: Upgraden waarmee CUI wordt uitgesloten | H5: Maatwerk met (specifieke NDO techniek; herisolatie/steigerbouw) voor specifiek probleem | I5: Scenario keuze: | J5: Kosten:
B6: 2" systeem | C6: 300 | D6: 335520 | E6: 176280 | F6: 600000 | G6: 178740 | H6: 522929.07 | I6: Screening met vervolgaktie | J6: =IFERROR(INDEX($D$6:$H$17,ROW()-ROW($J$5),MATCH(I6,$D$5:$H$5,0)),"") -> 176280
B7: 4"productleidingen | C7: 100 | D7: 111840 | E7: 58760 | F7: 200000 | G7: 59580 | H7: 174309.69 | I7: Upgraden waarmee CUI wordt uitgesloten | J7: =IFERROR(INDEX($D$6:$H$17,ROW()-ROW($J$5),MATCH(I7,$D$5:$H$5,0)),"") -> 59580
B8: 6" transportleiding | C8: 1000 | D8: 1118400 | E8: 587600 | F8: 2000000 | G8: 595800 | H8: 1743096.9 | I8: Stralen en schilderen | J8: =IFERROR(INDEX($D$6:$H$17,ROW()-ROW($J$5),MATCH(I8,$D$5:$H$5,0)),"") -> 1118400
B9: Leiding: 4" bypassleiding | C9: 3000 | D9: 3355200 | E9: 1762800 | F9: 6000000 | G9: 1787400 | H9: 5229290.7 | I9: Screening met vervolgaktie | J9: =IFERROR(INDEX($D$6:$H$17,ROW()-ROW($J$5),MATCH(I9,$D$5:$H$5,0)),"") -> 1762800
B10: 6" stoomleiding | C10: 10000 | D10: 11184000 | E10: 5876000 | F10: 20000000 | G10: 5958000 | H10: 17430969 | I10: Screening met vervolgaktie | J10: =IFERROR(INDEX($D$6:$H$17,ROW()-ROW($J$5),MATCH(I10,$D$5:$H$5,0)),"") -> 5876000
B11: 10" recycle gas systeem | C11: 2500 | D11: 2796000 | E11: 1469000 | F11: 5000000 | G11: 1489500 | H11: 4357742.2 | I11: Maatwerk met (specifieke NDO techniek; herisolatie/steigerbouw) voor specifiek probleem | J11: =IFERROR(INDEX($D$6:$H$17,ROW()-ROW($J$5),MATCH(I11,$D$5:$H$5,0)),"") -> 4357742.2
D12: 0 | E12: 0 | F12: 0 | G12: 0 | H12: 0 | J12: =IFERROR(INDEX($D$6:$H$17,ROW()-ROW($J$5),MATCH(I12,$D$5:$H$5,0)),"")
D13: 0 | E13: 0 | F13: 0 | G13: 0 | H13: 0 | J13: =IFERROR(INDEX($D$6:$H$17,ROW()-ROW($J$5),MATCH(I13,$D$5:$H$5,0)),"")
D14: 0 | E14: 0 | F14: 0 | G14: 0 | H14: 0 | J14: =IFERROR(INDEX($D$6:$H$17,ROW()-ROW($J$5),MATCH(I14,$D$5:$H$5,0)),"")
D15: 0 | E15: 0 | F15: 0 | G15: 0 | H15: 0 | J15: =IFERROR(INDEX($D$6:$H$17,ROW()-ROW($J$5),MATCH(I15,$D$5:$H$5,0)),"")
D16: 0 | E16: 0 | F16: 0 | G16: 0 | H16: 0 | J16: =IFERROR(INDEX($D$6:$H$17,ROW()-ROW($J$5),MATCH(I16,$D$5:$H$5,0)),"")
D17: 0 | E17: 0 | F17: 0 | G17: 0 | H17: 0 | J17: =IFERROR(INDEX($D$6:$H$17,ROW()-ROW($J$5),MATCH(I17,$D$5:$H$5,0)),"")
C18: Leiding lengtes boven deze regel. | I18: Totale instandhoudings kosten over de levensduur: | J18: =SUM($J$6:$J$17) -> 13350802
I19: Jaar-kosten: | J19: =J18/RemLifeTimDef -> 333770.06
B20: Werkwijze: vul in kolom C, in het grijs-roze gedeelte, de leidinglengtes in die van toepassing zijn bij de in kolom B ingevulde leiding(systemen). De daarbij behorende kosten, wanneer één van de vier scenario's wordt toegepast, zijn dan in de volgende kolommen weergegeven.
B21: Een totale raming kan dan gemaakt worden door per leiding het scenario te kiezen en in een optelsom te zetten. Zie voorbeeld hierboven in de rechter kolommen.

Sheet Life cycle costing
A1: Dit tab bevat een uitwerking van de kosten van diverse beheersscenario's. Deze kostenbeoordeling richt zich op de kosten over de resterende levensduur. De kosten en effecten van de toegepaste wijze van beheer komen in de totale kosten over de levensduur tot uiting. Dat is een beoordeling op basis van "life cycle costing". In dit spreadsheet zijn op bepaalde plaatsen keuze opties aanwezig. Door in een cel te gaan staan wordt toegelicht wat daarbij mogelijk is.
A3: Huidig risico niveau: | B3: Parameter
A4: Waarschijnlijkheids categorie (kans van zeer onwaarschijnlijk tot zeer waarschijnlijk; 1 t/m 5) | B4: Likelihood category | D4: 4 | E4: Uitgangspunt is dat er urgentie is vanwege aanwezig risico.
A5: Ernst categorie (A -verwaarloosbaar- t/m E -desastreus- oftewel Cat. 1 t/m Cat. 5) | B5: Severity category | D5: 4
D6: =10^D5 -> 10000
A7: Object beschrijving: | B7: Object description | D7: Pijpleidingen in een pijpenbrug | E7: Piping elevated in piperack
A8: Lengte (meter) | B8: Length (m) | D8: 100 | E8: << Vast gegeven.
A9: Één expansie loop (van 4 bochten) | B9: One expansion loop (4 bends)
A10: Het aantal jaren van verwacht gebruik (na heden) | B10: Years of remaining service | D10: 40 | E10: << Variabele
A11: Alléén CUI inspectie; géén CUPS inspectie (Corrosion Under Pipe Support) | B11: CUI inspection only: no CUPS inspection
A12: Corrosie snelheid (mm.jr) | B12: Corrosion rate (mm) | D12: 0.2
A13: Wanddikte (mm) | B13: Wall thickness (mm) | D13: 10
A14: Corrosie toeslag (mm) | B14: Corrosion allowance (mm) | D14: 2
A16: SCENARIO's: | C16: Opmerking | D16: Cost for one program | E16: Activity term | F16: Lifetime cost
A17: Stralen en schilderen | B17: Scenario delag and repaint | F17: =ROW(F28)-ROW() -> 11
A18: Coating iedere X jaar (Default = 20) | B18: Coating every 20 years | D18: 4000 | E18: 20 | F18: =D18*TRUNC($D$10/E18) -> 8000
A19: Pre-inspectie | B19: Pre-inspection | D19: 300 | E19: 5 | F19: =D19*TRUNC($D$10/E19) -> 2400
A20: Visuele inspectie iedere X jaar (Default = 10) | B20: Visual inspection every 10 years | D20: 320 | E20: 10 | F20: =D20*TRUNC(IF(ISBLANK($D$10),RemLifeTimDef,$D$10)/IF(ISBLANK(E20),VisInspIntDef,E20)) -> 1280
A21: 12x 4 Corrosie Monitoring Locaties (CML's) iedere X jaar (Default = 5) | B21: 12x4 CML's on bends every 5 years | D21: 720 | E21: 5 | F21: =D21*TRUNC($D$10/E21) -> 5760
A22: 5x4 CML's op rechte leidingdelen iedere X jaar (Default = 5) | B22: 5x4 CML's on straights every 5 years | D22: 300 | E22: 5 | F22: =D22*TRUNC($D$10/E22) -> 2400
A23: Steigerbouw, 100x 4 m³, 3 weken, 20 euro per m³ per week. | B23: Scaffolding 100x4 m³, 3 weken, 20 euro per m3 per week | D23: 18000 | E23: 10 | F23: =D23*TRUNC($D$10/E23) -> 72000
A24: Toegang naar CML's via 9 verstelbare platformen | B24: Accessibility for CML's 9 x moving platform | D24: 3400 | E24: 10 | F24: =D24*TRUNC($D$10/E24) -> 13600
A25: Schoonmaken en stralen | B25: Cleaning & blasting | D25: 1500 | E25: 10 | F25: =D25*TRUNC($D$10/E25) -> 6000
A26: Vervolg meting, schadediepte (put-meting) | B26: Follow-up 1 location (pit-gauge) | D26: 400 | E26: 40 | F26: =D26*TRUNC($D$10/E26) -> 400
A27: Uitgangspunt: Effect van scenario op de kans: van niveau 4 naar niveau 2 | B27: Impact of scenarion on likelyhood: from level 4 to level 2
A28: Som van de kosten over de levensduur (zonder kapitaallasten) | B28: Sum of cost over lifetime (without cost of capital) | F28: =SUM(F18:F26) -> 111840
B30: Scenario screening and follow-up | D30: Cost for one program; Kosten van één aktie: | E30: Activity term; Herhalings termijn: | F30: Lifetime cost; Kosten over de restlevensduur:
A31: Screening met vervolgaktie | F31: =ROW(F40)-ROW() -> 9 | AL31: Year 31 | AM31: Year 32 | AN31: Year 33 | AO31: Year 34 | AP31: Year 35 | AQ31: Year 36 | AR31: Year 37 | AS31: Year 38 | AT31: Year 39 | AU31: Year 40
A32: Voor-inspectie | B32: Pre-inspection | D32: 300 | E32: 5 | F32: =D32*TRUNC(IF(ISBLANK($D$10),RemLifeTimDef,$D$10)/IF(ISBLANK(E32),ScrInspIntDef,E32)) -> 2400 | AP32: 300 | AV32: =SUM(G32:AU32) -> 300
A33: Screening met NDO - Long Range UT (LRUT) | B33: Screening NDT LRUT | D33: =2400/2 -> 1200 | E33: 5 | F33: =D33*TRUNC(IF(ISBLANK($D$10),RemLifeTimDef,$D$10)/IF(ISBLANK(E33),ScrInspIntDef,E33)) -> 9600 | AP33: 1500 | AV33: =SUM(G33:AU33) -> 1500
A34: Kwalificatie van LRUT voor de toepassing (Default: éénmalig voor de restlevensduur) | B34: Qualification of LRUT for application | D34: 5000 | E34: 40 | F34: =D34*TRUNC(IF(ISBLANK($D$10),RemLifeTimDef,$D$10)/IF(ISBLANK(E34),RemLifeTimDef,E34)) -> 5000 | AV34: =SUM(G34:AU34) -> 0
A35: 4x12 CML's op bochten, iedere X jaar (Default= 5 jr). | B35: 4x12 CML's on bends every 5 years | D35: 720 | E35: 5 | F35: =D35*TRUNC(IF(ISBLANK($D$10),RemLifeTimDef,$D$10)/IF(ISBLANK(E35),ScrInspIntDef,E35)) -> 5760 | AP35: 720 | AV35: =SUM(G35:AU35) -> 720
A36: 5x4 CML's op rechte stukken, iedere X jaar (Default= 5 jr). | B36: 5x4 CML's on straights every 5 years | D36: 300 | E36: 5 | F36: =D36*TRUNC(IF(ISBLANK($D$10),RemLifeTimDef,$D$10)/IF(ISBLANK(E36),ScrInspIntDef,E36)) -> 2400 | AP36: 300 | AV36: =SUM(G36:AU36) -> 300
A37: Toegang naar CML's via 9 verstelbare platformen | B37: Accessibility for CML's 9 x moving platform | D37: 3400 | E37: 5 | F37: =D37*TRUNC(IF(ISBLANK($D$10),RemLifeTimDef,$D$10)/IF(ISBLANK(E37),ScrInspIntDef,E37)) -> 27200 | AP37: 3400 | AV37: =SUM(G37:AU37) -> 3400
A38: Vervolg meting(verplaatsbaar platform, schoonmaken, schadediepte (put-meting), profiel radiografie | B38: Follow-up 1 location (moving platform, cleaning, pit-gauge, profile RT) | D38: 800 | E38: 5 | F38: =D38*TRUNC(IF(ISBLANK($D$10),RemLifeTimDef,$D$10)/IF(ISBLANK(E38),ScrInspIntDef,E38)) -> 6400 | AV38: =SUM(G38:AU38) -> 0
A39: Uitgangspunt: Effect van scenario op de kans: van niveau 4 naar niveau 2 | B39: Impact of scenarion on likelyhood: from level 4 to level 2 | AV39: =SUM(AV32:AV38) -> 6220
A40: Som van de kosten over de levensduur (zonder kapitaallasten) | B40: Sum of cost over lifetime (without cost of capital) | F40: =SUM(F32:F39) -> 58760
A42: Storing en reparatie | B42: Scenarion Break and repair | F42: =ROW(F44)-ROW() -> 2
A43: CUI is doorgegaan tot het niveau van "niets doen" met kans op lekkage + reparatie + schade | B43: CUI developed to leak + repair + damages | D43: probability x consequence x years | AV43: 200000
A44: Veiligheid, derving, reparatie, grond vervuiling | B44: Safety, loss, repair, pollution of terrain. | D44: =CHOOSE(D4,10^-5,10^-4,10^-3,10^-2,1) -> 0.01 | E44: =10000000/20 -> 500000 | F44: =E44*D44*D10 -> 200000
...

Sheet Estimation formulae
A1: Basis gegevens voor de kostenschatting: | B1: Estimation formula's | G1: One time | H1: Per year (rounded for last term) | I1: Over life cycle
A2: Input: | B2: Input | E2: Resultaat | F2: Output | G2: Eenmalig | H2: Per jaar (afgerond voor de laatste termijn) | I2: Over de levensduur
A3: Kosten om toegang te verkrijgen voor visuele inspectie | B3: Cost of access visual inspection | C3: 18000 | E3: Kosten schatting voor visuele inspectie | F3: Estimate cost visual inspection program | G3: =C3*(1+C7) -> 22500 | H3: =C3*(1+C7)*TRUNC((C8)/C5) / C8 -> 2250 | I3: =H3*C8 -> 90000
A4: Kosten van toegang voor screening inspectie | B4: Cost of access screening inspection | C4: 3400 | E4: Kosten schatting voor een screening programma | F4: Estimate cost screening inspection program | G4: =C4 + (C3*C7) -> 7900 | H4: =(C4 + (C3*C7) )* TRUNC((C8)/C6) / C8 -> 1580 | I4: =H4*C8 -> 63200
A5: Inspectie termijn visuele insp. (default) | B5: Inspection term visual | C5: 10
A6: Inspectie termijn screening insp. (default) | B6: Inspection term screening | C6: 5 | E6: Toelichting: Deze gegevens dienen als uitgangspunt voor de kostenschatting.
A7: Kosten percentage van NDO tov het totale plan | B7: Cost percentage NDT in inspection plan | C7: 0.25 | E7: Met visuele inspectie wordt bedoeld: inspectie uitwendig onbekleed (dus isolatie verwijderd; steigers nodig)
A8: Restlevensduur | B8: Remaining life time | C8: 40 | E8: Met screening inspectie wordt bedoeld: inspectie mbt NDO techniek (géén steigerbouw nodig).

Sheet Referenties
B2: In deze tool is gebruik gemaakt van de volgende bronnen van informatie:
B3: Ref.#: | C3: Bron: | D3: Datum: | E3: Bestand: | F3: Opmerking:
B4: 1 | C4: TNO_Cost of Inspection Rev. 10 | D4: Nov. 2006. | E4: TNO_Cost of inspection rev 10.xls | F4: Betreft kosten berekening op basis van m² en verwerkingssnelheid in m²/dag. Gegevens zijn vergeleken met kosten ad 2019; blijken nog representatief te zijn.
B5: 2 | C5: TNO_Costs of Scaffolding and Insulation v4 | D5: Okt. 2006 | E5: TNO_Costs of Scaffolding and Insulation v4.xls | F5: Betreft kosten berekening op basis van m³ en gebruiksduur met m³ x aantal dagen. Bevat inflatiecorrectie. Gegevens zijn vergeleken met kosten ad 2019; blijken representatief te zijn met inflatie% = 8%.
B6: 3

Sheet NDT Effectiviteit
C1: Techniek: | N1: Update 13 November 2019. | O1: Kosten (Bronnen: zie Ref.):
B2: Werkwijze: | C2: 1) Visuele inspectie met uitpakken. | O2: =640/2 -> 320 | P2: =C2 -> 1) Visuele inspectie met uitpakken.
B3: Een techniek heeft een bepaalde kans om schade te detecteren. Na beoordeling volgt, als daar aanleiding voor is, een 2-de beoordeling waarbij middels wanddiktemetingen de toestand wordt beoordeeld. De betrouwbaarheid van die (follow-up)beoordeling wordt hier niet meegenomen aangezien in dát geval de isolatie lokaal al is verwijderd; de effectiviteit om "door de isolatie heen te kijken" is dan al niet meer aan de orde. | D3: 2) On stream RT (film) | O3: =600/2 -> 300 | P3: =D3 -> 2) On stream RT (film)
E4: 3) On stream RT (digitaal) | O4: =400/2 -> 200 | P4: =E4 -> 3) On stream RT (digitaal)
F5: 4) Profile radiografie | O5: =150/2 -> 75 | P5: =F5 -> 4) Profile radiografie
G6: 5) Guided Waves / Long Range UT | O6: =2400/2 -> 1200 | P6: =G6 -> 5) Guided Waves / Long Range UT
H7: 6) PEC / PEC Array | O7: =4000/2 -> 2000 | P7: =H7 -> 6) PEC / PEC Array
I8: 7) In-line inspection (intelligent pigging) | O8: =12000/2 -> 6000 | P8: =I8 -> 7) In-line inspection (intelligent pigging)
J9: 8) Ultrasone wanddikte meting | O9: =625/2 -> 312.5 | P9: =J9 -> 8) Ultrasone wanddikte meting
K10: 9) UT C-scan mapping | O10: =1133/2 -> 566.5 | P10: =K10 -> 9) UT C-scan mapping
L11: 10) Thermografie | O11: =64/2 -> 32 | P11: =L11 -> 10) Thermografie
M12: 11) Neutron Backscatter (tbv vochtdetectie) | O12: =1024/2 -> 512 | P12: =M12 -> 11) Neutron Backscatter (tbv vochtdetectie)
B13: Typical: | N13: Opmerking (mbt typical voor techniek): | O13: Bovenstaande kosten zijn gecorrigeerd naar 100 meter.
B14: Aftakkingen op leidingen > DN250 en op vatwanden | C14: A | D14: B | E14: B | F14: B | G14: C | H14: C | I14: B | J14: A | K14: B | L14: D | M14: D
B15: Aftakkingen op leidingen ≤ DN250 | C15: A | D15: A | E15: A | F15: B | G15: C | H15: C | I15: B | J15: A | K15: A | L15: D | M15: D
B16: Brandwerende bekleding in het algemeen | C16: A | D16: A | E16: A | F16: B | G16: D | H16: B | I16: E | J16: E | K16: A | L16: E | M16: D
B17: Oplegging/Ondersteuning (*) | C17: D | D17: B | E17: A | F17: C | G17: C | H17: E | I17: A | J17: E | K17: E | L17: D | M17: E
B18: Rechte leidingen > DN250 en vatwanden | C18: A | D18: B | E18: B | F18: B | G18: A | H18: B | I18: A | J18: A | K18: A | L18: C | M18: D | N18: 1): middels corrosieproduct op support (verondersteld Ó)
B19: Rechte leidingen ≤ DN250 | C19: A | D19: A | E19: A | F19: A | G19: A | H19: B | I19: A | J19: A | K19: A | L19: C | M19: D
B20: (*): de waardering is sterk afhankelijk van het type support | C20: Opmerking (m.b.t. techniek in relatie tot typical(s))
B21: Faalcriterium: | M21: Score betreft SCHADE-detectie. Effectiviteitsscore voor vochtdetectie (!preventief!) ntb.
B22: Het behalen van de minimaal toelaatbare wanddikte, waardoor een kans op perforatie en mogelijk een catastrofale breuk ontstaat. | L22: Betreft schade-detectie. Effectiviteitsscore voor vochtdetectie nader te bepalen (ntb).
B23: Afhankelijk van het soort van proces, variëren dan de gevolgen.
B24: In hoeverre de met een techniek te behalen risicoreductie van voldoende is, zal in de specifieke bedrijfssituatie dan bekeken moeten worden.
B25: Uitgangspunten qua dekking:
B26: Voor de dekking van het oppervlak bij toepassing van een techniek, wordt uitgegaan van 100% visuele inspectie ter bepaling van "hot spots"(risicoplaatsen), met daarnaast in geval van de volgende effectiviteits categorieën: Het volgende percentage dekking van de hot-spots: Cat.A: 100%; B: >65%; C: >35%; D: > 5%.
F28: DDR = "Direct Digital Recording", dus met inzet digitale techniek.
E29: C is "Contour", dus met inzet van een scan rondom.
D30: RT is "Radiographic Technique", dus met gebruik van een stralingsbron.
C31: ?? "met of zonder uitpakken"; maakt toch een groot verschil?
B34: Uitgangspunt:
B35: Op moment T is sprake van een dusdanig gebruiksduur, dat in de gegeven omstandigheden de conditie van de geïsoleerde component door corrosie dusdanig aangetast zou kunnen zijn, dat falen ophanden is danwel "normatief falen" als is opgetreden (er wordt niet meer aan de minimum wanddikte eis voldaan).
B36: Wat is dan de reductie in die PoF met een gehanteerde techniek?
B37: Typical: | C37: Aftakkingen op leidingen > DN250 en op vatwanden
B38: NDO Techniek: | C38: 1) Visuele inspectie met of zonder uitpakken.
B39: Reductiefactor voor de faalkans: | C39: =IFERROR(1-INDEX(NDTEff,FIND(INDEX(NDTEffRatings,MATCH(C37,Typicals,0),MATCH(C38,NDT_Technieken,0)),"ABCDE"),2),"?") -> ? | N39: >> Dit betreft één bemeten locatie.
B40: Mate van detectie gevoeligheid van NDO techniek: | C40: ='Life cycle costing'!D62 -> Hoog | F40: << Gevoeligheid zoals gesteld voor de betreffende techniek.
B41: Toegankelijkheids drempel (laag=Makkelijke toegang): | C41: ='Life cycle costing'!D63 -> Laag | F41: << Het gemak waarmee de te inspecteren locatie bereikt kan worden (op componentniveau).
B42: Toegepaste mate van dekking (% "hot spots") gemeten: | C42: 0.4 | N42: =IFERROR(IF(C42>=INDEX(NDTEff,FIND(INDEX(C14:M19,MATCH(C37,B14:B19,0),MATCH(C38,P2:P12,0)),"ABCDE"),3),">> OK",">> Dekking te laag"),"?") -> ?
B43: Kans op "niet goed" (er is een afwijking gevonden die niet reëel is): | N43: Aanname: afwijking is toelaatbaar (anders is die sowieso "niet goed")
...

Sheet Scheidingsblad
G3: Scheidings tab voor achterliggende kostenberekening.
C4: World Class Maintenance.
C5: Project: | D5: Risk Based Corrosie Onder Isolatie Management.
C6: Dit is een scheidingsblad naar gebruikte achterliggende informatie.
C7: Vanuit de tab's die hiervóór liggen, wordt naar de achterliggende tabs verwezen.
C8: In de achterliggende bladen is de referentie informatie vastgelegd waar gebruik van is gemaakt.
C9: Dit betreft alléén de casus bij gebruik van een maatwerk NDT aanpak.
C10: Die gegevens voor die aanpak zijn vastgelegd in het onderste deel van de tab [Scenario's].
F11: Uitwerking: Werkgroep NDT Effectiviteit.

Sheet Input and Output
B1: BEREKENING KOSTEN VAN STEIGERBOUW EN ISOLATIE (Warmte- of koude-isolatie).
B2: COSTS OF SCAFFOLDING
B4: INPUT | H4: OUTPUT
I6: Resulting floor area: | J6: =D8*D9 -> 32 | K6: m² | L6: (7)
C7: Height: | D7: ='Life cycle costing'!D71 -> 30 | E7: (meter) | F7: (1)(2)
C8: Length: | D8: ='Life cycle costing'!D72 -> 16 | E8: (meter) | F8: (1) | H8: 1. | I8: Costs: | J8: =INDEX('Source SCAFF 2004'!$B$5:$AK$34,'Input and Output'!$D$7,'Input and Output'!$J$6) -> 7035.4286 | K8: euro | L8: (8)
C9: Width: | D9: ='Life cycle costing'!D73 -> 2 | E9: (meter) | F9: (1) | H9: 2. | I9: Costs if job takes > 2 weeks: | J9: =IF(D10>2,SUM(INDEX('Source SCAFF 2004'!$B$5:$AK$34,'Input and Output'!$D$7,'Input and Output'!$J$6),(('Input and Output'!$D$10-2)*(INDEX('Source SCAFF 2004'!$B$40:$AK$69,'Input and Output'!$D$7,'Input and Output'!$J$6)))),"") | K9: euro | L9: (9)
C10: Total time of use: | D10: ='Life cycle costing'!D74 -> 2 | E10: (weeks) | F10: (1)(3) | H10: 3. | I10: Indexated costs: | J10: =IF(D10>2,(((1+D14/100)^(D13-D15))*J9),(((1+D14/100)^(D13-D15))*J8)) -> 16125.331 | K10: euro
C13: Current calendar year (4): | D13: =YEAR(NOW()) -> 2021
C14: Inflation rate (5): | D14: 5 | E14: per year.
C15: Year of source data (6): | D15: 2004
B17: (1): Specify in rounded numbers | H17: (7): The resulting floor area should not exceed 36 m²
B18: (2): Specify in the range 1 - 30 meter | H18: (8): These costs refer to jobs taking less than 2 weeks
B19: (3): Specify to account for extra renting costs if duration > 2 weeks | H19: (9): These costs refer to jobs taking more than 2 weeks
B20: (4): Specify to take account of inflation
B21: (5): Average inflation rate since the year of source data (6)
B22: (6): This is the year to which the source data are related.
B25: COSTS OF INSULATION
B27: INPUT | H27: OUTPUT
B28: HOT INSULATION: | H28: HOT INSULATION:
C29: If not applicable, then set Length= 0 meter
C30: Diameter: | D30: 150 | E30: mm. | F30: (1) | H30: 1. | I30: Costs: | J30: =IF(D31=0,"",(INDEX('Source INSU 2002'!$C$11:$W$35,'Source INSU 2002'!$I$5,'Source INSU 2002'!$I$6))*D31) -> 317.64615 | K30: euro
C31: Length: | D31: 5 | E31: (meter) | F31: (2) | H31: 2. | I31: Indexated costs: | J31: =IF(D31=0,"",((1+D39/100)^(D38-D40))*J30) -> 802.676 | K31: euro
C32: Thickness insulation: | D32: ='Life cycle costing'!D79 -> 40 | E32: mm. | F32: (3)
B33: COLD INSULATION: | H33: COLD INSULATION:
C34: If not applicable, then set Length= 0 meter
C35: Diameter: | D35: =D30 -> 150 | E35: mm. | F35: (4) | H35: 1. | I35: Costs: | J35: =IF(D36=0,"",(INDEX('Source INSU 2002'!$C$46:$L$64,'Source INSU 2002'!$I$40,'Source INSU 2002'!$I$41))*D36) -> 748.73736 | K35: euro
C36: Length: | D36: =D31 -> 5 | E36: (meter) | F36: (2) | H36: 2. | I36: Indexated costs: | J36: =IF(D36=0,"",((1+D39/100)^(D38-D40))*J35) -> 1892.022 | K36: euro
C37: Thickness insulation: | D37: =D32 -> 40 | E37: mm. | F37: (5)
C38: Current calendar year (6): | D38: =D13 -> 2021
C39: Inflation rate (7): | D39: 5 | E39: per year.
C40: Year of source data (8): | D40: 2002
B42: (1): Specify in the range 10 - 900 mm
B43: (2): Specify in rounded numbers
B44: (3): Specify in the range 30 - 280 mm. with 10 mm. intervals
B45: (4): Specify in the range 20 - 600 mm
B46: (5): Specify in the range 25 - 150 mm
B47: (6): Specify to take account of inflation
B48: (7): Average inflation rate since the year of source data (6)
B49: (8): This is the year to which the source data are related.

Sheet Source INSU 2002
A1: PRICES INSULATION WORK IN EURO | I1: BASE PRICE PER METER PIPING
I2: Supply and mounting of new insulation (with Aluminum sheeting for warm insulation)
B4: HOT INSULATION:
C5: Search value Diameter | D5: 500 | E5: and resulting row number: | I5: =MATCH(D5,B11:B35) -> 19
C6: Search value Thickness | D6: 70 | E6: and resulting column number: | I6: =MATCH(D6,C10:W10) -> 5
C7: Resulting price: | D7: =INDEX($C$11:$W$35,I5,I6) -> 63.52923
C9: THICKNESS
B10: DIAM | C10: 30 | D10: 40 | E10: 50 | F10: 60 | G10: 70 | H10: 80 | I10: 100 | J10: 120 | K10: 130 | L10: 140 | M10: 150 | N10: 180 | O10: 190 | P10: 200 | Q10: 220 | R10: 230 | S10: 240 | T10: 250 | U10: 260 | V10: 270 | W10: 280
B11: 10 | C11: 12.705846 | D11: 14.974747 | E11: 16.336088 | F11: 18.604989 | G11: 21.32767 | H11: 23.142791 | I11: 27.226813 | J11: 32.672176
B12: 15 | C12: 13.159626 | D12: 15.428527 | E12: 16.789868 | F12: 19.058769 | G12: 21.32767 | H12: 23.142791 | I12: 27.680593 | J12: 33.125956 | K12: 37.663758
B13: 20 | C13: 13.613406 | D13: 15.428527 | E13: 17.243648 | F13: 19.512549 | G13: 21.78145 | H13: 23.596571 | I13: 28.134373 | J13: 33.579736 | K13: 39.025099 | L13: 40.840219
B14: 25 | C14: 14.067187 | D14: 15.882308 | E14: 17.243648 | F14: 19.96633 | G14: 22.235231 | H14: 24.050351 | I14: 29.041934 | J14: 34.487296 | K14: 40.386439 | L14: 43.109121 | M14: 45.831802
B15: 40 | C15: 15.428527 | D15: 16.789868 | E15: 18.151209 | F15: 21.32767 | G15: 24.050351 | H15: 25.865472 | I15: 30.403274 | J15: 35.394857 | K15: 41.74778 | L15: 43.562901 | M15: 47.193142 | N15: 49.008263
B16: 50 | C16: 16.336088 | D16: 17.243648 | E16: 19.512549 | F16: 22.689011 | G16: 25.411692 | H16: 27.226813 | I16: 31.764615 | J16: 36.756198 | K16: 43.562901 | L16: 48.100703 | M16: 52.184725 | N16: 53.546065 | O16: 57.176307
B17: 65 | C17: 17.243648 | D17: 18.151209 | E17: 19.96633 | F17: 23.142791 | G17: 25.865472 | H17: 28.134373 | I17: 32.218395 | J17: 37.663758 | K17: 44.470461 | L17: 49.008263 | M17: 53.546065 | N17: 55.361186 | O17: 58.991428 | P17: 62.16789
B18: 70 | C18: 17.243648 | D18: 19.058769 | E18: 20.42011 | F18: 23.596571 | G18: 26.319253 | H18: 28.588154 | I18: 33.125956 | J18: 38.117538 | K18: 45.378022 | L18: 50.369604 | M18: 53.999846 | N18: 56.722527 | O18: 61.714109 | P18: 64.436791 | Q18: 66.705692
B19: 80 | C19: 18.151209 | D19: 19.96633 | E19: 21.78145 | F19: 24.504132 | G19: 27.226813 | H19: 29.495714 | I19: 34.487296 | J19: 38.117538 | K19: 45.831802 | L19: 51.277164 | M19: 54.907406 | N19: 58.537648 | O19: 64.436791 | P19: 66.705692 | Q19: 69.882153 | R19: 73.058615
B20: 100 | C20: 20.42011 | D20: 21.32767 | E20: 24.050351 | F20: 26.319253 | G20: 29.041934 | H20: 31.310835 | I20: 36.756198 | J20: 42.65534 | K20: 48.554483 | L20: 54.453626 | M20: 57.630087 | N20: 61.714109 | O20: 69.428373 | P20: 72.604835 | Q20: 75.781296 | R20: 77.596417 | S20: 81.680439
B21: 125 | C21: 21.32767 | D21: 23.142791 | E21: 25.865472 | F21: 28.588154 | G21: 31.310835 | H21: 33.579736 | I21: 39.478879 | J21: 45.378022 | K21: 51.277164 | L21: 57.176307 | M21: 60.806549 | N21: 64.890571 | O21: 72.604835 | P21: 75.327516 | Q21: 78.503977 | R21: 82.134219 | S21: 87.125801 | T21: 95.293845
B22: 150 | C22: 22.689011 | D22: 24.957912 | E22: 27.680593 | F22: 30.403274 | G22: 33.579736 | H22: 35.848637 | I22: 42.20156 | J22: 48.100703 | K22: 54.453626 | L22: 60.352769 | M22: 63.98301 | N22: 68.067032 | O22: 76.235076 | P22: 78.050197 | Q22: 83.04178 | R22: 86.672021 | S22: 92.117384 | T22: 100.28543 | U22: 108.90725
B23: 200 | C23: 27.226813 | D23: 28.588154 | E23: 30.403274 | F23: 34.033516 | G23: 38.117538 | H23: 40.386439 | I23: 46.739362 | J23: 53.546065 | K23: 56.268747 | L23: 66.251912 | M23: 70.335933 | N23: 74.873736 | O23: 79.411538 | P23: 84.8569 | Q23: 87.579582 | R23: 90.302263 | S23: 97.562746 | T23: 105.27701 | U23: 117.0753 | V23: 123.42822
B24: 250 | C24: 29.495714 | D24: 32.218395 | E24: 34.487296 | F24: 39.025099 | G24: 42.20156 | H24: 44.470461 | I24: 52.184725 | J24: 58.991428 | K24: 61.714109 | L24: 72.604835 | M24: 77.142637 | N24: 81.680439 | O24: 86.672021 | P24: 92.117384 | Q24: 97.108966 | R24: 103.46189 | S24: 110.26859 | T24: 117.52908 | U24: 124.78956 | V24: 132.9576 | W24: 141.57943
B25: 300 | C25: 33.579736 | D25: 34.941077 | E25: 37.663758 | F25: 42.20156 | G25: 46.285582 | H25: 49.008263 | I25: 56.722527 | J25: 63.98301 | K25: 66.705692 | L25: 78.957758 | M25: 83.94934 | N25: 90.756043 | O25: 93.932505 | P25: 97.562746 | Q25: 104.36945 | R25: 111.17615 | S25: 118.43664 | T25: 126.1509 | U25: 134.31894 | V25: 142.94077 | W25: 152.47015
B26: 350 | D26: 37.663758 | E26: 41.294 | F26: 45.378022 | G26: 49.462044 | H26: 52.638505 | I26: 60.352769 | J26: 68.067032 | K26: 70.335933 | L26: 83.49556 | M26: 88.487142 | N26: 96.655186 | O26: 103.00811 | P26: 106.18457 | Q26: 113.44505 | R26: 120.25176 | S26: 128.4198 | T26: 136.58785 | U26: 145.20967 | V26: 155.19283 | W26: 165.62978
B27: 400 | D27: 41.74778 | E27: 45.378022 | F27: 49.915824 | G27: 54.453626 | H27: 57.630087 | I27: 65.344351 | J27: 73.512395 | K27: 75.327516 | L27: 89.848483 | M27: 97.108966 | N27: 102.10055 | O27: 107.99969 | P27: 113.44505 | Q27: 120.70554 | R27: 128.87358 | S27: 134.77272 | T27: 142.94077 | U27: 152.47015 | V27: 162.45332 | W27: 172.89026
B28: 450 | D28: 45.378022 | E28: 49.462044 | F28: 53.999846 | G28: 58.991428 | H28: 62.62167 | I28: 70.789714 | J28: 78.957758 | K28: 81.680439 | L28: 96.201406 | M28: 101.64677 | N28: 112.53749 | O28: 118.43664 | P28: 124.33578 | Q28: 127.05846 | R28: 135.68028 | S28: 142.48699 | T28: 151.56259 | U28: 161.54576 | V28: 171.52892 | W28: 182.87343
B29: 500 | D29: 49.008263 | E29: 53.546065 | F29: 58.537648 | G29: 63.52923 | H29: 67.613252 | I29: 75.781296 | J29: 84.40312 | K29: 87.125801 | L29: 102.55433 | M29: 108.90725 | N29: 117.98286 | O29: 128.87358 | P29: 137.94919 | Q29: 143.84833 | R29: 152.92393 | S29: 163.36088 | T29: 173.79782 | U29: 185.14233 | V29: 197.39439 | W29: 210.10024
B30: 550 | D30: 53.092285 | E30: 57.630087 | F30: 62.62167 | G30: 68.067032 | H30: 72.604835 | I30: 80.772878 | J30: 89.394703 | K30: 97.108966 | L30: 113.89883 | M30: 120.70554 | N30: 131.59626 | O30: 142.48699 | P30: 151.56259 | Q30: 157.00795 | R30: 166.99112 | S30: 176.97428 | T30: 188.31879 | U30: 202.38598 | V30: 213.2767 | W30: 226.43633
B31: 600 | D31: 57.176307 | E31: 61.714109 | F31: 67.159472 | G31: 72.604835 | H31: 77.142637 | I31: 85.764461 | J31: 94.840065 | K31: 102.55433 | L31: 125.24334 | M31: 132.50382 | N31: 146.57101 | O31: 156.10039 | P31: 164.26844 | Q31: 168.80624 | R31: 179.24319 | S31: 191.04147 | T31: 203.29354 | U31: 216.45316 | V31: 230.06657 | W31: 245.04132
B32: 700 | E32: 69.882153 | F32: 76.235076 | G32: 81.680439 | H32: 86.218241 | I32: 95.747626 | J32: 105.73079 | K32: 113.44505 | L32: 138.85675 | M32: 147.93235 | N32: 164.72222 | O32: 176.06672 | P32: 186.04989 | Q32: 191.49525 | R32: 203.74732 | S32: 217.36072 | T32: 230.52035 | U32: 245.4951 | V32: 260.92362 | W32: 277.71349
B33: 750 | E33: 73.966175 | F33: 80.772878 | G33: 86.218241 | H33: 90.756043 | I33: 100.73921 | J33: 111.17615 | K33: 118.89042 | L33: 145.66345 | M33: 155.64661 | N33: 173.79782 | O33: 186.04989 | P33: 196.94061 | Q33: 202.83976 | R33: 215.99938 | S33: 230.52035 | T33: 244.13376 | U33: 260.01606 | V33: 280.88995 | W33: 294.04958
B34: 800 | E34: 78.050197 | F34: 89.848483 | G34: 90.756043 | H34: 95.293845 | I34: 105.73079 | J34: 116.16774 | K34: 124.33578 | L34: 152.47015 | M34: 163.36088 | N34: 182.87343 | O34: 196.03305 | P34: 207.83134 | Q34: 214.18426 | R34: 228.25145 | S34: 243.67998 | T34: 257.74716 | U34: 279.07483 | V34: 296.31848 | W34: 310.38567
B35: 900 | E35: 86.218241 | F35: 94.386285 | G35: 99.831648 | H35: 104.36945 | I35: 115.71396 | J35: 127.05846 | K35: 135.2265 | L35: 166.08356 | M35: 178.78941 | N35: 201.02464 | O35: 214.18426 | P35: 229.61279 | Q35: 236.87327 | R35: 252.75558 | S35: 269.99923 | T35: 284.06642 | U35: 308.11677 | V35: 327.17554 | W35: 343.05784
B39: COLD INSULATION:
C40: Search value Diameter | D40: 250 | E40: and resulting row number: | I40: =MATCH(D40,B46:B64) -> 12
C41: Search value Thickness | D41: 140 | E41: and resulting column number: | I41: =MATCH(D41,C45:L45) -> 9
C42: Resulting price: | D42: =INDEX($C$46:$L$64,I40,I41) -> 149.74747
C44: THICKNESS
B45: DIAM | C45: 25 | D45: 40 | E45: 50 | F45: 65 | G45: 75 | H45: 100 | I45: 115 | J45: 125 | K45: 140 | L45: 150
B46: 20 | C46: 15.882308 | D46: 21.78145 | E46: 25.865472
...

Sheet Source SCAFF 2004
A1: PRICES SCAFFOLDING IN EURO | H1: BASE PRICE INCLUDING 2 WEEKS RENT | AI1: Datum | AJ1: 20-04-2004
A3: HEIGHT | D3: FLOOR AREA IN M2
A4: M | B4: 1 | C4: 2 | D4: 3 | E4: 4 | F4: 5 | G4: 6 | H4: 7 | I4: 8 | J4: 9 | K4: 10 | L4: 11 | M4: 12 | N4: 13 | O4: 14 | P4: 15 | Q4: 16 | R4: 17 | S4: 18 | T4: 19 | U4: 20 | V4: 21 | W4: 22 | X4: 23 | Y4: 24 | Z4: 25 | AA4: 26 | AB4: 27 | AC4: 28 | AD4: 29 | AE4: 30 | AF4: 31 | AG4: 32 | AH4: 33 | AI4: 34 | AJ4: 35 | AK4: 36
A5: 1 | B5: 104.1 | C5: 104.28571 | D5: 104.75714 | E5: 106.11429 | F5: 107.35714 | G5: 109.48571 | H5: 110.5 | I5: 122.4 | J5: 137.18571 | K5: 151.85714 | L5: 166.41429 | M5: 180.85714 | N5: 195.18571 | O5: 209.4 | P5: 223.5 | Q5: 237.48571 | R5: 251.35714 | S5: 265.11429 | T5: 278.75714 | U5: 292.28571 | V5: 305.7 | W5: 319 | X5: 332.18571 | Y5: 345.25714 | Z5: 358.21429 | AA5: 371.05714 | AB5: 383.78571 | AC5: 396.4 | AD5: 408.9 | AE5: 421.28571 | AF5: 433.55714 | AG5: 445.71429 | AH5: 457.75714 | AI5: 469.68571 | AJ5: 481.5 | AK5: 493.2
A6: 2 | B6: 104.4 | C6: 104.57143 | D6: 105.51429 | E6: 108.22857 | F6: 114.71429 | G6: 136.97143 | H6: 159 | I6: 180.8 | J6: 202.37143 | K6: 223.71429 | L6: 244.82857 | M6: 265.71429 | N6: 286.37143 | O6: 306.8 | P6: 327 | Q6: 346.97143 | R6: 366.71429 | S6: 386.22857 | T6: 405.51429 | U6: 424.57143 | V6: 443.4 | W6: 462 | X6: 480.37143 | Y6: 498.51429 | Z6: 516.42857 | AA6: 534.11429 | AB6: 551.57143 | AC6: 568.8 | AD6: 585.8 | AE6: 602.57143 | AF6: 619.11429 | AG6: 635.42857 | AH6: 651.51429 | AI6: 667.37143 | AJ6: 683 | AK6: 698.4
A7: 3 | B7: 104.8 | C7: 106.25714 | D7: 107.37143 | E7: 113.14286 | F7: 140.57143 | G7: 167.65714 | H7: 194.4 | I7: 220.8 | J7: 246.85714 | K7: 272.57143 | L7: 297.94286 | M7: 322.97143 | N7: 347.65714 | O7: 372 | P7: 396 | Q7: 419.65714 | R7: 442.97143 | S7: 465.94286 | T7: 488.57143 | U7: 510.85714 | V7: 532.8 | W7: 554.4 | X7: 575.65714 | Y7: 596.57143 | Z7: 617.14286 | AA7: 637.37143 | AB7: 657.25714 | AC7: 676.8 | AD7: 696 | AE7: 714.85714 | AF7: 733.37143 | AG7: 751.54286 | AH7: 769.37143 | AI7: 786.85714 | AJ7: 804 | AK7: 820.8
A8: 4 | B8: 104.8 | C8: 107.14286 | D8: 112.02857 | E8: 140.45714 | F8: 174.42857 | G8: 207.94286 | H8: 241 | I8: 273.6 | J8: 305.74286 | K8: 337.42857 | L8: 368.65714 | M8: 399.42857 | N8: 429.74286 | O8: 459.6 | P8: 489 | Q8: 517.94286 | R8: 546.42857 | S8: 574.45714 | T8: 602.02857 | U8: 629.14286 | V8: 655.8 | W8: 682 | X8: 707.74286 | Y8: 733.02857 | Z8: 757.85714 | AA8: 782.22857 | AB8: 806.14286 | AC8: 829.6 | AD8: 852.6 | AE8: 875.14286 | AF8: 897.22857 | AG8: 918.85714 | AH8: 940.02857 | AI8: 960.74286 | AJ8: 981 | AK8: 1000.8
A9: 5 | B9: 104.5 | C9: 113.42857 | D9: 122.78571 | E9: 162.57143 | F9: 201.78571 | G9: 240.42857 | H9: 278.5 | I9: 316 | J9: 352.92857 | K9: 389.28571 | L9: 425.07143 | M9: 460.28571 | N9: 494.92857 | O9: 529 | P9: 562.5 | Q9: 595.42857 | R9: 627.78571 | S9: 659.57143 | T9: 690.78571 | U9: 721.42857 | V9: 751.5 | W9: 781 | X9: 809.92857 | Y9: 838.28571 | Z9: 866.07143 | AA9: 893.28571 | AB9: 919.92857 | AC9: 946 | AD9: 971.5 | AE9: 996.42857 | AF9: 1020.7857 | AG9: 1044.5714 | AH9: 1067.7857 | AI9: 1090.4286 | AJ9: 1112.5 | AK9: 1134
A10: 6 | B10: 105.4 | C10: 116.11429 | D10: 140.14286 | E10: 185.48571 | F10: 230.14286 | G10: 274.11429 | H10: 317.4 | I10: 360 | J10: 401.91429 | K10: 443.14286 | L10: 483.68571 | M10: 523.54286 | N10: 562.71429 | O10: 601.2 | P10: 639 | Q10: 676.11429 | R10: 712.54286 | S10: 748.28571 | T10: 783.34286 | U10: 817.71429 | V10: 851.4 | W10: 884.4 | X10: 916.71429 | Y10: 948.34286 | Z10: 979.28571 | AA10: 1009.5429 | AB10: 1039.1143 | AC10: 1068 | AD10: 1096.2 | AE10: 1123.7143 | AF10: 1150.5429 | AG10: 1176.6857 | AH10: 1202.1429 | AI10: 1226.9143 | AJ10: 1251 | AK10: 1274.4
A11: 7 | B11: 105.5 | C11: 117.2 | D11: 155.1 | E11: 205.2 | F11: 254.5 | G11: 303 | H11: 350.7 | I11: 397.6 | J11: 443.7 | K11: 489 | L11: 533.5 | M11: 577.2 | N11: 620.1 | O11: 662.2 | P11: 703.5 | Q11: 744 | R11: 783.7 | S11: 822.6 | T11: 860.7 | U11: 898 | V11: 934.5 | W11: 970.2 | X11: 1005.1 | Y11: 1039.2 | Z11: 1072.5 | AA11: 1105 | AB11: 1136.7 | AC11: 1167.6 | AD11: 1197.7 | AE11: 1227 | AF11: 1255.5 | AG11: 1283.2 | AH11: 1310.1 | AI11: 1336.2 | AJ11: 1361.5 | AK11: 1386
A12: 8 | B12: 105.6 | C12: 119.28571 | D12: 170.05714 | E12: 224.91429 | F12: 278.85714 | G12: 331.88571 | H12: 384 | I12: 435.2 | J12: 485.48571 | K12: 534.85714 | L12: 583.31429 | M12: 630.85714 | N12: 677.48571 | O12: 723.2 | P12: 768 | Q12: 811.88571 | R12: 854.85714 | S12: 896.91429 | T12: 938.05714 | U12: 978.28571 | V12: 1017.6 | W12: 1056 | X12: 1093.4857 | Y12: 1130.0571 | Z12: 1165.7143 | AA12: 1200.4571 | AB12: 1234.2857 | AC12: 1267.2 | AD12: 1299.2 | AE12: 1330.2857 | AF12: 1360.4571 | AG12: 1389.7143 | AH12: 1418.0571 | AI12: 1445.4857 | AJ12: 1472 | AK12: 1497.6
A13: 9 | B13: 105.9 | C13: 126.77143 | D13: 188.61429 | E13: 249.42857 | F13: 309.21429 | G13: 367.97143 | H13: 425.7 | I13: 482.4 | J13: 538.07143 | K13: 592.71429 | L13: 646.32857 | M13: 698.91429 | N13: 750.47143 | O13: 801 | P13: 850.5 | Q13: 898.97143 | R13: 946.41429 | S13: 992.82857 | T13: 1038.2143 | U13: 1082.5714 | V13: 1125.9 | W13: 1168.2 | X13: 1209.4714 | Y13: 1249.7143 | Z13: 1288.9286 | AA13: 1327.1143 | AB13: 1364.2714 | AC13: 1400.4 | AD13: 1435.5 | AE13: 1469.5714 | AF13: 1502.6143 | AG13: 1534.6286 | AH13: 1565.6143 | AI13: 1595.5714 | AJ13: 1624.5 | AK13: 1652.4
A14: 10 | B14: 106.5 | C14: 139.85714 | D14: 208.07143 | E14: 275.14286 | F14: 341.07143 | G14: 405.85714 | H14: 469.5 | I14: 532 | J14: 593.35714 | K14: 653.57143 | L14: 712.64286 | M14: 770.57143 | N14: 827.35714 | O14: 883 | P14: 937.5 | Q14: 990.85714 | R14: 1043.0714 | S14: 1094.1429 | T14: 1144.0714 | U14: 1192.8571 | V14: 1240.5 | W14: 1287 | X14: 1332.3571 | Y14: 1376.5714 | Z14: 1419.6429 | AA14: 1461.5714 | AB14: 1502.3571 | AC14: 1542 | AD14: 1580.5 | AE14: 1617.8571 | AF14: 1654.0714 | AG14: 1689.1429 | AH14: 1723.0714 | AI14: 1755.8571 | AJ14: 1787.5 | AK14: 1818
A15: 11 | B15: 108 | C15: 152.74286 | D15: 227.22857 | E15: 300.45714 | F15: 372.42857 | G15: 443.14286 | H15: 512.6 | I15: 580.8 | J15: 647.74286 | K15: 713.42857 | L15: 777.85714 | M15: 841.02857 | N15: 902.94286 | O15: 963.6 | P15: 1023 | Q15: 1081.1429 | R15: 1138.0286 | S15: 1193.6571 | T15: 1248.0286 | U15: 1301.1429 | V15: 1353 | W15: 1403.6 | X15: 1452.9429 | Y15: 1501.0286 | Z15: 1547.8571 | AA15: 1593.4286 | AB15: 1637.7429 | AC15: 1680.8 | AD15: 1722.6 | AE15: 1763.1429 | AF15: 1802.4286 | AG15: 1840.4571 | AH15: 1877.2286 | AI15: 1912.7429 | AJ15: 1947 | AK15: 1980
A16: 12 | B16: 109.6 | C16: 167.82857 | D16: 249.68571 | E16: 330.17143 | F16: 409.28571 | G16: 487.02857 | H16: 563.4 | I16: 638.4 | J16: 712.02857 | K16: 784.28571 | L16: 855.17143 | M16: 924.68571 | N16: 992.82857 | O16: 1059.6 | P16: 1125 | Q16: 1189.0286 | R16: 1251.6857 | S16: 1312.9714 | T16: 1372.8857 | U16: 1431.4286 | V16: 1488.6 | W16: 1544.4 | X16: 1598.8286 | Y16: 1651.8857 | Z16: 1703.5714 | AA16: 1753.8857 | AB16: 1802.8286 | AC16: 1850.4 | AD16: 1896.6 | AE16: 1941.4286 | AF16: 1984.8857 | AG16: 2026.9714 | AH16: 2067.6857 | AI16: 2107.0286 | AJ16: 2145 | AK16: 2181.6
... A34: 30 | B34: 273 | C34: 542.57143 | D34: 808.71429 | E34: 1071.4286 | F34: 1330.7143 | G34: 1586.5714 | H34: 1839 | I34: 2088 | J34: 2333.5714 | K34: 2575.7143 | L34: 2814.4286 | M34: 3049.7143 | N34: 3281.5714 | O34: 3510 | P34: 3735 | Q34: 3956.5714 | R34: 4174.7143 | S34: 4389.4286 | T34: 4600.7143 | U34: 4808.5714 | V34: 5013 | W34: 5214 | X34: 5411.5714 | Y34: 5605.7143 | Z34: 5796.4286 | AA34: 5983.7143 | AB34: 6167.5714 | AC34: 6348 | AD34: 6525 | AE34: 6698.5714 | AF34: 6868.7143 | AG34: 7035.4286 | AH34: 7198.7143 | AI34: 7358.5714 | AJ34: 7515 | AK34: 7668
H37: PRICES FOR ADDITIONAL RENT PER WEEK
A38: HEIGHT | D38: FLOOR AREA IN M2
A39: M | B39: 1 | C39: 2 | D39: 3 | E39: 4 | F39: 5 | G39: 6 | H39: 7 | I39: 8 | J39: 9 | K39: 10 | L39: 11 | M39: 12 | N39: 13 | O39: 14 | P39: 15 | Q39: 16 | R39: 17 | S39: 18 | T39: 19 | U39: 20 | V39: 21 | W39: 22 | X39: 23 | Y39: 24 | Z39: 25 | AA39: 26 | AB39: 27 | AC39: 28 | AD39: 29 | AE39: 30 | AF39: 31 | AG39: 32 | AH39: 33 | AI39: 34 | AJ39: 35 | AK39: 36
A40: 1 | B40: 6.81 | C40: 6.81 | D40: 6.81 | E40: 6.81 | F40: 6.81 | G40: 6.81 | H40: 6.81 | I40: 6.81 | J40: 6.81 | K40: 6.81 | L40: 6.81 | M40: 6.81 | N40: 6.81 | O40: 6.81 | P40: 6.81 | Q40: 6.81 | R40: 6.81 | S40: 6.81 | T40: 6.81 | U40: 6.81 | V40: 7.26 | W40: 7.71 | X40: 7.71 | Y40: 8.17 | Z40: 8.62 | AA40: 9.08 | AB40: 9.08 | AC40: 9.53 | AD40: 9.98 | AE40: 10.44 | AF40: 10.44 | AG40: 10.89 | AH40: 11.34 | AI40: 11.8 | AJ40: 11.8 | AK40: 12.25
A41: 2 | B41: 6.81 | C41: 6.81 | D41: 6.81 | E41: 6.81 | F41: 6.81 | G41: 6.81 | H41: 6.81 | I41: 6.81 | J41: 6.81 | K41: 6.81 | L41: 7.71 | M41: 8.17 | N41: 9.08 | O41: 9.53 | P41: 10.44 | Q41: 10.89 | R41: 11.8 | S41: 12.25 | T41: 13.16 | U41: 13.61 | V41: 14.52 | W41: 14.97 | X41: 15.88 | Y41: 16.34 | Z41: 17.24 | AA41: 17.7 | AB41: 18.6 | AC41: 19.06 | AD41: 19.97 | AE41: 20.42 | AF41: 21.33 | AG41: 21.78 | AH41: 22.69 | AI41: 23.14 | AJ41: 24.05 | AK41: 24.5
A42: 3 | B42: 6.81 | C42: 6.81 | D42: 6.81 | E42: 6.81 | F42: 6.81 | G42: 6.81 | H42: 7.26 | I42: 8.17 | J42: 9.08 | K42: 10.44 | L42: 11.34 | M42: 12.25 | N42: 13.16 | O42: 14.52 | P42: 15.43 | Q42: 16.34 | R42: 17.24 | S42: 18.6 | T42: 19.51 | U42: 20.42 | V42: 21.33 | W42: 22.69 | X42: 23.6 | Y42: 24.5 | Z42: 25.41 | AA42: 26.77 | AB42: 27.68 | AC42: 28.59 | AD42: 29.5 | AE42: 30.86 | AF42: 31.76 | AG42: 32.67 | AH42: 33.58 | AI42: 34.94 | AJ42: 35.85 | AK42: 36.76
A43: 4 | B43: 6.81 | C43: 6.81 | D43: 6.81 | E43: 6.81 | F43: 6.81 | G43: 8.17 | H43: 9.53 | I43: 10.89 | J43: 12.25 | K43: 13.61 | L43: 14.97 | M43: 16.34 | N43: 17.7 | O43: 19.06 | P43: 20.42 | Q43: 21.78 | R43: 23.14 | S43: 24.5 | T43: 25.87 | U43: 27.23 | V43: 28.59 | W43: 29.95 | X43: 31.31 | Y43: 32.67 | Z43: 34.03 | AA43: 35.39 | AB43: 36.76 | AC43: 38.12 | AD43: 39.48 | AE43: 40.84 | AF43: 42.2 | AG43: 43.56 | AH43: 44.92 | AI43: 46.29 | AJ43: 47.65 | AK43: 49.01
A44: 5 | B44: 6.81 | C44: 6.81 | D44: 6.81 | E44: 6.81 | F44: 8.62 | G44: 10.44 | H44: 11.8 | I44: 13.61 | J44: 15.43 | K44: 17.24 | L44: 18.6 | M44: 20.42 | N44: 22.24 | O44: 24.05 | P44: 25.41 | Q44: 27.23 | R44: 29.04 | S44: 30.86 | T44: 32.22 | U44: 34.03 | V44: 35.85 | W44: 37.66 | X44: 39.03 | Y44: 40.84 | Z44: 42.66 | AA44: 44.47 | AB44: 45.95 | AC44: 47.65 | AD44: 49.35 | AE44: 51.05 | AF44: 52.75 | AG44: 54.45 | AH44: 56.16 | AI44: 57.86 | AJ44: 59.56 | AK44: 61.26
A45: 6 | B45: 6.81 | C45: 6.81 | D45: 6.81 | E45: 8.17 | F45: 10.44 | G45: 12.25 | H45: 14.52 | I45: 16.34 | J45: 18.6 | K45: 20.42 | L45: 22.69 | M45: 24.5 | N45: 26.77 | O45: 28.59 | P45: 30.86 | Q45: 32.67 | R45: 34.94 | S45: 36.76 | T45: 39.03 | U45: 40.84 | V45: 43.11 | W45: 44.92 | X45: 46.97 | Y45: 49.01 | Z45: 51.05 | AA45: 53.09 | AB45: 55.13 | AC45: 57.18 | AD45: 59.22 | AE45: 61.26 | AF45: 63.3 | AG45: 65.34 | AH45: 67.39 | AI45: 69.43 | AJ45: 71.47 | AK45: 73.51
A46: 7 | B46: 6.81 | C46: 6.81 | D46: 7.26 | E46: 9.53 | F46: 11.8 | G46: 14.52 | H46: 16.79 | I46: 19.06 | J46: 21.33 | K46: 24.05 | L46: 26.32 | M46: 28.59 | N46: 30.86 | O46: 33.58 | P46: 35.85 | Q46: 38.12 | R46: 40.39 | S46: 43.11 | T46: 45.38 | U46: 47.65 | V46: 50.03 | W46: 52.41 | X46: 54.79 | Y46: 57.18 | Z46: 59.56 | AA46: 61.94 | AB46: 64.32 | AC46: 66.71 | AD46: 69.09 | AE46: 71.47 | AF46: 73.85 | AG46: 76.24 | AH46: 78.62 | AI46: 81 | AJ46: 83.38 | AK46: 85.76
A47: 8 | B47: 6.81 | C47: 6.81 | D47: 8.17 | E47: 10.89 | F47: 13.61 | G47: 16.34 | H47: 19.06 | I47: 21.78 | J47: 24.5 | K47: 27.23 | L47: 29.95 | M47: 32.67 | N47: 35.39 | O47: 38.12 | P47: 40.84 | Q47: 43.56 | R47: 46.29 | S47: 49.01 | T47: 51.73 | U47: 54.45 | V47: 57.18 | W47: 59.9 | X47: 62.62 | Y47: 65.34 | Z47: 68.07 | AA47: 70.79 | AB47: 73.51 | AC47: 76.24 | AD47: 78.96 | AE47: 81.68 | AF47: 84.4 | AG47: 87.13 | AH47: 89.85 | AI47: 92.57 | AJ47: 95.29 | AK47: 98.02
A48: 9 | B48: 6.81 | C48: 6.81 | D48: 9.53 | E48: 12.25 | F48: 15.43 | G48: 18.6 | H48: 21.33 | I48: 24.5 | J48: 27.68 | K48: 30.86 | L48: 33.58 | M48: 36.76 | N48: 39.93 | O48: 43.11 | P48: 45.95 | Q48: 49.01 | R48: 52.07 | S48: 55.13 | T48: 58.2 | U48: 61.26 | V48: 64.32 | W48: 67.39 | X48: 70.45 | Y48: 73.51 | Z48: 76.58 | AA48: 79.64 | AB48: 82.7 | AC48: 85.76 | AD48: 88.83 | AE48: 91.89 | AF48: 94.95 | AG48: 98.02 | AH48: 101.1 | AI48: 104.1 | AJ48: 107.2 | AK48: 110.3
A49: 10 | B49: 6.81 | C49: 6.81 | D49: 10.44 | E49: 13.61 | F49: 17.24 | G49: 20.42 | H49: 24.05 | I49: 27.23 | J49: 30.86 | K49: 34.03 | L49: 37.66 | M49: 40.84 | N49: 44.47 | O49: 47.65 | P49: 51.05 | Q49: 54.45 | R49: 57.86 | S49: 61.26 | T49: 64.66 | U49: 68.07 | V49: 71.47 | W49: 74.87 | X49: 78.28 | Y49: 81.68 | Z49: 85.08 | AA49: 88.49 | AB49: 91.89 | AC49: 95.29 | AD49: 98.7 | AE49: 102.1 | AF49: 105.5 | AG49: 108.9 | AH49: 112.3 | AI49: 115.7 | AJ49: 119.1 | AK49: 122.5
A50: 11 | B50: 6.81 | C50: 7.71 | D50: 11.34 | E50: 14.97 | F50: 18.6 | G50: 22.69 | H50: 26.32 | I50: 29.95 | J50: 33.58 | K50: 37.66 | L50: 41.75 | M50: 44.92 | N50: 48.67 | O50: 52.41 | P50: 56.16 | Q50: 59.9 | R50: 63.64 | S50: 67.39 | T50: 71.13 | U50: 74.87 | V50: 78.6 | W50: 82.4 | X50: 86.1 | Y50: 89.8 | Z50: 93.6 | AA50: 97.3 | AB50: 101.1 | AC50: 104.8 | AD50: 108.6 | AE50: 112.3 | AF50: 116.1 | AG50: 119.8 | AH50: 123.5 | AI50: 127.3 | AJ50: 131 | AK50: 134.8
A51: 12 | B51: 6.81 | C51: 8.17 | D51: 12.25 | E51: 16.34 | F51: 20.42 | G51: 24.5 | H51: 28.59 | I51: 32.67 | J51: 36.76 | K51: 40.84 | L51: 44.92 | M51: 49.01 | N51: 53.09 | O51: 57.18 | P51: 61.26 | Q51: 65.34 | R51: 69.43 | S51: 73.51 | T51: 77.6 | U51: 81.68 | V51: 85.8 | W51: 89.8 | X51: 93.9 | Y51: 98 | Z51: 102.1 | AA51: 106.2 | AB51: 110.3 | AC51: 114.4 | AD51: 118.4 | AE51: 122.5 | AF51: 126.6 | AG51: 130.7 | AH51: 134.8 | AI51: 138.9 | AJ51: 142.9 | AK51: 147
... A69: 30 | B69: 10.44 | C69: 20.42 | D69: 30.86 | E69: 40.84 | F69: 51.28 | G69: 61.26 | H69: 71.47 | I69: 81.68 | J69: 91.89 | K69: 102.1 | L69: 112.3 | M69: 122.5 | N69: 132.7 | O69: 142.9 | P69: 153.2 | Q69: 163.4 | R69: 173.6 | S69: 183.8 | T69: 194 | U69: 204.2 | V69: 214.4 | W69: 224.6 | X69: 234.8 | Y69: 245 | Z69: 255.3 | AA69: 265.5 | AB69: 275.7 | AC69: 285.9 | AD69: 296.1 | AE69: 306.3 | AF69: 316.5 | AG69: 326.7 | AH69: 336.9 | AI69: 347.1 | AJ69: 357.4 | AK69: 367.6
