Workbook
Name Accessitibility: '[1]NDT Effectiviteit'!$C$41
Name ColdIsolCosts: '[1]Input and Output'!$J$36
Name HotIsolCosts: '[1]Input and Output'!$J$31
Name Materialen: #REF!
Name Materialen: #REF!
Name NDT_Kosten: 'NDO Technieken'!$B$38:$K$38
Name NDT_Technieken: 'NDO Technieken'!$B$2:$K$2
Name NDTEff: 'NDO Technieken'!$M$3:$O$7
Name NDTEffClass: 'NDO Technieken'!$M$3:$M$7
Name RemLifeTimDef: '[1]Estimation formulae'!$C$8
Name Risk_MOTBF: '[5]NEN-EN 16991'!$AB$3:$AF$7
Name Risk_MOTBF: '[2]NEN-EN 16991'!$AB$3:$AF$7
Name Risk_MOTBF: '[3]NEN-EN 16991'!$AB$3:$AF$7
Name ScrInspIntDef: '[1]Estimation formulae'!$C$6
Name Sensitivity: '[1]NDT Effectiviteit'!$C$40
Name Typicals: 'NDO Technieken'!$A$3:$A$8
Name VisInspIntDef: '[1]Estimation formulae'!$C$5

Sheet Toelichting
C4: World Class Maintenance.
C5: Project: | D5: Risk Based Corrosie Onder Isolatie Management.
C6: Dit werkblad bevat een uitwerking van de selectie van geschikte NDO technieken voor Corrosie onder Isolatie
C7: Op basis van kenmerken van de situatie en de vereiste inspectie-effectiviteit worden geschikte NDO Technieken gepresenteerd.
C8: Hierbij dient de aan de vereiste inspectie-effectiviteit verbonden dekkingsgraad nageleefd te worden.
C10: Het beoogt een voorzet te zijn voor een uitwerking ten behoeve van een asset owner.
C11: De tool is als hulpmiddel beschikbaar voor diegenen die nog geen aanpak hebben.
C12: Daarnaast functioneert de tool ook als test voor de praktijkgerichtheid van het eindresultaat.
C13: Het daarbij gehanteerde motto is: "een expliciet beslisproces is in een beslismodel te vatten".
C15: Gebruikte kleur codering: (standaard vlgs Microsoft Excel):
C16: Invoer van gegevens (input): | D16: Input
C17: Resultaat van invoer (output): | D17: Output
C19: In deze tool worden de volgende hulpmiddelen aangereikt:
C20: • Invoer en uitvoer ter bepaling van geschikte NDO Technieken | F20: Tab: [Geschiktheidsfilter]
C21: • Overzicht van de kenmerken van NDO Technieken. | F21: Tab: [NDO Technieken]
C23: Ontwikkelingen:
C24: Op termijn wordt voorzien dat andere beschikbare technieken toegevoegd kunnen worden.
C25: Toevoegen van de weging van inspectie effectiviteit ten aanzien van het percentage van het totale oppervlak dat geinspecteerd wordt (de dekking).

Sheet Geschiktheidsfilter
A1: Geschiktheidsfilter NDO technieken | B1: Corrosie onder Isolatie | D1: Mogelijke technieken: | E1: ='NDO Technieken'!B2 -> On stream RT (film) | F1: ='NDO Technieken'!C2 -> On stream RT (digitaal) | G1: ='NDO Technieken'!D2 -> Profile radiografie | H1: ='NDO Technieken'!E2 -> Guided Waves / Long Range UT | I1: ='NDO Technieken'!F2 -> PEC / PEC Array | J1: ='NDO Technieken'!G2 -> In-line inspection (intelligent pigging) | K1: ='NDO Technieken'!H2 -> Visuele inspectie met uitpakken | L1: ='NDO Technieken'!I2 -> Ultrasone wanddikte meting | ... N1: ='NDO Technieken'!K2 -> Thermografie
A2: Object type | B2: Aftakkingen op leidingen > DN250 en op vatwanden | E2: =VLOOKUP($B$2,'NDO Technieken'!$A$3:$K$8,(COLUMN(E1)-COLUMN($E1)+2),FALSE) -> B | F2: =VLOOKUP($B$2,'NDO Technieken'!$A$3:$K$8,(COLUMN(F1)-COLUMN($E1)+2),FALSE) -> B | G2: =VLOOKUP($B$2,'NDO Technieken'!$A$3:$K$8,(COLUMN(G1)-COLUMN($E1)+2),FALSE) -> B | H2: =VLOOKUP($B$2,'NDO Technieken'!$A$3:$K$8,(COLUMN(H1)-COLUMN($E1)+2),FALSE) -> C | I2: =VLOOKUP($B$2,'NDO Technieken'!$A$3:$K$8,(COLUMN(I1)-COLUMN($E1)+2),FALSE) -> C | J2: =VLOOKUP($B$2,'NDO Technieken'!$A$3:$K$8,(COLUMN(J1)-COLUMN($E1)+2),FALSE) -> B | K2: =VLOOKUP($B$2,'NDO Technieken'!$A$3:$K$8,(COLUMN(K1)-COLUMN($E1)+2),FALSE) -> A | L2: =VLOOKUP($B$2,'NDO Technieken'!$A$3:$K$8,(COLUMN(L1)-COLUMN($E1)+2),FALSE) -> A | ... N2: =VLOOKUP($B$2,'NDO Technieken'!$A$3:$K$8,(COLUMN(N1)-COLUMN($E1)+2),FALSE) -> D
A3: Beoogd doel | B3: Corrosie detectie | E3: =IF(VLOOKUP($B$3,'NDO Technieken'!$A$12:$K$14,(COLUMN(E1)-COLUMN($E1)+2),FALSE)="J",1,0) -> 1 | F3: =IF(VLOOKUP($B$3,'NDO Technieken'!$A$12:$K$14,(COLUMN(F1)-COLUMN($E1)+2),FALSE)="J",1,0) -> 1 | G3: =IF(VLOOKUP($B$3,'NDO Technieken'!$A$12:$K$14,(COLUMN(G1)-COLUMN($E1)+2),FALSE)="J",1,0) -> 1 | H3: =IF(VLOOKUP($B$3,'NDO Technieken'!$A$12:$K$14,(COLUMN(H1)-COLUMN($E1)+2),FALSE)="J",1,0) -> 1 | I3: =IF(VLOOKUP($B$3,'NDO Technieken'!$A$12:$K$14,(COLUMN(I1)-COLUMN($E1)+2),FALSE)="J",1,0) -> 1 | J3: =IF(VLOOKUP($B$3,'NDO Technieken'!$A$12:$K$14,(COLUMN(J1)-COLUMN($E1)+2),FALSE)="J",1,0) -> 1 | K3: =IF(VLOOKUP($B$3,'NDO Technieken'!$A$12:$K$14,(COLUMN(K1)-COLUMN($E1)+2),FALSE)="J",1,0) -> 1 | L3: =IF(VLOOKUP($B$3,'NDO Technieken'!$A$12:$K$14,(COLUMN(L1)-COLUMN($E1)+2),FALSE)="J",1,0) -> 0 | ... N3: =IF(VLOOKUP($B$3,'NDO Technieken'!$A$12:$K$14,(COLUMN(N1)-COLUMN($E1)+2),FALSE)="J",1,0) -> 0 | Q3: Nota bene:
A4: Vereiste inspectie-effectiviteit | B4: B= Usually Effective | E4: =IF(CODE(MID($B$4,1,1))>=CODE(E2),1,0) -> 1 | F4: =IF(CODE(MID($B$4,1,1))>=CODE(F2),1,0) -> 1 | G4: =IF(CODE(MID($B$4,1,1))>=CODE(G2),1,0) -> 1 | H4: =IF(CODE(MID($B$4,1,1))>=CODE(H2),1,0) -> 0 | I4: =IF(CODE(MID($B$4,1,1))>=CODE(I2),1,0) -> 0 | J4: =IF(CODE(MID($B$4,1,1))>=CODE(J2),1,0) -> 1 | K4: =IF(CODE(MID($B$4,1,1))>=CODE(K2),1,0) -> 1 | L4: =IF(CODE(MID($B$4,1,1))>=CODE(L2),1,0) -> 1 | ... N4: =IF(CODE(MID($B$4,1,1))>=CODE(N2),1,0) -> 0 | Q4: In geval bij detectie ernstige schade wordt geconstateerd, is vervolgonderzoek (wanddiktemeting) noodzakelijk om de gewenste effectiviteit te behalen.
A5: Vereiste dekking | B5: =IFERROR(INDEX(NDTEff,MATCH(B4,NDTEffClass,0),2),"?") -> 0.65
A6: Diameter (mm) | B6: 250 | E6: =IF(AND($B$6>'NDO Technieken'!B18, $B$6<'NDO Technieken'!B19),1,IF(AND($B$6="",'NDO Technieken'!B19="vlak"),1,0)) -> 1 | F6: =IF(AND($B$6>'NDO Technieken'!C18, $B$6<'NDO Technieken'!C19),1,IF(AND($B$6="",'NDO Technieken'!C19="vlak"),1,0)) -> 1 | G6: =IF(AND($B$6>'NDO Technieken'!D18, $B$6<'NDO Technieken'!D19),1,IF(AND($B$6="",'NDO Technieken'!D19="vlak"),1,0)) -> 1 | H6: =IF(AND($B$6>'NDO Technieken'!E18, $B$6<'NDO Technieken'!E19),1,IF(AND($B$6="",'NDO Technieken'!E19="vlak"),1,0)) -> 1 | I6: =IF(AND($B$6>'NDO Technieken'!F18, $B$6<'NDO Technieken'!F19),1,IF(AND($B$6="",'NDO Technieken'!F19="vlak"),1,0)) -> 1 | J6: =IF(AND($B$6>'NDO Technieken'!G18, $B$6<'NDO Technieken'!G19),1,IF(AND($B$6="",'NDO Technieken'!G19="vlak"),1,0)) -> 1 | K6: =IF(AND($B$6>'NDO Technieken'!I18, $B$6<'NDO Technieken'!I19),1,IF(AND($B$6="",'NDO Technieken'!I19="vlak"),1,0)) -> 1 | L6: =IF(AND($B$6>'NDO Technieken'!J18, $B$6<'NDO Technieken'!J19),1,IF(AND($B$6="",'NDO Technieken'!J19="vlak"),1,0)) -> 1 | M6: =IF(AND($B$6>'NDO Technieken'!H18, $B$6<'NDO Technieken'!H19),1,IF(AND($B$6="",'NDO Technieken'!H19="vlak"),1,0)) -> 1 | N6: =IF(AND($B$6>'NDO Technieken'!K18, $B$6<'NDO Technieken'!K19),1,IF(AND($B$6="",'NDO Technieken'!K19="vlak"),1,0)) -> 1
A7: Nom. Wanddikte (mm) | B7: 6 | E7: =IF($B$7>'NDO Technieken'!B23,IF($B$7<'NDO Technieken'!B24,1,0),0) -> 1 | F7: =IF($B$7>'NDO Technieken'!C23,IF($B$7<'NDO Technieken'!C24,1,0),0) -> 1 | G7: =IF($B$7>'NDO Technieken'!D23,IF($B$7<'NDO Technieken'!D24,1,0),0) -> 1 | H7: =IF($B$7>'NDO Technieken'!E23,IF($B$7<'NDO Technieken'!E24,1,0),0) -> 1 | I7: =IF($B$7>'NDO Technieken'!F23,IF($B$7<'NDO Technieken'!F24,1,0),0) -> 1 | J7: =IF($B$7>'NDO Technieken'!G23,IF($B$7<'NDO Technieken'!G24,1,0),0) -> 1 | K7: =IF($B$7>'NDO Technieken'!I23,IF($B$7<'NDO Technieken'!I24,1,0),0) -> 1 | L7: =IF($B$7>'NDO Technieken'!J23,IF($B$7<'NDO Technieken'!J24,1,0),0) -> 1 | M7: =IF($B$7>'NDO Technieken'!H23,IF($B$7<'NDO Technieken'!H24,1,0),0) -> 1 | N7: =IF($B$7>'NDO Technieken'!K23,IF($B$7<'NDO Technieken'!K24,1,0),0) -> 1
A8: Toegankelijkheid | B8: Vanaf grond of bordes toegankelijk | E8: =IF(VLOOKUP($B$8,'NDO Technieken'!$A$28:$K$31,(COLUMN(E1)-COLUMN($E1)+2),FALSE)="J",1,0) -> 1 | F8: =IF(VLOOKUP($B$8,'NDO Technieken'!$A$28:$K$31,(COLUMN(F1)-COLUMN($E1)+2),FALSE)="J",1,0) -> 1 | G8: =IF(VLOOKUP($B$8,'NDO Technieken'!$A$28:$K$31,(COLUMN(G1)-COLUMN($E1)+2),FALSE)="J",1,0) -> 1 | H8: =IF(VLOOKUP($B$8,'NDO Technieken'!$A$28:$K$31,(COLUMN(H1)-COLUMN($E1)+2),FALSE)="J",1,0) -> 1 | I8: =IF(VLOOKUP($B$8,'NDO Technieken'!$A$28:$K$31,(COLUMN(I1)-COLUMN($E1)+2),FALSE)="J",1,0) -> 1 | J8: =IF(VLOOKUP($B$8,'NDO Technieken'!$A$28:$K$31,(COLUMN(J1)-COLUMN($E1)+2),FALSE)="J",1,0) -> 1 | K8: =IF(VLOOKUP($B$8,'NDO Technieken'!$A$28:$K$31,(COLUMN(K1)-COLUMN($E1)+2),FALSE)="J",1,0) -> 1 | L8: =IF(VLOOKUP($B$8,'NDO Technieken'!$A$28:$K$31,(COLUMN(L1)-COLUMN($E1)+2),FALSE)="J",1,0) -> 1 | ... N8: =IF(VLOOKUP($B$8,'NDO Technieken'!$A$28:$K$31,(COLUMN(N1)-COLUMN($E1)+2),FALSE)="J",1,0) -> 1
D9: Conclusie geschiktheid: | E9: =PRODUCT(E3:E8) -> 1 | F9: =PRODUCT(F3:F8) -> 1 | G9: =PRODUCT(G3:G8) -> 1 | H9: =PRODUCT(H3:H8) -> 0 | I9: =PRODUCT(I3:I8) -> 0 | J9: =PRODUCT(J3:J8) -> 1 | K9: =PRODUCT(K3:K8) -> 1 | L9: =PRODUCT(L3:L8) -> 0 | ... N9: =PRODUCT(N3:N8) -> 0 | O9: 1= geschikt
O10: 0= ongeschikt
A11: Geschikte NDO technieken | B11: Opmerkingen
A12: =IF(E$9=1,'NDO Technieken'!B$2,"") -> On stream RT (film) | B12: =IF(E$9=1,'NDO Technieken'!B$41,"") -> Beperkt toepasbaar voor wanddiktemeting (HOIS Recommended Practice 1 v3.1)
A13: =IF(F$9=1,'NDO Technieken'!C$2,"") -> On stream RT (digitaal) | B13: =IF(F$9=1,'NDO Technieken'!C$41,"") -> Beperkt toepasbaar voor wanddiktemeting (HOIS Recommended Practice 1 v3.1)
A14: =IF(G$9=1,'NDO Technieken'!D$2,"") -> Profile radiografie | B14: =IF(G$9=1,'NDO Technieken'!D$41,"") -> Beperkt toepasbaar voor vochtdetectie (HOIS Recommended Practice 1 v3.1)
A15: =IF(H$9=1,'NDO Technieken'!E$2,"") | B15: =IF(H$9=1,'NDO Technieken'!E$41,"")
A16: =IF(I$9=1,'NDO Technieken'!F$2,"") | B16: =IF(I$9=1,'NDO Technieken'!F$41,"")
A17: =IF(J$9=1,'NDO Technieken'!G$2,"") -> In-line inspection (intelligent pigging) | B17: =IF(J$9=1,'NDO Technieken'!G$41,"") -> 0
A18: =IF(K$9=1,'NDO Technieken'!H$2,"") -> Visuele inspectie met uitpakken | B18: =IF(K$9=1,'NDO Technieken'!H$41,"") -> 0
A19: =IF(L$9=1,'NDO Technieken'!I$2,"") | B19: =IF(L$9=1,'NDO Technieken'!I$41,"")
A20: =IF(M$9=1,'NDO Technieken'!J$2,"") | B20: =IF(M$9=1,'NDO Technieken'!J$41,"")
A21: =IF(N$9=1,'NDO Technieken'!K$2,"") | B21: =IF(N$9=1,'NDO Technieken'!K$41,"")
B22: =IF(P$9=1,'NDO Technieken'!#REF!,"") | C22: =IF(P$9=1,'NDO Technieken'!#REF!,"")

Sheet NDO Technieken
A1: 1-Expert mening(level I) | B1: NDO Techniek: | M1: Inspectie-effectiviteit: | Q1: Effect op faalkans categorie:
A2: Object type: | B2: On stream RT (film) | C2: On stream RT (digitaal) | D2: Profile radiografie | E2: Guided Waves / Long Range UT | F2: PEC / PEC Array | G2: In-line inspection (intelligent pigging) | H2: Visuele inspectie met uitpakken | I2: Ultrasone wanddikte meting | J2: UT C-scan mapping | K2: Thermografie | M2: Effectiviteitsklasse | N2: Vereiste dekking: | O2: Risicoreductie: | Q2: 6 | R2: 5 | S2: 4 | T2: 3 | U2: 2 | V2: 1
A3: Aftakkingen op leidingen > DN250 en op vatwanden | B3: B | C3: B | D3: B | E3: C | F3: C | G3: B | H3: A | I3: A | J3: B | K3: D | M3: A= Highly Effective | N3: 1 | O3: 0.99 | Q3: 3 | R3: 3 | S3: 2 | T3: 1 | U3: 1 | V3: 1
A4: Aftakkingen op leidingen ≤ DN250 | B4: A | C4: A | D4: B | E4: C | F4: C | G4: B | H4: A | I4: A | J4: A | K4: D | M4: B= Usually Effective | N4: 0.65 | O4: 0.9 | Q4: 4 | R4: 4 | S4: 3 | T4: 2 | U4: 1 | V4: 1
A5: Brandwerende bekleding in het algemeen | B5: A | C5: A | D5: B | E5: D | F5: B | G5: E | H5: A | I5: E | J5: A | K5: E | M5: C= Fairly Effective | N5: 0.35 | O5: 0.7 | Q5: 5 | R5: 5 | S5: 4 | T5: 3 | U5: 2 | V5: 1
A6: Oplegging/Ondersteuning (*) | B6: B | C6: A | D6: C | E6: C | F6: E | G6: A | H6: D | I6: E | J6: E | K6: D | M6: D= Poorly Effective | N6: 0.05 | O6: 0.3 | Q6: 5 | R6: 5 | S6: 4 | T6: 3 | U6: 2 | V6: 1
A7: Rechte leidingen > DN250 en vatwanden | B7: B | C7: B | D7: B | E7: A | F7: B | G7: A | H7: A | I7: A | J7: A | K7: C | M7: E= Ineffective | O7: 0 | Q7: 6 | R7: 5 | S7: 4 | T7: 3 | U7: 2 | V7: 1
A8: Rechte leidingen ≤ DN250 | B8: A | C8: A | D8: A | E8: A | F8: B | G8: A | H8: A | I8: A | J8: A | K8: C
A9: (*): de waardering is sterk afhankelijk van het type support | O9: Vergelijk AP 581 (2016) Tabel 2.C.2.1 (bevat gelijkmatige verdeling in 5 stappen)
A11: Toepasbaar als:
A12: Corrosie detectie | B12: J | C12: J | D12: J | E12: J | F12: J | G12: J | H12: J | I12: N | J12: N | K12: N | M12: Hoe werkt de combinatie van de effectiviteit van een techniek met de dekking, door in het eindresultaat?
A13: Vocht detectie | B13: N | C13: N | D13: (**) | E13: N | F13: N | G13: N | H13: N | I13: N | J13: N | K13: J | M13: Het effect van de combinatie kan als volgt in beeld gebracht worden:
A14: Wanddiktemeting | B14: (**) | C14: (**) | D14: N | E14: N | F14: N | G14: J | H14: N | I14: J | J14: J | K14: N | M14: Het eindresultaat is afhankelijk van de combinatie.
A15: (**): beperkt toepasbaar (HOIS Recommended Practice 1 v3.1) | M15: In betrouwbaarheidstermen is dit dan te evalueren middels een zogenaamde "of" poort.
M16: Dit betekent dat "falen" optreedt als ofwel het één ofwel het ander faalt.
A17: Diameter | M17: Dus middels een figuur:
A18: Minimum | B18: 0 | C18: 0 | D18: 0 | E18: 20 | F18: 20 | G18: 50 | H18: 0 | I18: 0 | J18: 0 | K18: 0 | M18: Effectiviteit techniek
A19: Maximum | B19: 600 | C19: 600 | D19: 600 | E19: 2000 | F19: vlak | G19: 2000 | H19: vlak | I19: vlak | J19: vlak | K19: vlak | R19: Eff. Eindresultaat
A20: vlak: geen bovengrens | M20: Dekking techniek
A22: Nom. Wanddikte | M22: Reken-technisch is dit dan door te rekenen met behulp van de faalkans per onderdeel.
A23: Minimum | B23: 0 | C23: 0 | D23: 0 | E23: 3 | F23: 3 | G23: 3 | H23: 0 | I23: 3 | J23: 3 | K23: 0 | M23: Dat is hieronder gedaan.
A24: Maximum | B24: 12 | C24: 12 | D24: 12 | E24: 20 | F24: 50 | G24: 50 | H24: (***) | I24: 250 | J24: 50 | K24: (***) | M24: Per element kan daar een waarde aan toe worden gekend.
A25: (***): geen grens | M25: Het effect op het eindresultaat is daarbij dan weergegeven.
P26: Faalkans:
A27: Toegankelijkheid voor uitvoering | M27: =M18 -> Effectiviteit techniek | O27: E | P27: =1-INDEX(O3:O7,FIND(O27,"ABCDE")) -> 1 | Q27: ð | R27: =R19 -> Eff. Eindresultaat
A28: Vanaf grond of bordes toegankelijk | B28: J | C28: J | D28: J | E28: J | F28: J | G28: J | H28: J | I28: J | J28: J | K28: J | M28: =M20 -> Dekking techniek | O28: 0.65 | P28: =1-O28 -> 0.35 | R28: =(1-P27)*(1-P28) -> 0
A29: Vanaf steiger werken | B29: J | C29: J | D29: J | E29: J | F29: J | G29: J | H29: J | I29: J | J29: J | K29: N
A30: Hoogwerker, rope access | B30: N | C30: N | D30: J | E30: J | F30: J | G30: J | H30: J | I30: J | J30: N | K30: J | M30: Effect. techniek: | N30: A | O30: Overzicht: | T30: Het groen gearceerde gebied betreft de gevallen waarin de dekking op het niveau is conform API 581.
A31: Ondergronds | B31: N | C31: N | D31: N | E31: J | F31: N | G31: J | H31: N | I31: N | J31: N | K31: N | M31: Dekking techniek: | N31: 1 | O31: Effectiviteit techniek:
M32: Eff. eindresultaat: | N32: =N31*INDEX(O3:O7,FIND(N30,"ABCDE")) -> 0.99 | O32: A | P32: B | Q32: C | R32: D | S32: E
A33: Ruwe kosten indicatie (excl. toegang, reiniging, etc.) | M33: Dekking techniek: | N33: 1 | O33: 0.99 | P33: 0.9 | Q33: 0.7 | R33: 0.3 | S33: 0 | T33: Deze tabel geeft het effect weer van de combinatie van dekking en de effectiviteit van de techniek. In de groene cellen wordt voldaan aan de bij een techniek gestelde eis.
A34: dagprijs (8 uur) (EUR) | B34: 1500 | C34: 2020 | D34: 1500 | E34: =AVERAGE(2750,(340*8)) -> 2735 | F34: =234*8 -> 1872 | G34: 3000 | H34: 750 | I34: 750 | J34: =227*8 -> 1816 | K34: 750 | N34: 0.65 | O34: 0.6435 | P34: 0.585 | Q34: 0.455 | R34: 0.195 | S34: 0
A35: productiviteit (meetpunten per dag) | B35: 13 | C35: 21 | D35: 50 | E35: 16 | F35: 50 | G35: 1 | H35: 16 | I35: =I34/I36 -> 50 | J35: 8 | K35: 8 | N35: 0.35 | O35: 0.3465 | P35: 0.315 | Q35: 0.245 | R35: 0.105 | S35: 0
A36: prijs per meetpunt (EUR) | B36: 116 | C36: 94 | D36: =D34/D35 -> 30 | E36: =E34/E35 -> 170.9375 | F36: =F34/F35 -> 37.44 | G36: =G34/G35 -> 3000 | H36: =H34/H35 -> 46.875 | I36: 15 | J36: =J34/J35 -> 227 | K36: =K34/K35 -> 93.75 | N36: 0.05 | O36: 0.0495 | P36: 0.045 | Q36: 0.035 | R36: 0.015 | S36: 0
A37: dekking (m² oppervlak per meetpunt) | B37: =B36/B38 -> 0.17901235 | C37: =C36/C38 -> 0.10767468 | D37: =0.25 -> 0.25 | E37: 40 | F37: 0.01 | G37: 60 | H37: 2 | I37: =I36/I38 -> 0.00092541181 | J37: 0.25 | K37: 5 | N37: 0 | O37: 0 | P37: 0 | Q37: 0 | R37: 0 | S37: 0
A38: prijs per oppervlak (EUR/m²) | B38: 648 | C38: 873 | D38: 32 | E38: 32 | F38: =F36/F37 -> 3744 | G38: =G36/G37 -> 50 | H38: =H36/H37 -> 23.4375 | I38: 16209 | J38: =J36/J37 -> 908 | K38: =K36/K37 -> 18.75 | M38: Gesteld eindresultaat: | O38: 0.99 | P38: 0.9 | Q38: 0 | R38: 0 | S38: 0 | T38: << vanuit toegepast kader gesteld.
A40: Opmerkingen | M40: Conclusies:
B41: Beperkt toepasbaar voor wanddiktemeting (HOIS Recommended Practice 1 v3.1) | C41: Beperkt toepasbaar voor wanddiktemeting (HOIS Recommended Practice 1 v3.1) | D41: Beperkt toepasbaar voor vochtdetectie (HOIS Recommended Practice 1 v3.1) | E41: Haalbare afstand per meting varieert. Bij ondergrondse leidingen is haalbare afstand zeer beperkt | F41: Maximale isolatiedikte 250mm | I41: Uitsluitend puntmetingen | K41: Pas op voor reflecties van warmte op beplating | M41: Wanneer bij een techniek met een bepaalde effectiviteit wordt voldaan aan het dekkingscriterium (m.a.w. de dekking zit "in de groene zône), geldt in de meeste gevallen dat de vanuit het project veronderstelde effectiviteit een ondergrens is. Uitzondering is alleen in geval van effectiviteit B met 65% dekking; daarbij wordt in plaats van 90% effectiviteit een 59% effectiviteit gehaald, oftewel 30% lager dan begroot. Qua grootte-orde (in het algemeen gaat het bij effectiviteit om factoren 10) zit dit nog wel in een vergelijkbare range. Bij de beoordeling hiervan geldt dat, vanuit de toegepaste API 581 (2016) (tabel 2.C.10.3), in alle gevallen een 100% visuele inspectie moet worden toegepast. Daarbij geldt dan dat verondersteld kan worden dat middels die inspectie het toegepaste NDO meer gericht kan worden ingezet (op de risico-gebieden). Om die reden kan bovenstaande als kader gehandhaafd blijven.

Sheet Achterliggende info
F2: Achter dit spreadsheet bevindt zich informatie met betrekking tot gehanteerde uitgangspunten.
F3: Dit is zogenaamde "achterliggende informatie" die in het project is verwerkt.
C4: Toelichting: | D4: M. Roberts en J.H.A.M. Heerings.
C5: De navolgende Tab's zijn bij het project gehanteerd.
C6: Deze zijn volledigheidshalve meegeleverd.
C7: Dit om inzicht te verschaffen in de gehanteerde uitgangspunten en werkwijze.

Sheet Stroomschema
A1: Stroomschema CUI NDT
M9: Pre-inspectie | P9: evt.
N10: Zonder verwijdering van isolatie | P10: Drones
N11: Zonder toegankelijkheidshulpmiddelen | P11: Rope Access
N12: Beoordelen isolatieconditie
N13: Verzamelen geometrie, materiaal en toegankelijkheidsgegevens voor selectie NDO methoden
D18: Screening NDO
M21: Screening NDO | P21: bv.
N22: Zonder/met minimale verwijdering van isolatie | P22: On-stream Radiografie (incl. profile, digitaal)
N23: Met beperkte toegankelijkheidshulpmiddelen | P23: Guided Waves
N24: Detecteren van verdachte locaties | P24: Pulsed Eddy Current
N25: Vocht- en/of corrosiedetectie | P25: Thermografie
M33: Follow-up NDO | P33: bv.
N34: Zonder/met minimale verwijdering van isolatie | P34: On-stream Radiografie (incl. profile, digitaal)
N35: Met beperkte toegankelijkheidshulpmiddelen | P35: Pulsed Eddy Current
N36: Verifiëren van verdachte locaties
M44: Follow-up inspectie | P44: bv.
M45: sizing NDO | N45: Directe toegankelijkheid | P45: handmatig UT
N46: Nauwkeurige bepaling corrosieomvang en restwanddikte | P46: C-scan UT
N47: Beoordelen coating conditie | P47: pit-gauge
P48: UT van binnen uit
M54: Online Monitoring
N55: Plaatsen van sensoren
N56: Detectie of volgen van degradatie
N57: Vocht- en/of corrosiedetectie
